| Back to Multiple platform build/check report for BioC 3.20: simplified long |
|
This page was generated on 2024-11-09 21:31 -0500 (Sat, 09 Nov 2024).
| Hostname | OS | Arch (*) | R version | Installed pkgs |
|---|---|---|---|---|
| teran2 | Linux (Ubuntu 24.04.1 LTS) | x86_64 | 4.4.1 (2024-06-14) -- "Race for Your Life" | 4505 |
| palomino8 | Windows Server 2022 Datacenter | x64 | 4.4.1 (2024-06-14 ucrt) -- "Race for Your Life" | 4506 |
| lconway | macOS 12.7.1 Monterey | x86_64 | 4.4.1 (2024-06-14) -- "Race for Your Life" | 4538 |
| kjohnson3 | macOS 13.6.5 Ventura | arm64 | 4.4.1 (2024-06-14) -- "Race for Your Life" | 4486 |
| kunpeng2 | Linux (openEuler 22.03 LTS-SP1) | aarch64 | 4.4.1 (2024-06-14) -- "Race for Your Life" | 4493 |
| Click on any hostname to see more info about the system (e.g. compilers) (*) as reported by 'uname -p', except on Windows and Mac OS X | ||||
| Package 1999/2289 | Hostname | OS / Arch | INSTALL | BUILD | CHECK | BUILD BIN | ||||||||
| SNPhood 1.36.0 (landing page) Christian Arnold
| teran2 | Linux (Ubuntu 24.04.1 LTS) / x86_64 | OK | OK | OK | |||||||||
| palomino8 | Windows Server 2022 Datacenter / x64 | OK | OK | OK | OK | |||||||||
| lconway | macOS 12.7.1 Monterey / x86_64 | OK | OK | OK | OK | |||||||||
| kjohnson3 | macOS 13.6.5 Ventura / arm64 | OK | OK | OK | OK | |||||||||
| kunpeng2 | Linux (openEuler 22.03 LTS-SP1) / aarch64 | OK | OK | OK | ||||||||||
|
To the developers/maintainers of the SNPhood package: - Allow up to 24 hours (and sometimes 48 hours) for your latest push to git@git.bioconductor.org:packages/SNPhood.git to reflect on this report. See Troubleshooting Build Report for more information. - Use the following Renviron settings to reproduce errors and warnings. - If 'R CMD check' started to fail recently on the Linux builder(s) over a missing dependency, add the missing dependency to 'Suggests:' in your DESCRIPTION file. See Renviron.bioc for more information. |
| Package: SNPhood |
| Version: 1.36.0 |
| Command: /Library/Frameworks/R.framework/Resources/bin/R CMD check --install=check:SNPhood.install-out.txt --library=/Library/Frameworks/R.framework/Resources/library --no-vignettes --timings SNPhood_1.36.0.tar.gz |
| StartedAt: 2024-11-09 13:47:45 -0500 (Sat, 09 Nov 2024) |
| EndedAt: 2024-11-09 13:54:49 -0500 (Sat, 09 Nov 2024) |
| EllapsedTime: 424.2 seconds |
| RetCode: 0 |
| Status: OK |
| CheckDir: SNPhood.Rcheck |
| Warnings: 0 |
##############################################################################
##############################################################################
###
### Running command:
###
### /Library/Frameworks/R.framework/Resources/bin/R CMD check --install=check:SNPhood.install-out.txt --library=/Library/Frameworks/R.framework/Resources/library --no-vignettes --timings SNPhood_1.36.0.tar.gz
###
##############################################################################
##############################################################################
* using log directory ‘/Users/biocbuild/bbs-3.20-bioc/meat/SNPhood.Rcheck’
* using R version 4.4.1 (2024-06-14)
* using platform: aarch64-apple-darwin20
* R was compiled by
Apple clang version 14.0.0 (clang-1400.0.29.202)
GNU Fortran (GCC) 12.2.0
* running under: macOS Ventura 13.6.7
* using session charset: UTF-8
* using option ‘--no-vignettes’
* checking for file ‘SNPhood/DESCRIPTION’ ... OK
* this is package ‘SNPhood’ version ‘1.36.0’
* checking package namespace information ... OK
* checking package dependencies ...Warning: unable to access index for repository https://CRAN.R-project.org/src/contrib:
cannot open URL 'https://CRAN.R-project.org/src/contrib/PACKAGES'
OK
* checking if this is a source package ... OK
* checking if there is a namespace ... OK
* checking for hidden files and directories ... OK
* checking for portable file names ... OK
* checking for sufficient/correct file permissions ... OK
* checking whether package ‘SNPhood’ can be installed ... OK
* checking installed package size ... OK
* checking package directory ... OK
* checking ‘build’ directory ... OK
* checking DESCRIPTION meta-information ... NOTE
BugReports field is not a suitable URL but contains an email address:
use the Contact field instead
* checking top-level files ... OK
* checking for left-over files ... OK
* checking index information ... OK
* checking package subdirectories ... OK
* checking code files for non-ASCII characters ... OK
* checking R files for syntax errors ... OK
* checking whether the package can be loaded ... OK
* checking whether the package can be loaded with stated dependencies ... OK
* checking whether the package can be unloaded cleanly ... OK
* checking whether the namespace can be loaded with stated dependencies ... OK
* checking whether the namespace can be unloaded cleanly ... OK
* checking whether startup messages can be suppressed ... OK
* checking dependencies in R code ... OK
* checking S3 generic/method consistency ... OK
* checking replacement functions ... OK
* checking foreign function calls ... OK
* checking R code for possible problems ... NOTE
.calcBinomTestVector: no visible binding for global variable ‘pp’
Undefined global functions or variables:
pp
* checking Rd files ... OK
* checking Rd metadata ... OK
* checking Rd cross-references ... OK
* checking for missing documentation entries ... OK
* checking for code/documentation mismatches ... OK
* checking Rd \usage sections ... OK
* checking Rd contents ... OK
* checking for unstated dependencies in examples ... OK
* checking contents of ‘data’ directory ... OK
* checking data for non-ASCII characters ... OK
* checking LazyData ... OK
* checking data for ASCII and uncompressed saves ... OK
* checking files in ‘vignettes’ ... OK
* checking examples ... OK
Examples with CPU (user + system) or elapsed time > 5s
user system elapsed
analyzeSNPhood 35.264 0.543 36.290
plotAllelicBiasResults 9.773 0.156 9.930
plotFDRResults 9.668 0.120 9.789
plotAndSummarizeAllelicBiasTest 9.675 0.089 9.764
testForAllelicBiases 9.406 0.120 9.526
* checking for unstated dependencies in vignettes ... OK
* checking package vignettes ... OK
* checking running R code from vignettes ... SKIPPED
* checking re-building of vignette outputs ... SKIPPED
* checking PDF version of manual ... OK
* DONE
Status: 2 NOTEs
See
‘/Users/biocbuild/bbs-3.20-bioc/meat/SNPhood.Rcheck/00check.log’
for details.
SNPhood.Rcheck/00install.out
############################################################################## ############################################################################## ### ### Running command: ### ### /Library/Frameworks/R.framework/Resources/bin/R CMD INSTALL SNPhood ### ############################################################################## ############################################################################## * installing to library ‘/Library/Frameworks/R.framework/Versions/4.4-arm64/Resources/library’ * installing *source* package ‘SNPhood’ ... ** using staged installation ** R ** data *** moving datasets to lazyload DB ** byte-compile and prepare package for lazy loading ** help *** installing help indices ** building package indices ** installing vignettes ** testing if installed package can be loaded from temporary location ** testing if installed package can be loaded from final location ** testing if installed package keeps a record of temporary installation path * DONE (SNPhood)
SNPhood.Rcheck/SNPhood-Ex.timings
| name | user | system | elapsed | |
| analyzeSNPhood | 35.264 | 0.543 | 36.290 | |
| annotation-methods | 0.085 | 0.017 | 0.103 | |
| annotationBins | 0.064 | 0.004 | 0.068 | |
| annotationBins2 | 3.875 | 0.006 | 3.881 | |
| annotationDatasets | 0.059 | 0.003 | 0.063 | |
| annotationReadGroups | 0.060 | 0.005 | 0.067 | |
| annotationRegions | 0.397 | 0.010 | 0.407 | |
| associateGenotypes | 1.148 | 0.042 | 1.192 | |
| bins-methods | 0.424 | 0.013 | 0.437 | |
| changeObjectIntegrityChecking | 0.063 | 0.004 | 0.067 | |
| collectFiles | 0.008 | 0.001 | 0.009 | |
| convertToAllelicFractions | 0.072 | 0.003 | 0.074 | |
| counts-method | 0.081 | 0.004 | 0.085 | |
| datasets-methods | 0.400 | 0.007 | 0.407 | |
| deleteDatasets | 0.063 | 0.004 | 0.067 | |
| deleteReadGroups | 0.067 | 0.004 | 0.071 | |
| deleteRegions | 0.069 | 0.002 | 0.071 | |
| enrichment-methods | 0.411 | 0.008 | 0.419 | |
| getDefaultParameterList | 0 | 0 | 0 | |
| mergeReadGroups | 0.073 | 0.005 | 0.079 | |
| parameters-methods | 0.063 | 0.005 | 0.069 | |
| plotAllelicBiasResults | 9.773 | 0.156 | 9.930 | |
| plotAllelicBiasResultsOverview | 0.293 | 0.006 | 0.300 | |
| plotAndCalculateCorrelationDatasets | 0.120 | 0.005 | 0.126 | |
| plotAndCalculateWeakAndStrongGenotype | 0.662 | 0.018 | 0.680 | |
| plotAndClusterMatrix | 0.191 | 0.013 | 0.204 | |
| plotAndSummarizeAllelicBiasTest | 9.675 | 0.089 | 9.764 | |
| plotBinCounts | 0.380 | 0.011 | 0.390 | |
| plotClusterAverage | 0.619 | 0.030 | 0.650 | |
| plotFDRResults | 9.668 | 0.120 | 9.789 | |
| plotGenotypesPerCluster | 0.159 | 0.009 | 0.168 | |
| plotGenotypesPerSNP | 0.137 | 0.009 | 0.146 | |
| plotRegionCounts | 0.533 | 0.012 | 0.546 | |
| readGroups-methods | 0.070 | 0.004 | 0.074 | |
| regions-methods | 0.088 | 0.011 | 0.100 | |
| renameBins | 0.079 | 0.004 | 0.083 | |
| renameDatasets | 0.500 | 0.008 | 0.508 | |
| renameReadGroups | 0.068 | 0.006 | 0.075 | |
| renameRegions | 0.638 | 0.017 | 0.655 | |
| results | 0.713 | 2.236 | 2.962 | |
| testForAllelicBiases | 9.406 | 0.120 | 9.526 | |