| Back to Multiple platform build/check report for BioC 3.20: simplified long |
|
This page was generated on 2025-04-02 19:33 -0400 (Wed, 02 Apr 2025).
| Hostname | OS | Arch (*) | R version | Installed pkgs |
|---|---|---|---|---|
| nebbiolo2 | Linux (Ubuntu 24.04.1 LTS) | x86_64 | 4.4.3 (2025-02-28) -- "Trophy Case" | 4764 |
| palomino8 | Windows Server 2022 Datacenter | x64 | 4.4.3 (2025-02-28 ucrt) -- "Trophy Case" | 4495 |
| merida1 | macOS 12.7.5 Monterey | x86_64 | 4.4.3 (2025-02-28) -- "Trophy Case" | 4522 |
| kjohnson1 | macOS 13.6.6 Ventura | arm64 | 4.4.3 (2025-02-28) -- "Trophy Case" | 4449 |
| taishan | Linux (openEuler 24.03 LTS) | aarch64 | 4.4.3 (2025-02-28) -- "Trophy Case" | 4426 |
| Click on any hostname to see more info about the system (e.g. compilers) (*) as reported by 'uname -p', except on Windows and Mac OS X | ||||
| Package 1942/2289 | Hostname | OS / Arch | INSTALL | BUILD | CHECK | BUILD BIN | ||||||||
| SGCP 1.6.0 (landing page) Niloofar AghaieAbiane
| nebbiolo2 | Linux (Ubuntu 24.04.1 LTS) / x86_64 | OK | OK | OK | |||||||||
| palomino8 | Windows Server 2022 Datacenter / x64 | OK | OK | OK | OK | |||||||||
| merida1 | macOS 12.7.5 Monterey / x86_64 | OK | OK | OK | OK | |||||||||
| kjohnson1 | macOS 13.6.6 Ventura / arm64 | OK | OK | OK | OK | |||||||||
| taishan | Linux (openEuler 24.03 LTS) / aarch64 | OK | OK | OK | ||||||||||
|
To the developers/maintainers of the SGCP package: - Allow up to 24 hours (and sometimes 48 hours) for your latest push to git@git.bioconductor.org:packages/SGCP.git to reflect on this report. See Troubleshooting Build Report for more information. - Use the following Renviron settings to reproduce errors and warnings. - If 'R CMD check' started to fail recently on the Linux builder(s) over a missing dependency, add the missing dependency to 'Suggests:' in your DESCRIPTION file. See Renviron.bioc for more information. |
| Package: SGCP |
| Version: 1.6.0 |
| Command: /Library/Frameworks/R.framework/Resources/bin/R CMD check --install=check:SGCP.install-out.txt --library=/Library/Frameworks/R.framework/Resources/library --no-vignettes --timings SGCP_1.6.0.tar.gz |
| StartedAt: 2025-04-01 09:09:21 -0400 (Tue, 01 Apr 2025) |
| EndedAt: 2025-04-01 09:18:45 -0400 (Tue, 01 Apr 2025) |
| EllapsedTime: 564.0 seconds |
| RetCode: 0 |
| Status: OK |
| CheckDir: SGCP.Rcheck |
| Warnings: 0 |
##############################################################################
##############################################################################
###
### Running command:
###
### /Library/Frameworks/R.framework/Resources/bin/R CMD check --install=check:SGCP.install-out.txt --library=/Library/Frameworks/R.framework/Resources/library --no-vignettes --timings SGCP_1.6.0.tar.gz
###
##############################################################################
##############################################################################
* using log directory ‘/Users/biocbuild/bbs-3.20-bioc/meat/SGCP.Rcheck’
* using R version 4.4.3 (2025-02-28)
* using platform: x86_64-apple-darwin20
* R was compiled by
Apple clang version 14.0.0 (clang-1400.0.29.202)
GNU Fortran (GCC) 12.2.0
* running under: macOS Monterey 12.7.6
* using session charset: UTF-8
* using option ‘--no-vignettes’
* checking for file ‘SGCP/DESCRIPTION’ ... OK
* checking extension type ... Package
* this is package ‘SGCP’ version ‘1.6.0’
* package encoding: UTF-8
* checking package namespace information ... OK
* checking package dependencies ... OK
* checking if this is a source package ... OK
* checking if there is a namespace ... OK
* checking for hidden files and directories ... OK
* checking for portable file names ... OK
* checking for sufficient/correct file permissions ... OK
* checking whether package ‘SGCP’ can be installed ... OK
* checking installed package size ... OK
* checking package directory ... OK
* checking ‘build’ directory ... OK
* checking DESCRIPTION meta-information ... OK
* checking top-level files ... OK
* checking for left-over files ... OK
* checking index information ... OK
* checking package subdirectories ... OK
* checking code files for non-ASCII characters ... OK
* checking R files for syntax errors ... OK
* checking whether the package can be loaded ... OK
* checking whether the package can be loaded with stated dependencies ... OK
* checking whether the package can be unloaded cleanly ... OK
* checking whether the namespace can be loaded with stated dependencies ... OK
* checking whether the namespace can be unloaded cleanly ... OK
* checking dependencies in R code ... OK
* checking S3 generic/method consistency ... OK
* checking replacement functions ... OK
* checking foreign function calls ... OK
* checking R code for possible problems ... OK
* checking Rd files ... NOTE
checkRd: (-1) SGCP_clustering.Rd:39: Lost braces in \itemize; \value handles \item{}{} directly
checkRd: (-1) SGCP_clustering.Rd:40: Lost braces in \itemize; \value handles \item{}{} directly
checkRd: (-1) SGCP_clustering.Rd:41: Lost braces in \itemize; \value handles \item{}{} directly
checkRd: (-1) SGCP_clustering.Rd:42: Lost braces in \itemize; \value handles \item{}{} directly
checkRd: (-1) SGCP_clustering.Rd:43: Lost braces in \itemize; \value handles \item{}{} directly
checkRd: (-1) SGCP_clustering.Rd:44: Lost braces in \itemize; \value handles \item{}{} directly
checkRd: (-1) SGCP_clustering.Rd:45: Lost braces in \itemize; \value handles \item{}{} directly
checkRd: (-1) SGCP_clustering.Rd:46: Lost braces in \itemize; \value handles \item{}{} directly
checkRd: (-1) SGCP_clustering.Rd:47: Lost braces in \itemize; \value handles \item{}{} directly
checkRd: (-1) SGCP_clustering.Rd:48: Lost braces in \itemize; \value handles \item{}{} directly
checkRd: (-1) SGCP_clustering.Rd:49: Lost braces in \itemize; \value handles \item{}{} directly
checkRd: (-1) SGCP_clustering.Rd:57: Lost braces in \itemize; \value handles \item{}{} directly
checkRd: (-1) SGCP_clustering.Rd:58: Lost braces in \itemize; \value handles \item{}{} directly
checkRd: (-1) SGCP_clustering.Rd:59: Lost braces in \itemize; \value handles \item{}{} directly
checkRd: (-1) SGCP_ezSGCP.Rd:68: Lost braces in \itemize; \value handles \item{}{} directly
checkRd: (-1) SGCP_ezSGCP.Rd:69: Lost braces in \itemize; \value handles \item{}{} directly
checkRd: (-1) SGCP_ezSGCP.Rd:70: Lost braces in \itemize; \value handles \item{}{} directly
checkRd: (-1) SGCP_ezSGCP.Rd:72: Lost braces in \itemize; \value handles \item{}{} directly
checkRd: (-1) SGCP_ezSGCP.Rd:73: Lost braces in \itemize; \value handles \item{}{} directly
checkRd: (-1) SGCP_ezSGCP.Rd:74: Lost braces in \itemize; \value handles \item{}{} directly
checkRd: (-1) SGCP_ezSGCP.Rd:75: Lost braces in \itemize; \value handles \item{}{} directly
checkRd: (-1) SGCP_ezSGCP.Rd:76: Lost braces in \itemize; \value handles \item{}{} directly
checkRd: (-1) SGCP_ezSGCP.Rd:77: Lost braces in \itemize; \value handles \item{}{} directly
checkRd: (-1) SGCP_ezSGCP.Rd:78: Lost braces in \itemize; \value handles \item{}{} directly
checkRd: (-1) SGCP_ezSGCP.Rd:79: Lost braces in \itemize; \value handles \item{}{} directly
checkRd: (-1) SGCP_ezSGCP.Rd:80: Lost braces in \itemize; \value handles \item{}{} directly
checkRd: (-1) SGCP_ezSGCP.Rd:81: Lost braces in \itemize; \value handles \item{}{} directly
checkRd: (-1) SGCP_ezSGCP.Rd:82: Lost braces in \itemize; \value handles \item{}{} directly
checkRd: (-1) SGCP_ezSGCP.Rd:83: Lost braces in \itemize; \value handles \item{}{} directly
checkRd: (-1) SGCP_ezSGCP.Rd:84: Lost braces in \itemize; \value handles \item{}{} directly
checkRd: (-1) SGCP_ezSGCP.Rd:85: Lost braces in \itemize; \value handles \item{}{} directly
checkRd: (-1) SGCP_ezSGCP.Rd:87: Lost braces in \itemize; \value handles \item{}{} directly
checkRd: (-1) SGCP_ezSGCP.Rd:89: Lost braces in \itemize; \value handles \item{}{} directly
checkRd: (-1) SGCP_ezSGCP.Rd:90: Lost braces in \itemize; \value handles \item{}{} directly
checkRd: (-1) SGCP_ezSGCP.Rd:92: Lost braces in \itemize; \value handles \item{}{} directly
checkRd: (-1) SGCP_ezSGCP.Rd:94: Lost braces in \itemize; \value handles \item{}{} directly
checkRd: (-1) SGCP_ezSGCP.Rd:95: Lost braces in \itemize; \value handles \item{}{} directly
checkRd: (-1) SGCP_ezSGCP.Rd:97: Lost braces in \itemize; \value handles \item{}{} directly
checkRd: (-1) SGCP_ezSGCP.Rd:99: Lost braces in \itemize; \value handles \item{}{} directly
checkRd: (-1) SGCP_ezSGCP.Rd:100: Lost braces in \itemize; \value handles \item{}{} directly
checkRd: (-1) SGCP_ezSGCP.Rd:101: Lost braces in \itemize; \value handles \item{}{} directly
checkRd: (-1) SGCP_ezSGCP.Rd:103: Lost braces in \itemize; \value handles \item{}{} directly
checkRd: (-1) SGCP_ezSGCP.Rd:105: Lost braces in \itemize; \value handles \item{}{} directly
checkRd: (-1) SGCP_ezSGCP.Rd:106: Lost braces in \itemize; \value handles \item{}{} directly
checkRd: (-1) SGCP_semiSupervised.Rd:24: Lost braces
24 | \\item{semiSupervised}{An object of the caret train class representing the semi-supervised classification model.}
| ^
checkRd: (-1) SGCP_semiSupervised.Rd:24: Lost braces
24 | \\item{semiSupervised}{An object of the caret train class representing the semi-supervised classification model.}
| ^
checkRd: (-1) resFinalGO.Rd:11: Lost braces
11 | \details{code{resFinalGO} is a list containing the following information:
| ^
* checking Rd metadata ... OK
* checking Rd cross-references ... OK
* checking for missing documentation entries ... OK
* checking for code/documentation mismatches ... OK
* checking Rd \usage sections ... OK
* checking Rd contents ... OK
* checking for unstated dependencies in examples ... OK
* checking contents of ‘data’ directory ... OK
* checking data for non-ASCII characters ... OK
* checking LazyData ... OK
* checking data for ASCII and uncompressed saves ... OK
* checking files in ‘vignettes’ ... OK
* checking examples ... OK
* checking for unstated dependencies in vignettes ... OK
* checking package vignettes ... OK
* checking running R code from vignettes ... SKIPPED
* checking re-building of vignette outputs ... SKIPPED
* checking PDF version of manual ... OK
* DONE
Status: 1 NOTE
See
‘/Users/biocbuild/bbs-3.20-bioc/meat/SGCP.Rcheck/00check.log’
for details.
SGCP.Rcheck/00install.out
############################################################################## ############################################################################## ### ### Running command: ### ### /Library/Frameworks/R.framework/Resources/bin/R CMD INSTALL SGCP ### ############################################################################## ############################################################################## * installing to library ‘/Library/Frameworks/R.framework/Versions/4.4-x86_64/Resources/library’ * installing *source* package ‘SGCP’ ... ** using staged installation ** R ** data *** moving datasets to lazyload DB ** inst ** byte-compile and prepare package for lazy loading ** help *** installing help indices ** building package indices ** installing vignettes ** testing if installed package can be loaded from temporary location ** testing if installed package can be loaded from final location ** testing if installed package keeps a record of temporary installation path * DONE (SGCP)
SGCP.Rcheck/SGCP-Ex.timings
| name | user | system | elapsed | |
| SGCP_adjacencyMatrix | 0.212 | 0.041 | 0.273 | |
| SGCP_clustering | 0.444 | 0.025 | 0.489 | |
| SGCP_ezPLOT | 0.286 | 0.024 | 0.311 | |
| SGCP_ezSGCP | 0.350 | 0.027 | 0.377 | |
| SGCP_go | 0.190 | 0.016 | 0.206 | |
| SGCP_plot_bar | 1.488 | 0.020 | 1.512 | |
| SGCP_plot_conductance | 0.912 | 0.018 | 0.934 | |
| SGCP_plot_density | 0.449 | 0.022 | 0.472 | |
| SGCP_plot_heatMap | 0.835 | 0.110 | 0.955 | |
| SGCP_plot_jitter | 0.380 | 0.051 | 0.435 | |
| SGCP_plot_pca | 0.268 | 0.036 | 0.305 | |
| SGCP_plot_pie | 0.920 | 0.044 | 0.976 | |
| SGCP_plot_silhouette | 1.248 | 0.027 | 1.286 | |
| SGCP_semiLabeling | 0.080 | 0.021 | 0.107 | |
| SGCP_semiSupervised | 4.663 | 0.068 | 4.778 | |
| cheng | 0.315 | 0.022 | 0.339 | |
| resClus | 1.313 | 0.390 | 1.713 | |
| resFinalGO | 0.020 | 0.013 | 0.033 | |
| resInitialGO | 0.020 | 0.012 | 0.033 | |
| resSemiLabel | 0.007 | 0.004 | 0.011 | |
| resSemiSupervised | 0.025 | 0.004 | 0.029 | |
| sgcp | 0.132 | 0.021 | 0.155 | |