| Back to Multiple platform build/check report for BioC 3.20: simplified long |
|
This page was generated on 2024-11-20 12:06 -0500 (Wed, 20 Nov 2024).
| Hostname | OS | Arch (*) | R version | Installed pkgs |
|---|---|---|---|---|
| teran2 | Linux (Ubuntu 24.04.1 LTS) | x86_64 | 4.4.2 (2024-10-31) -- "Pile of Leaves" | 4481 |
| nebbiolo2 | Linux (Ubuntu 24.04.1 LTS) | x86_64 | 4.4.2 (2024-10-31) -- "Pile of Leaves" | 4479 |
| palomino8 | Windows Server 2022 Datacenter | x64 | 4.4.2 (2024-10-31 ucrt) -- "Pile of Leaves" | 4359 |
| lconway | macOS 12.7.1 Monterey | x86_64 | 4.4.1 (2024-06-14) -- "Race for Your Life" | 4539 |
| kunpeng2 | Linux (openEuler 22.03 LTS-SP1) | aarch64 | 4.4.1 (2024-06-14) -- "Race for Your Life" | 4493 |
| Click on any hostname to see more info about the system (e.g. compilers) (*) as reported by 'uname -p', except on Windows and Mac OS X | ||||
| Package 1735/2289 | Hostname | OS / Arch | INSTALL | BUILD | CHECK | BUILD BIN | ||||||||
| RgnTX 1.8.0 (landing page) Yue Wang
| teran2 | Linux (Ubuntu 24.04.1 LTS) / x86_64 | OK | OK | OK | |||||||||
| nebbiolo2 | Linux (Ubuntu 24.04.1 LTS) / x86_64 | OK | OK | OK | ||||||||||
| palomino8 | Windows Server 2022 Datacenter / x64 | OK | OK | OK | OK | |||||||||
| lconway | macOS 12.7.1 Monterey / x86_64 | OK | OK | OK | OK | |||||||||
| kunpeng2 | Linux (openEuler 22.03 LTS-SP1) / aarch64 | OK | OK | OK | ||||||||||
|
To the developers/maintainers of the RgnTX package: - Allow up to 24 hours (and sometimes 48 hours) for your latest push to git@git.bioconductor.org:packages/RgnTX.git to reflect on this report. See Troubleshooting Build Report for more information. - Use the following Renviron settings to reproduce errors and warnings. - If 'R CMD check' started to fail recently on the Linux builder(s) over a missing dependency, add the missing dependency to 'Suggests:' in your DESCRIPTION file. See Renviron.bioc for more information. |
| Package: RgnTX |
| Version: 1.8.0 |
| Command: /Library/Frameworks/R.framework/Resources/bin/R CMD check --install=check:RgnTX.install-out.txt --library=/Library/Frameworks/R.framework/Resources/library --no-vignettes --timings RgnTX_1.8.0.tar.gz |
| StartedAt: 2024-11-20 01:49:32 -0500 (Wed, 20 Nov 2024) |
| EndedAt: 2024-11-20 02:00:19 -0500 (Wed, 20 Nov 2024) |
| EllapsedTime: 647.0 seconds |
| RetCode: 0 |
| Status: OK |
| CheckDir: RgnTX.Rcheck |
| Warnings: 0 |
##############################################################################
##############################################################################
###
### Running command:
###
### /Library/Frameworks/R.framework/Resources/bin/R CMD check --install=check:RgnTX.install-out.txt --library=/Library/Frameworks/R.framework/Resources/library --no-vignettes --timings RgnTX_1.8.0.tar.gz
###
##############################################################################
##############################################################################
* using log directory ‘/Users/biocbuild/bbs-3.20-bioc/meat/RgnTX.Rcheck’
* using R version 4.4.1 (2024-06-14)
* using platform: x86_64-apple-darwin20
* R was compiled by
Apple clang version 14.0.0 (clang-1400.0.29.202)
GNU Fortran (GCC) 12.2.0
* running under: macOS Monterey 12.7.6
* using session charset: UTF-8
* using option ‘--no-vignettes’
* checking for file ‘RgnTX/DESCRIPTION’ ... OK
* this is package ‘RgnTX’ version ‘1.8.0’
* package encoding: UTF-8
* checking package namespace information ... OK
* checking package dependencies ...Warning: unable to access index for repository https://CRAN.R-project.org/src/contrib:
cannot open URL 'https://CRAN.R-project.org/src/contrib/PACKAGES'
OK
* checking if this is a source package ... OK
* checking if there is a namespace ... OK
* checking for hidden files and directories ... OK
* checking for portable file names ... OK
* checking for sufficient/correct file permissions ... OK
* checking whether package ‘RgnTX’ can be installed ... OK
* checking installed package size ... OK
* checking package directory ... OK
* checking ‘build’ directory ... OK
* checking DESCRIPTION meta-information ... OK
* checking top-level files ... OK
* checking for left-over files ... OK
* checking index information ... OK
* checking package subdirectories ... OK
* checking code files for non-ASCII characters ... OK
* checking R files for syntax errors ... OK
* checking whether the package can be loaded ... OK
* checking whether the package can be loaded with stated dependencies ... OK
* checking whether the package can be unloaded cleanly ... OK
* checking whether the namespace can be loaded with stated dependencies ... OK
* checking whether the namespace can be unloaded cleanly ... OK
* checking dependencies in R code ... OK
* checking S3 generic/method consistency ... OK
* checking replacement functions ... OK
* checking foreign function calls ... OK
* checking R code for possible problems ... OK
* checking Rd files ... OK
* checking Rd metadata ... OK
* checking Rd cross-references ... OK
* checking for missing documentation entries ... OK
* checking for code/documentation mismatches ... OK
* checking Rd \usage sections ... OK
* checking Rd contents ... OK
* checking for unstated dependencies in examples ... OK
* checking files in ‘vignettes’ ... OK
* checking examples ... OK
Examples with CPU (user + system) or elapsed time > 5s
user system elapsed
shiftedZScoreTx 32.585 1.267 34.073
permTestTxIA_customPick 17.155 0.327 17.504
permTestTxIA 16.451 0.348 16.829
permTestTx 15.669 0.296 16.002
permTestTx_customPick 13.277 0.218 13.536
permTestTx_customAll 12.771 0.250 13.057
overlapCountsTxIA 6.276 0.268 6.561
distanceTx 6.283 0.121 6.403
randomizeFeaturesTx 5.629 0.095 5.735
overlapWidthTx 5.460 0.119 5.588
* checking for unstated dependencies in ‘tests’ ... OK
* checking tests ...
Running ‘testthat.R’
OK
* checking for unstated dependencies in vignettes ... OK
* checking package vignettes ... OK
* checking running R code from vignettes ... SKIPPED
* checking re-building of vignette outputs ... SKIPPED
* checking PDF version of manual ... OK
* DONE
Status: OK
RgnTX.Rcheck/00install.out
############################################################################## ############################################################################## ### ### Running command: ### ### /Library/Frameworks/R.framework/Resources/bin/R CMD INSTALL RgnTX ### ############################################################################## ############################################################################## * installing to library ‘/Library/Frameworks/R.framework/Versions/4.4-x86_64/Resources/library’ * installing *source* package ‘RgnTX’ ... ** using staged installation ** R ** inst ** byte-compile and prepare package for lazy loading ** help *** installing help indices ** building package indices ** installing vignettes ** testing if installed package can be loaded from temporary location ** testing if installed package can be loaded from final location ** testing if installed package keeps a record of temporary installation path * DONE (RgnTX)
RgnTX.Rcheck/tests/testthat.Rout
R version 4.4.1 (2024-06-14) -- "Race for Your Life"
Copyright (C) 2024 The R Foundation for Statistical Computing
Platform: x86_64-apple-darwin20
R is free software and comes with ABSOLUTELY NO WARRANTY.
You are welcome to redistribute it under certain conditions.
Type 'license()' or 'licence()' for distribution details.
R is a collaborative project with many contributors.
Type 'contributors()' for more information and
'citation()' on how to cite R or R packages in publications.
Type 'demo()' for some demos, 'help()' for on-line help, or
'help.start()' for an HTML browser interface to help.
Type 'q()' to quit R.
> library(testthat)
> library(RgnTX)
>
> test_check("RgnTX")
Loading required package: GenomicFeatures
Loading required package: BiocGenerics
Attaching package: 'BiocGenerics'
The following objects are masked from 'package:stats':
IQR, mad, sd, var, xtabs
The following objects are masked from 'package:base':
Filter, Find, Map, Position, Reduce, anyDuplicated, aperm, append,
as.data.frame, basename, cbind, colnames, dirname, do.call,
duplicated, eval, evalq, get, grep, grepl, intersect, is.unsorted,
lapply, mapply, match, mget, order, paste, pmax, pmax.int, pmin,
pmin.int, rank, rbind, rownames, sapply, saveRDS, setdiff, table,
tapply, union, unique, unsplit, which.max, which.min
Loading required package: S4Vectors
Loading required package: stats4
Attaching package: 'S4Vectors'
The following object is masked from 'package:utils':
findMatches
The following objects are masked from 'package:base':
I, expand.grid, unname
Loading required package: IRanges
Loading required package: GenomeInfoDb
Loading required package: GenomicRanges
Loading required package: AnnotationDbi
Loading required package: Biobase
Welcome to Bioconductor
Vignettes contain introductory material; view with
'browseVignettes()'. To cite Bioconductor, see
'citation("Biobase")', and for packages 'citation("pkgname")'.
[ FAIL 0 | WARN 0 | SKIP 0 | PASS 42 ]
>
> proc.time()
user system elapsed
41.008 1.251 42.383
RgnTX.Rcheck/RgnTX-Ex.timings
| name | user | system | elapsed | |
| GRanges2GRangesList | 0.125 | 0.008 | 0.133 | |
| GRangesList2GRanges | 4.118 | 0.127 | 4.247 | |
| calculateShift | 1.925 | 0.066 | 1.992 | |
| distanceTx | 6.283 | 0.121 | 6.403 | |
| extractRegions | 1.995 | 0.051 | 2.046 | |
| getPermSpaceByFeatures | 3.387 | 0.152 | 3.541 | |
| getPermSpaceByTxID | 2.199 | 0.057 | 2.257 | |
| getPermSpaceByType | 1.721 | 0.024 | 1.745 | |
| getStopCodon | 4.828 | 0.144 | 4.973 | |
| getTransInfo | 0.559 | 0.060 | 0.620 | |
| overlapCountsTx | 3.766 | 0.111 | 3.879 | |
| overlapCountsTxIA | 6.276 | 0.268 | 6.561 | |
| overlapWidthTx | 5.460 | 0.119 | 5.588 | |
| permTestTx | 15.669 | 0.296 | 16.002 | |
| permTestTxIA | 16.451 | 0.348 | 16.829 | |
| permTestTxIA_customPick | 17.155 | 0.327 | 17.504 | |
| permTestTx_customAll | 12.771 | 0.250 | 13.057 | |
| permTestTx_customPick | 13.277 | 0.218 | 13.536 | |
| plotPermResults | 0.389 | 0.006 | 0.396 | |
| plotShiftedZScoreTx | 0.142 | 0.003 | 0.145 | |
| randomizeFeaturesTx | 5.629 | 0.095 | 5.735 | |
| randomizeFeaturesTxIA | 4.578 | 0.159 | 4.763 | |
| randomizeTransByOrder | 3.763 | 0.076 | 3.857 | |
| randomizeTx | 2.915 | 0.036 | 2.958 | |
| shiftTx | 2.357 | 0.096 | 2.470 | |
| shiftedZScoreTx | 32.585 | 1.267 | 34.073 | |