| Back to Multiple platform build/check report for BioC 3.20: simplified long |
|
This page was generated on 2024-07-16 11:41 -0400 (Tue, 16 Jul 2024).
| Hostname | OS | Arch (*) | R version | Installed pkgs |
|---|---|---|---|---|
| nebbiolo2 | Linux (Ubuntu 22.04.3 LTS) | x86_64 | 4.4.1 (2024-06-14) -- "Race for Your Life" | 4677 |
| palomino6 | Windows Server 2022 Datacenter | x64 | 4.4.1 (2024-06-14 ucrt) -- "Race for Your Life" | 4416 |
| lconway | macOS 12.7.1 Monterey | x86_64 | 4.4.1 (2024-06-14) -- "Race for Your Life" | 4444 |
| kjohnson3 | macOS 13.6.5 Ventura | arm64 | 4.4.1 (2024-06-14) -- "Race for Your Life" | 4393 |
| palomino8 | Windows Server 2022 Datacenter | x64 | 4.4.1 (2024-06-14 ucrt) -- "Race for Your Life" | 4373 |
| Click on any hostname to see more info about the system (e.g. compilers) (*) as reported by 'uname -p', except on Windows and Mac OS X | ||||
| Package 1632/2243 | Hostname | OS / Arch | INSTALL | BUILD | CHECK | BUILD BIN | ||||||||
| Rarr 1.5.0 (landing page) Mike Smith
| nebbiolo2 | Linux (Ubuntu 22.04.3 LTS) / x86_64 | OK | OK | OK | |||||||||
| palomino6 | Windows Server 2022 Datacenter / x64 | OK | OK | OK | OK | |||||||||
| lconway | macOS 12.7.1 Monterey / x86_64 | OK | OK | OK | OK | |||||||||
| kjohnson3 | macOS 13.6.5 Ventura / arm64 | OK | OK | OK | OK | |||||||||
| palomino8 | Windows Server 2022 Datacenter / x64 | OK | OK | OK | OK | |||||||||
|
To the developers/maintainers of the Rarr package: - Allow up to 24 hours (and sometimes 48 hours) for your latest push to git@git.bioconductor.org:packages/Rarr.git to reflect on this report. See Troubleshooting Build Report for more information. - Use the following Renviron settings to reproduce errors and warnings. - If 'R CMD check' started to fail recently on the Linux builder(s) over a missing dependency, add the missing dependency to 'Suggests:' in your DESCRIPTION file. See Renviron.bioc for more information. |
| Package: Rarr |
| Version: 1.5.0 |
| Command: C:\Users\biocbuild\bbs-3.20-bioc\R\bin\R.exe CMD check --no-multiarch --install=check:Rarr.install-out.txt --library=C:\Users\biocbuild\bbs-3.20-bioc\R\library --no-vignettes --timings Rarr_1.5.0.tar.gz |
| StartedAt: 2024-07-16 03:05:35 -0400 (Tue, 16 Jul 2024) |
| EndedAt: 2024-07-16 03:06:27 -0400 (Tue, 16 Jul 2024) |
| EllapsedTime: 52.3 seconds |
| RetCode: 0 |
| Status: OK |
| CheckDir: Rarr.Rcheck |
| Warnings: 0 |
##############################################################################
##############################################################################
###
### Running command:
###
### C:\Users\biocbuild\bbs-3.20-bioc\R\bin\R.exe CMD check --no-multiarch --install=check:Rarr.install-out.txt --library=C:\Users\biocbuild\bbs-3.20-bioc\R\library --no-vignettes --timings Rarr_1.5.0.tar.gz
###
##############################################################################
##############################################################################
* using log directory 'C:/Users/biocbuild/bbs-3.20-bioc/meat/Rarr.Rcheck'
* using R version 4.4.1 (2024-06-14 ucrt)
* using platform: x86_64-w64-mingw32
* R was compiled by
gcc.exe (GCC) 13.2.0
GNU Fortran (GCC) 13.2.0
* running under: Windows Server 2022 x64 (build 20348)
* using session charset: UTF-8
* using option '--no-vignettes'
* checking for file 'Rarr/DESCRIPTION' ... OK
* this is package 'Rarr' version '1.5.0'
* package encoding: UTF-8
* checking package namespace information ... OK
* checking package dependencies ... OK
* checking if this is a source package ... OK
* checking if there is a namespace ... OK
* checking for hidden files and directories ... NOTE
Found the following hidden files and directories:
inst/extdata/zarr_examples/column-first/Unicode.zarr/.zarray
inst/extdata/zarr_examples/column-first/boolean.zarr/.zarray
inst/extdata/zarr_examples/column-first/float16.zarr/.zarray
inst/extdata/zarr_examples/column-first/float32.zarr/.zarray
inst/extdata/zarr_examples/column-first/float64.zarr/.zarray
inst/extdata/zarr_examples/column-first/int16.zarr/.zarray
inst/extdata/zarr_examples/column-first/int32.zarr/.zarray
inst/extdata/zarr_examples/column-first/int64.zarr/.zarray
inst/extdata/zarr_examples/column-first/int8.zarr/.zarray
inst/extdata/zarr_examples/column-first/string.zarr/.zarray
inst/extdata/zarr_examples/column-first/uint16.zarr/.zarray
inst/extdata/zarr_examples/column-first/uint32.zarr/.zarray
inst/extdata/zarr_examples/column-first/uint64.zarr/.zarray
inst/extdata/zarr_examples/column-first/uint8.zarr/.zarray
inst/extdata/zarr_examples/column-first/vlenUTF8.zarr/.zarray
inst/extdata/zarr_examples/compression/bzip2.zarr/.zarray
inst/extdata/zarr_examples/compression/lz4.zarr/.zarray
inst/extdata/zarr_examples/compression/lzma.zarr/.zarray
inst/extdata/zarr_examples/compression/zlib.zarr/.zarray
inst/extdata/zarr_examples/compression/zstd.zarr/.zarray
inst/extdata/zarr_examples/fill-values/double-inf.zarr/.zarray
inst/extdata/zarr_examples/fill-values/double-neginf.zarr/.zarray
inst/extdata/zarr_examples/row-first/float16.zarr/.zarray
inst/extdata/zarr_examples/row-first/float32.zarr/.zarray
inst/extdata/zarr_examples/row-first/float64.zarr/.zarray
inst/extdata/zarr_examples/row-first/int16.zarr/.zarray
inst/extdata/zarr_examples/row-first/int32.zarr/.zarray
inst/extdata/zarr_examples/row-first/int64.zarr/.zarray
inst/extdata/zarr_examples/row-first/int8.zarr/.zarray
inst/extdata/zarr_examples/row-first/string.zarr/.zarray
inst/extdata/zarr_examples/row-first/uint32.zarr/.zarray
inst/extdata/zarr_examples/row-first/uint64.zarr/.zarray
inst/extdata/zarr_examples/row-first/uint8.zarr/.zarray
These were most likely included in error. See section 'Package
structure' in the 'Writing R Extensions' manual.
* checking for portable file names ... OK
* checking whether package 'Rarr' can be installed ... OK
* used C compiler: 'gcc.exe (GCC) 13.2.0'
* checking installed package size ... OK
* checking package directory ... OK
* checking 'build' directory ... OK
* checking DESCRIPTION meta-information ... NOTE
License stub is invalid DCF.
* checking top-level files ... OK
* checking for left-over files ... OK
* checking index information ... OK
* checking package subdirectories ... OK
* checking code files for non-ASCII characters ... OK
* checking R files for syntax errors ... OK
* checking whether the package can be loaded ... OK
* checking whether the package can be loaded with stated dependencies ... OK
* checking whether the package can be unloaded cleanly ... OK
* checking whether the namespace can be loaded with stated dependencies ... OK
* checking whether the namespace can be unloaded cleanly ... OK
* checking dependencies in R code ... OK
* checking S3 generic/method consistency ... OK
* checking replacement functions ... OK
* checking foreign function calls ... OK
* checking R code for possible problems ... OK
* checking Rd files ... OK
* checking Rd metadata ... OK
* checking Rd cross-references ... OK
* checking for missing documentation entries ... OK
* checking for code/documentation mismatches ... OK
* checking Rd \usage sections ... OK
* checking Rd contents ... OK
* checking for unstated dependencies in examples ... OK
* checking line endings in shell scripts ... OK
* checking line endings in C/C++/Fortran sources/headers ... OK
* checking line endings in Makefiles ... OK
* checking compilation flags in Makevars ... OK
* checking for GNU extensions in Makefiles ... NOTE
GNU make is a SystemRequirements.
* checking for portable use of $(BLAS_LIBS) and $(LAPACK_LIBS) ... OK
* checking use of PKG_*FLAGS in Makefiles ... OK
* checking include directives in Makefiles ... OK
* checking compiled code ... NOTE
Note: information on .o files for x64 is not available
File 'C:/Users/biocbuild/bbs-3.20-bioc/R/library/Rarr/libs/x64/Rarr.dll':
Found '_exit', possibly from '_exit' (C)
Found 'abort', possibly from 'abort' (C), 'runtime' (Fortran)
Found 'exit', possibly from 'exit' (C), 'stop' (Fortran)
Compiled code should not call entry points which might terminate R nor
write to stdout/stderr instead of to the console, nor use Fortran I/O
nor system RNGs nor [v]sprintf. The detected symbols are linked into
the code but might come from libraries and not actually be called.
See 'Writing portable packages' in the 'Writing R Extensions' manual.
* checking files in 'vignettes' ... OK
* checking examples ... OK
* checking for unstated dependencies in 'tests' ... OK
* checking tests ...
Running 'tinytest.R'
OK
* checking for unstated dependencies in vignettes ... OK
* checking package vignettes ... OK
* checking running R code from vignettes ... SKIPPED
* checking re-building of vignette outputs ... SKIPPED
* checking PDF version of manual ... OK
* DONE
Status: 4 NOTEs
See
'C:/Users/biocbuild/bbs-3.20-bioc/meat/Rarr.Rcheck/00check.log'
for details.
Rarr.Rcheck/00install.out
##############################################################################
##############################################################################
###
### Running command:
###
### C:\Users\biocbuild\bbs-3.20-bioc\R\bin\R.exe CMD INSTALL Rarr
###
##############################################################################
##############################################################################
* installing to library 'C:/Users/biocbuild/bbs-3.20-bioc/R/library'
* installing *source* package 'Rarr' ...
** using staged installation
** libs
using C compiler: 'gcc.exe (GCC) 13.2.0'
gcc -I"C:/Users/biocbuild/bbs-3.20-bioc/R/include" -DNDEBUG -I"C:/rtools44/x86_64-w64-mingw32.static.posix/include" -O2 -Wall -mfpmath=sse -msse2 -mstackrealign -O2 -Wall -mfpmath=sse -msse2 -mstackrealign -c Rarr.c -o Rarr.o
gcc -I"C:/Users/biocbuild/bbs-3.20-bioc/R/include" -DNDEBUG -I"C:/rtools44/x86_64-w64-mingw32.static.posix/include" -O2 -Wall -mfpmath=sse -msse2 -mstackrealign -O2 -Wall -mfpmath=sse -msse2 -mstackrealign -c bit64_conversion.c -o bit64_conversion.o
gcc -I"C:/Users/biocbuild/bbs-3.20-bioc/R/include" -DNDEBUG -I"C:/rtools44/x86_64-w64-mingw32.static.posix/include" -O2 -Wall -mfpmath=sse -msse2 -mstackrealign -O2 -Wall -mfpmath=sse -msse2 -mstackrealign -c compress.c -o compress.o
gcc -I"C:/Users/biocbuild/bbs-3.20-bioc/R/include" -DNDEBUG -I"C:/rtools44/x86_64-w64-mingw32.static.posix/include" -O2 -Wall -mfpmath=sse -msse2 -mstackrealign -O2 -Wall -mfpmath=sse -msse2 -mstackrealign -c decompress.c -o decompress.o
gcc -I"C:/Users/biocbuild/bbs-3.20-bioc/R/include" -DNDEBUG -I"C:/rtools44/x86_64-w64-mingw32.static.posix/include" -O2 -Wall -mfpmath=sse -msse2 -mstackrealign -O2 -Wall -mfpmath=sse -msse2 -mstackrealign -c float16_conversion.c -o float16_conversion.o
gcc -I"C:/Users/biocbuild/bbs-3.20-bioc/R/include" -DNDEBUG -I"C:/rtools44/x86_64-w64-mingw32.static.posix/include" -O2 -Wall -mfpmath=sse -msse2 -mstackrealign -O2 -Wall -mfpmath=sse -msse2 -mstackrealign -c type_conversion.c -o type_conversion.o
/usr/bin/make -C compression_tools/zstd
make[1]: Entering directory '/c/Users/biocbuild/bbs-3.20-bioc/meat/Rarr/src/compression_tools/zstd'
gcc -O2 -Wall -mfpmath=sse -msse2 -mstackrealign -I. -I./common -DXXH_NAMESPACE=ZSTD_ -DNDEBUG -DZSTD_DISABLE_ASM -c common/debug.c -o common/debug.o
gcc -O2 -Wall -mfpmath=sse -msse2 -mstackrealign -I. -I./common -DXXH_NAMESPACE=ZSTD_ -DNDEBUG -DZSTD_DISABLE_ASM -c common/entropy_common.c -o common/entropy_common.o
gcc -O2 -Wall -mfpmath=sse -msse2 -mstackrealign -I. -I./common -DXXH_NAMESPACE=ZSTD_ -DNDEBUG -DZSTD_DISABLE_ASM -c common/error_private.c -o common/error_private.o
gcc -O2 -Wall -mfpmath=sse -msse2 -mstackrealign -I. -I./common -DXXH_NAMESPACE=ZSTD_ -DNDEBUG -DZSTD_DISABLE_ASM -c common/fse_decompress.c -o common/fse_decompress.o
gcc -O2 -Wall -mfpmath=sse -msse2 -mstackrealign -I. -I./common -DXXH_NAMESPACE=ZSTD_ -DNDEBUG -DZSTD_DISABLE_ASM -c common/pool.c -o common/pool.o -o common/pool.o
gcc -O2 -Wall -mfpmath=sse -msse2 -mstackrealign -I. -I./common -DXXH_NAMESPACE=ZSTD_ -DNDEBUG -DZSTD_DISABLE_ASM -c common/threading.c -o common/threading.o
gcc -O2 -Wall -mfpmath=sse -msse2 -mstackrealign -I. -I./common -DXXH_NAMESPACE=ZSTD_ -DNDEBUG -DZSTD_DISABLE_ASM -c common/xxhash.c -o common/xxhash.o
gcc -O2 -Wall -mfpmath=sse -msse2 -mstackrealign -I. -I./common -DXXH_NAMESPACE=ZSTD_ -DNDEBUG -DZSTD_DISABLE_ASM -c common/zstd_common.c -o common/zstd_common.o
gcc -O2 -Wall -mfpmath=sse -msse2 -mstackrealign -I. -I./common -DXXH_NAMESPACE=ZSTD_ -DNDEBUG -DZSTD_DISABLE_ASM -c compress/fse_compress.c -o compress/fse_compress.o
gcc -O2 -Wall -mfpmath=sse -msse2 -mstackrealign -I. -I./common -DXXH_NAMESPACE=ZSTD_ -DNDEBUG -DZSTD_DISABLE_ASM -c compress/hist.c -o compress/hist.o
gcc -O2 -Wall -mfpmath=sse -msse2 -mstackrealign -I. -I./common -DXXH_NAMESPACE=ZSTD_ -DNDEBUG -DZSTD_DISABLE_ASM -c compress/huf_compress.c -o compress/huf_compress.o
gcc -O2 -Wall -mfpmath=sse -msse2 -mstackrealign -I. -I./common -DXXH_NAMESPACE=ZSTD_ -DNDEBUG -DZSTD_DISABLE_ASM -c compress/zstd_compress.c -o compress/zstd_compress.o
gcc -O2 -Wall -mfpmath=sse -msse2 -mstackrealign -I. -I./common -DXXH_NAMESPACE=ZSTD_ -DNDEBUG -DZSTD_DISABLE_ASM -c compress/zstd_compress_literals.c -o compress/zstd_compress_literals.o
gcc -O2 -Wall -mfpmath=sse -msse2 -mstackrealign -I. -I./common -DXXH_NAMESPACE=ZSTD_ -DNDEBUG -DZSTD_DISABLE_ASM -c compress/zstd_compress_sequences.c -o compress/zstd_compress_sequences.o
gcc -O2 -Wall -mfpmath=sse -msse2 -mstackrealign -I. -I./common -DXXH_NAMESPACE=ZSTD_ -DNDEBUG -DZSTD_DISABLE_ASM -c compress/zstd_compress_superblock.c -o compress/zstd_compress_superblock.o
gcc -O2 -Wall -mfpmath=sse -msse2 -mstackrealign -I. -I./common -DXXH_NAMESPACE=ZSTD_ -DNDEBUG -DZSTD_DISABLE_ASM -c compress/zstd_double_fast.c -o compress/zstd_double_fast.o
gcc -O2 -Wall -mfpmath=sse -msse2 -mstackrealign -I. -I./common -DXXH_NAMESPACE=ZSTD_ -DNDEBUG -DZSTD_DISABLE_ASM -c compress/zstd_fast.c -o compress/zstd_fast.o
gcc -O2 -Wall -mfpmath=sse -msse2 -mstackrealign -I. -I./common -DXXH_NAMESPACE=ZSTD_ -DNDEBUG -DZSTD_DISABLE_ASM -c compress/zstd_lazy.c -o compress/zstd_lazy.o
gcc -O2 -Wall -mfpmath=sse -msse2 -mstackrealign -I. -I./common -DXXH_NAMESPACE=ZSTD_ -DNDEBUG -DZSTD_DISABLE_ASM -c compress/zstd_ldm.c -o compress/zstd_ldm.o
gcc -O2 -Wall -mfpmath=sse -msse2 -mstackrealign -I. -I./common -DXXH_NAMESPACE=ZSTD_ -DNDEBUG -DZSTD_DISABLE_ASM -c compress/zstd_opt.c -o compress/zstd_opt.o
gcc -O2 -Wall -mfpmath=sse -msse2 -mstackrealign -I. -I./common -DXXH_NAMESPACE=ZSTD_ -DNDEBUG -DZSTD_DISABLE_ASM -c compress/zstdmt_compress.c -o compress/zstdmt_compress.o
gcc -O2 -Wall -mfpmath=sse -msse2 -mstackrealign -I. -I./common -DXXH_NAMESPACE=ZSTD_ -DNDEBUG -DZSTD_DISABLE_ASM -c decompress/huf_decompress.c -o decompress/huf_decompress.o
gcc -O2 -Wall -mfpmath=sse -msse2 -mstackrealign -I. -I./common -DXXH_NAMESPACE=ZSTD_ -DNDEBUG -DZSTD_DISABLE_ASM -c decompress/zstd_ddict.c -o decompress/zstd_ddict.o
gcc -O2 -Wall -mfpmath=sse -msse2 -mstackrealign -I. -I./common -DXXH_NAMESPACE=ZSTD_ -DNDEBUG -DZSTD_DISABLE_ASM -c decompress/zstd_decompress.c -o decompress/zstd_decompress.o
gcc -O2 -Wall -mfpmath=sse -msse2 -mstackrealign -I. -I./common -DXXH_NAMESPACE=ZSTD_ -DNDEBUG -DZSTD_DISABLE_ASM -c decompress/zstd_decompress_block.c -o decompress/zstd_decompress_block.o
rm -f libzstd.a
ar cq libzstd.a common/debug.o common/entropy_common.o common/error_private.o common/fse_decompress.o common/pool.o common/threading.o common/xxhash.o common/zstd_common.o compress/fse_compress.o compress/hist.o compress/huf_compress.o compress/zstd_compress.o compress/zstd_compress_literals.o compress/zstd_compress_sequences.o compress/zstd_compress_superblock.o compress/zstd_double_fast.o compress/zstd_fast.o compress/zstd_lazy.o compress/zstd_ldm.o compress/zstd_opt.o compress/zstdmt_compress.o decompress/huf_decompress.o decompress/zstd_ddict.o decompress/zstd_decompress.o decompress/zstd_decompress_block.o
ranlib libzstd.a
make[1]: Leaving directory '/c/Users/biocbuild/bbs-3.20-bioc/meat/Rarr/src/compression_tools/zstd'
/usr/bin/make -C compression_tools/blosc
make[1]: Entering directory '/c/Users/biocbuild/bbs-3.20-bioc/meat/Rarr/src/compression_tools/blosc'
/usr/bin/make -C lib/snappy-1.1.1
make[2]: Entering directory '/c/Users/biocbuild/bbs-3.20-bioc/meat/Rarr/src/compression_tools/blosc/lib/snappy-1.1.1'
g++ -std=gnu++17 -IC:/Users/biocbuild/bbs-3.20-bioc/R/include -IC:/Users/biocbuild/bbs-3.20-bioc/R/include/x64 -DUSING_R -c snappy.cc
g++ -std=gnu++17 -IC:/Users/biocbuild/bbs-3.20-bioc/R/include -IC:/Users/biocbuild/bbs-3.20-bioc/R/include/x64 -DUSING_R -c snappy-c.cc
g++ -std=gnu++17 -IC:/Users/biocbuild/bbs-3.20-bioc/R/include -IC:/Users/biocbuild/bbs-3.20-bioc/R/include/x64 -DUSING_R -c snappy-sinksource.cc
g++ -std=gnu++17 -IC:/Users/biocbuild/bbs-3.20-bioc/R/include -IC:/Users/biocbuild/bbs-3.20-bioc/R/include/x64 -DUSING_R -c snappy-stubs-internal.cc
make[2]: Leaving directory '/c/Users/biocbuild/bbs-3.20-bioc/meat/Rarr/src/compression_tools/blosc/lib/snappy-1.1.1'
/usr/bin/make -C lib/lz4-1.9.2
make[2]: Entering directory '/c/Users/biocbuild/bbs-3.20-bioc/meat/Rarr/src/compression_tools/blosc/lib/lz4-1.9.2'
gcc -O2 -Wall -mfpmath=sse -msse2 -mstackrealign -DNLZ4_DEBUG -c lz4.c
gcc -O2 -Wall -mfpmath=sse -msse2 -mstackrealign -DNLZ4_DEBUG -c lz4hc.c
make[2]: Leaving directory '/c/Users/biocbuild/bbs-3.20-bioc/meat/Rarr/src/compression_tools/blosc/lib/lz4-1.9.2'
/usr/bin/make -C lib/blosc-1.20.1 all
make[2]: Entering directory '/c/Users/biocbuild/bbs-3.20-bioc/meat/Rarr/src/compression_tools/blosc/lib/blosc-1.20.1'
gcc -O2 -Wall -mfpmath=sse -msse2 -mstackrealign -IC:/Users/biocbuild/bbs-3.20-bioc/R/include -IC:/Users/biocbuild/bbs-3.20-bioc/R/include/x64 -I../lz4-1.9.2 -I../snappy-1.1.1 -I../../../zstd -msse2 -DUSING_R -c bitshuffle-sse2.c
bitshuffle-sse2.c: In function 'blosc_internal_bshuf_trans_byte_elem_sse2':
bitshuffle-sse2.c:260:1: warning: visibility attribute not supported in this configuration; ignored [-Wattributes]
260 | }
| ^
bitshuffle-sse2.c: In function 'blosc_internal_bshuf_trans_bit_elem_sse2':
bitshuffle-sse2.c:308:1: warning: visibility attribute not supported in this configuration; ignored [-Wattributes]
308 | }
| ^
bitshuffle-sse2.c: In function 'blosc_internal_bshuf_trans_byte_bitrow_sse2':
bitshuffle-sse2.c:414:1: warning: visibility attribute not supported in this configuration; ignored [-Wattributes]
414 | }
| ^
bitshuffle-sse2.c: In function 'blosc_internal_bshuf_shuffle_bit_eightelem_sse2':
bitshuffle-sse2.c:451:1: warning: visibility attribute not supported in this configuration; ignored [-Wattributes]
451 | }
| ^
bitshuffle-sse2.c: In function 'blosc_internal_bshuf_untrans_bit_elem_sse2':
bitshuffle-sse2.c:467:1: warning: visibility attribute not supported in this configuration; ignored [-Wattributes]
467 | }
| ^
gcc -O2 -Wall -mfpmath=sse -msse2 -mstackrealign -IC:/Users/biocbuild/bbs-3.20-bioc/R/include -IC:/Users/biocbuild/bbs-3.20-bioc/R/include/x64 -I../lz4-1.9.2 -I../snappy-1.1.1 -I../../../zstd -msse2 -DUSING_R -c shuffle-sse2.c
shuffle-sse2.c: In function 'blosc_internal_shuffle_sse2':
shuffle-sse2.c:568:1: warning: visibility attribute not supported in this configuration; ignored [-Wattributes]
568 | }
| ^
shuffle-sse2.c: In function 'blosc_internal_unshuffle_sse2':
shuffle-sse2.c:626:1: warning: visibility attribute not supported in this configuration; ignored [-Wattributes]
626 | }
| ^
gcc -O2 -Wall -mfpmath=sse -msse2 -mstackrealign -IC:/Users/biocbuild/bbs-3.20-bioc/R/include -IC:/Users/biocbuild/bbs-3.20-bioc/R/include/x64 -I../lz4-1.9.2 -I../snappy-1.1.1 -I../../../zstd -msse2 -DUSING_R -c bitshuffle-generic.c
bitshuffle-generic.c: In function 'blosc_internal_bshuf_trans_byte_elem_remainder':
bitshuffle-generic.c:40:1: warning: visibility attribute not supported in this configuration; ignored [-Wattributes]
40 | }
| ^
bitshuffle-generic.c: In function 'blosc_internal_bshuf_trans_byte_elem_scal':
bitshuffle-generic.c:48:1: warning: visibility attribute not supported in this configuration; ignored [-Wattributes]
48 | }
| ^
bitshuffle-generic.c: In function 'blosc_internal_bshuf_trans_bit_byte_remainder':
bitshuffle-generic.c:85:1: warning: visibility attribute not supported in this configuration; ignored [-Wattributes]
85 | }
| ^
bitshuffle-generic.c: In function 'blosc_internal_bshuf_trans_elem':
bitshuffle-generic.c:109:1: warning: visibility attribute not supported in this configuration; ignored [-Wattributes]
109 | }
| ^
bitshuffle-generic.c: In function 'blosc_internal_bshuf_trans_bitrow_eight':
bitshuffle-generic.c:121:1: warning: visibility attribute not supported in this configuration; ignored [-Wattributes]
121 | }
| ^
bitshuffle-generic.c: In function 'blosc_internal_bshuf_trans_bit_elem_scal':
bitshuffle-generic.c:139:1: warning: visibility attribute not supported in this configuration; ignored [-Wattributes]
139 | }
| ^
bitshuffle-generic.c: In function 'blosc_internal_bshuf_shuffle_bit_eightelem_scal':
bitshuffle-generic.c:204:1: warning: visibility attribute not supported in this configuration; ignored [-Wattributes]
204 | }
| ^
bitshuffle-generic.c: In function 'blosc_internal_bshuf_untrans_bit_elem_scal':
bitshuffle-generic.c:220:1: warning: visibility attribute not supported in this configuration; ignored [-Wattributes]
220 | }
| ^
gcc -O2 -Wall -mfpmath=sse -msse2 -mstackrealign -IC:/Users/biocbuild/bbs-3.20-bioc/R/include -IC:/Users/biocbuild/bbs-3.20-bioc/R/include/x64 -I../lz4-1.9.2 -I../snappy-1.1.1 -I../../../zstd -msse2 -DUSING_R -c shuffle-generic.c
shuffle-generic.c: In function 'blosc_internal_shuffle_generic':
shuffle-generic.c:17:1: warning: visibility attribute not supported in this configuration; ignored [-Wattributes]
17 | }
| ^
shuffle-generic.c: In function 'blosc_internal_unshuffle_generic':
shuffle-generic.c:25:1: warning: visibility attribute not supported in this configuration; ignored [-Wattributes]
25 | }
| ^
gcc -O2 -Wall -mfpmath=sse -msse2 -mstackrealign -IC:/Users/biocbuild/bbs-3.20-bioc/R/include -IC:/Users/biocbuild/bbs-3.20-bioc/R/include/x64 -I../lz4-1.9.2 -I../snappy-1.1.1 -I../../../zstd -msse2 -DUSING_R -DSHUFFLE_SSE2_ENABLED -c shuffle.c
In file included from shuffle.c:12:
shuffle-generic.h:61:13: warning: 'unshuffle_generic_inline' defined but not used [-Wunused-function]
61 | static void unshuffle_generic_inline(const size_t type_size,
| ^~~~~~~~~~~~~~~~~~~~~~~~
shuffle-generic.h:32:13: warning: 'shuffle_generic_inline' defined but not used [-Wunused-function]
32 | static void shuffle_generic_inline(const size_t type_size,
| ^~~~~~~~~~~~~~~~~~~~~~
shuffle.c: In function 'blosc_internal_shuffle':
shuffle.c:390:1: warning: visibility attribute not supported in this configuration; ignored [-Wattributes]
390 | }
| ^
shuffle.c: In function 'blosc_internal_unshuffle':
shuffle.c:403:1: warning: visibility attribute not supported in this configuration; ignored [-Wattributes]
403 | }
| ^
shuffle.c: In function 'blosc_internal_bitshuffle':
shuffle.c:430:1: warning: visibility attribute not supported in this configuration; ignored [-Wattributes]
430 | }
| ^
shuffle.c: In function 'blosc_internal_bitunshuffle':
shuffle.c:457:1: warning: visibility attribute not supported in this configuration; ignored [-Wattributes]
457 | }
| ^
gcc -O2 -Wall -mfpmath=sse -msse2 -mstackrealign -IC:/Users/biocbuild/bbs-3.20-bioc/R/include -IC:/Users/biocbuild/bbs-3.20-bioc/R/include/x64 -I../lz4-1.9.2 -I../snappy-1.1.1 -I../../../zstd -msse2 -DUSING_R -c blosclz.c
gcc -O2 -Wall -mfpmath=sse -msse2 -mstackrealign -IC:/Users/biocbuild/bbs-3.20-bioc/R/include -IC:/Users/biocbuild/bbs-3.20-bioc/R/include/x64 -I../lz4-1.9.2 -I../snappy-1.1.1 -I../../../zstd -msse2 -DUSING_R -c blosc.c
blosc.c:303:12: warning: 'compname_to_clibcode' defined but not used [-Wunused-function]
303 | static int compname_to_clibcode(const char *compname)
| ^~~~~~~~~~~~~~~~~~~~
blosc.c:156:16: warning: 'g_atfork_registered' defined but not used [-Wunused-variable]
156 | static int32_t g_atfork_registered = 0;
| ^~~~~~~~~~~~~~~~~~~
gcc -O2 -Wall -mfpmath=sse -msse2 -mstackrealign -IC:/Users/biocbuild/bbs-3.20-bioc/R/include -IC:/Users/biocbuild/bbs-3.20-bioc/R/include/x64 -I../lz4-1.9.2 -I../snappy-1.1.1 -I../../../zstd -msse2 -DUSING_R -c fastcopy.c
make[2]: Leaving directory '/c/Users/biocbuild/bbs-3.20-bioc/meat/Rarr/src/compression_tools/blosc/lib/blosc-1.20.1'
rm -f libblosc.a
ar cq libblosc.a lib/blosc-1.20.1/blosc.o lib/blosc-1.20.1/shuffle-sse2.o lib/blosc-1.20.1/bitshuffle-generic.o lib/blosc-1.20.1/blosclz.o lib/blosc-1.20.1/shuffle.o lib/blosc-1.20.1/bitshuffle-sse2.o lib/blosc-1.20.1/fastcopy.o lib/blosc-1.20.1/shuffle-generic.o lib/snappy-1.1.1/snappy.o lib/snappy-1.1.1/snappy-c.o lib/snappy-1.1.1/snappy-sinksource.o lib/snappy-1.1.1/snappy-stubs-internal.o lib/lz4-1.9.2/lz4.o lib/lz4-1.9.2/lz4hc.o
ranlib libblosc.a
make[1]: Leaving directory '/c/Users/biocbuild/bbs-3.20-bioc/meat/Rarr/src/compression_tools/blosc'
C:\rtools44\x86_64-w64-mingw32.static.posix\bin\nm.exe: 'compression_libs': No such file
gcc -shared -s -static-libgcc -o Rarr.dll tmp.def Rarr.o bit64_conversion.o compress.o decompress.o float16_conversion.o type_conversion.o compression_tools/blosc/libblosc.a compression_tools/zstd/libzstd.a -lz -lstdc++ -LC:/rtools44/x86_64-w64-mingw32.static.posix/lib/x64 -LC:/rtools44/x86_64-w64-mingw32.static.posix/lib -LC:/Users/biocbuild/bbs-3.20-bioc/R/bin/x64 -lR
installing to C:/Users/biocbuild/bbs-3.20-bioc/R/library/00LOCK-Rarr/00new/Rarr/libs/x64
** R
** inst
** byte-compile and prepare package for lazy loading
** help
*** installing help indices
** building package indices
** installing vignettes
** testing if installed package can be loaded from temporary location
** testing if installed package can be loaded from final location
** testing if installed package keeps a record of temporary installation path
* DONE (Rarr)
Rarr.Rcheck/tests/tinytest.Rout
R version 4.4.1 (2024-06-14 ucrt) -- "Race for Your Life"
Copyright (C) 2024 The R Foundation for Statistical Computing
Platform: x86_64-w64-mingw32/x64
R is free software and comes with ABSOLUTELY NO WARRANTY.
You are welcome to redistribute it under certain conditions.
Type 'license()' or 'licence()' for distribution details.
R is a collaborative project with many contributors.
Type 'contributors()' for more information and
'citation()' on how to cite R or R packages in publications.
Type 'demo()' for some demos, 'help()' for on-line help, or
'help.start()' for an HTML browser interface to help.
Type 'q()' to quit R.
> if (requireNamespace("tinytest", quietly = TRUE)) {
+ tinytest::test_package("Rarr")
+ }
test_argument_handling.R...... 1 tests [0;32mOK[0m [0;36m49ms[0m
test_boolean.R................ 0 tests
test_boolean.R................ 0 tests
test_boolean.R................ 1 tests [0;32mOK[0m
test_boolean.R................ 2 tests [0;32mOK[0m
test_boolean.R................ 3 tests [0;32mOK[0m
test_boolean.R................ 4 tests [0;32mOK[0m
test_boolean.R................ 5 tests [0;32mOK[0m [0;36m10ms[0m
test_datatypes.R.............. 1 tests [0;32mOK[0m
test_datatypes.R.............. 2 tests [0;32mOK[0m
test_datatypes.R.............. 3 tests [0;32mOK[0m
test_datatypes.R.............. 4 tests [0;32mOK[0m
test_datatypes.R.............. 5 tests [0;32mOK[0m
test_datatypes.R.............. 6 tests [0;32mOK[0m
test_datatypes.R.............. 7 tests [0;32mOK[0m
test_datatypes.R.............. 8 tests [0;32mOK[0m
test_datatypes.R.............. 9 tests [0;32mOK[0m
test_datatypes.R.............. 10 tests [0;32mOK[0m
test_datatypes.R.............. 11 tests [0;32mOK[0m
test_datatypes.R.............. 12 tests [0;32mOK[0m
test_datatypes.R.............. 13 tests [0;32mOK[0m
test_datatypes.R.............. 14 tests [0;32mOK[0m
test_datatypes.R.............. 15 tests [0;32mOK[0m
test_datatypes.R.............. 16 tests [0;32mOK[0m [0;36m5ms[0m
test_decompression.R.......... 0 tests
test_decompression.R.......... 15 tests [0;32mOK[0m [0;36m22ms[0m
test_fill_values.R............ 0 tests
test_fill_values.R............ 0 tests
test_fill_values.R............ 10 tests [0;32mOK[0m [0;36m20ms[0m
test_float16.R................ 0 tests
test_float16.R................ 0 tests
test_float16.R................ 0 tests
test_float16.R................ 1 tests [0;32mOK[0m
test_float16.R................ 2 tests [0;32mOK[0m
test_float16.R................ 3 tests [0;32mOK[0m
test_float16.R................ 4 tests [0;32mOK[0m
test_float16.R................ 5 tests [0;32mOK[0m
test_float16.R................ 6 tests [0;32mOK[0m
test_float16.R................ 7 tests [0;32mOK[0m
test_float16.R................ 8 tests [0;32mOK[0m
test_float16.R................ 9 tests [0;32mOK[0m [0;36m28ms[0m
test_float32.R................ 0 tests
test_float32.R................ 0 tests
test_float32.R................ 0 tests
test_float32.R................ 1 tests [0;32mOK[0m
test_float32.R................ 2 tests [0;32mOK[0m
test_float32.R................ 3 tests [0;32mOK[0m
test_float32.R................ 4 tests [0;32mOK[0m
test_float32.R................ 5 tests [0;32mOK[0m
test_float32.R................ 6 tests [0;32mOK[0m
test_float32.R................ 7 tests [0;32mOK[0m [0;36m16ms[0m
test_float64.R................ 0 tests
test_float64.R................ 0 tests
test_float64.R................ 0 tests
test_float64.R................ 1 tests [0;32mOK[0m
test_float64.R................ 2 tests [0;32mOK[0m
test_float64.R................ 3 tests [0;32mOK[0m
test_float64.R................ 4 tests [0;32mOK[0m
test_float64.R................ 5 tests [0;32mOK[0m
test_float64.R................ 6 tests [0;32mOK[0m
test_float64.R................ 7 tests [0;32mOK[0m [0;36m15ms[0m
test_int16.R.................. 0 tests
test_int16.R.................. 0 tests
test_int16.R.................. 0 tests
test_int16.R.................. 1 tests [0;32mOK[0m
test_int16.R.................. 2 tests [0;32mOK[0m
test_int16.R.................. 3 tests [0;32mOK[0m
test_int16.R.................. 4 tests [0;32mOK[0m
test_int16.R.................. 5 tests [0;32mOK[0m
test_int16.R.................. 6 tests [0;32mOK[0m
test_int16.R.................. 7 tests [0;32mOK[0m [0;36m15ms[0m
test_int32.R.................. 0 tests
test_int32.R.................. 0 tests
test_int32.R.................. 0 tests
test_int32.R.................. 1 tests [0;32mOK[0m
test_int32.R.................. 2 tests [0;32mOK[0m
test_int32.R.................. 3 tests [0;32mOK[0m
test_int32.R.................. 4 tests [0;32mOK[0m
test_int32.R.................. 5 tests [0;32mOK[0m
test_int32.R.................. 6 tests [0;32mOK[0m
test_int32.R.................. 7 tests [0;32mOK[0m [0;36m18ms[0m
test_int64.R.................. 0 tests
test_int64.R.................. 0 tests
test_int64.R.................. 0 tests
test_int64.R.................. 1 tests [0;32mOK[0m
test_int64.R.................. 2 tests [0;32mOK[0m
test_int64.R.................. 3 tests [0;32mOK[0m
test_int64.R.................. 4 tests [0;32mOK[0m
test_int64.R.................. 5 tests [0;32mOK[0m
test_int64.R.................. 6 tests [0;32mOK[0m
test_int64.R.................. 7 tests [0;32mOK[0m
test_int64.R.................. 8 tests [0;32mOK[0m
test_int64.R.................. 9 tests [0;32mOK[0m
test_int64.R.................. 10 tests [0;32mOK[0m
test_int64.R.................. 11 tests [0;32mOK[0m
test_int64.R.................. 12 tests [0;32mOK[0m
test_int64.R.................. 13 tests [0;32mOK[0m
test_int64.R.................. 14 tests [0;32mOK[0m
test_int64.R.................. 15 tests [0;32mOK[0m [0;36m27ms[0m
test_int8.R................... 0 tests
test_int8.R................... 0 tests
test_int8.R................... 0 tests
test_int8.R................... 1 tests [0;32mOK[0m
test_int8.R................... 2 tests [0;32mOK[0m
test_int8.R................... 3 tests [0;32mOK[0m
test_int8.R................... 4 tests [0;32mOK[0m
test_int8.R................... 5 tests [0;32mOK[0m
test_int8.R................... 6 tests [0;32mOK[0m
test_int8.R................... 7 tests [0;32mOK[0m [0;36m16ms[0m
test_normalize_path.R......... 0 tests
test_normalize_path.R......... 0 tests
test_normalize_path.R......... 3 tests [0;32mOK[0m [0;36m3ms[0m
test_read_metadata.R.......... 0 tests
test_read_metadata.R.......... 0 tests
test_read_metadata.R.......... 1 tests [0;32mOK[0m
test_read_metadata.R.......... 2 tests [0;32mOK[0m
test_read_metadata.R.......... 3 tests [0;32mOK[0m [0;36m9ms[0m
test_roundtrip.R.............. 0 tests
test_roundtrip.R.............. 1 tests [0;32mOK[0m
test_roundtrip.R.............. 2 tests [0;32mOK[0m
test_roundtrip.R.............. 3 tests [0;32mOK[0m
test_roundtrip.R.............. 3 tests [0;32mOK[0m
test_roundtrip.R.............. 3 tests [0;32mOK[0m
test_roundtrip.R.............. 4 tests [0;32mOK[0m
test_roundtrip.R.............. 5 tests [0;32mOK[0m
test_roundtrip.R.............. 5 tests [0;32mOK[0m
test_roundtrip.R.............. 6 tests [0;32mOK[0m
test_roundtrip.R.............. 7 tests [0;32mOK[0m
test_roundtrip.R.............. 7 tests [0;32mOK[0m
test_roundtrip.R.............. 8 tests [0;32mOK[0m
test_roundtrip.R.............. 9 tests [0;32mOK[0m
test_roundtrip.R.............. 9 tests [0;32mOK[0m
test_roundtrip.R.............. 10 tests [0;32mOK[0m
test_roundtrip.R.............. 11 tests [0;32mOK[0m
test_roundtrip.R.............. 11 tests [0;32mOK[0m
test_roundtrip.R.............. 12 tests [0;32mOK[0m
test_roundtrip.R.............. 13 tests [0;32mOK[0m
test_roundtrip.R.............. 13 tests [0;32mOK[0m
test_roundtrip.R.............. 14 tests [0;32mOK[0m
test_roundtrip.R.............. 15 tests [0;32mOK[0m
test_roundtrip.R.............. 15 tests [0;32mOK[0m
test_roundtrip.R.............. 16 tests [0;32mOK[0m
test_roundtrip.R.............. 17 tests [0;32mOK[0m
test_roundtrip.R.............. 17 tests [0;32mOK[0m
test_roundtrip.R.............. 18 tests [0;32mOK[0m
test_roundtrip.R.............. 19 tests [0;32mOK[0m
test_roundtrip.R.............. 19 tests [0;32mOK[0m
test_roundtrip.R.............. 20 tests [0;32mOK[0m
test_roundtrip.R.............. 21 tests [0;32mOK[0m
test_roundtrip.R.............. 21 tests [0;32mOK[0m
test_roundtrip.R.............. 22 tests [0;32mOK[0m
test_roundtrip.R.............. 23 tests [0;32mOK[0m [0;34m3.3s[0m
test_s3.R..................... 0 tests
test_s3.R..................... 0 tests Loading required package: mockery
test_s3.R..................... 1 tests [0;32mOK[0m [0;34m0.8s[0m
test_string.R................. 0 tests
test_string.R................. 0 tests
test_string.R................. 0 tests
test_string.R................. 1 tests [0;32mOK[0m
test_string.R................. 2 tests [0;32mOK[0m
test_string.R................. 3 tests [0;32mOK[0m
test_string.R................. 4 tests [0;32mOK[0m
test_string.R................. 5 tests [0;32mOK[0m
test_string.R................. 6 tests [0;32mOK[0m
test_string.R................. 7 tests [0;32mOK[0m
test_string.R................. 7 tests [0;32mOK[0m
test_string.R................. 8 tests [0;32mOK[0m
test_string.R................. 9 tests [0;32mOK[0m
test_string.R................. 9 tests [0;32mOK[0m
test_string.R................. 10 tests [0;32mOK[0m
test_string.R................. 11 tests [0;32mOK[0m
test_string.R................. 11 tests [0;32mOK[0m
test_string.R................. 11 tests [0;32mOK[0m
test_string.R................. 12 tests [0;32mOK[0m
test_string.R................. 13 tests [0;32mOK[0m
test_string.R................. 14 tests [0;32mOK[0m
test_string.R................. 14 tests [0;32mOK[0m
test_string.R................. 15 tests [0;32mOK[0m
test_string.R................. 16 tests [0;32mOK[0m
test_string.R................. 17 tests [0;32mOK[0m
test_string.R................. 17 tests [0;32mOK[0m
test_string.R................. 17 tests [0;32mOK[0m
test_string.R................. 17 tests [0;32mOK[0m
test_string.R................. 17 tests [0;32mOK[0m
test_string.R................. 17 tests [0;32mOK[0m
test_string.R................. 17 tests [0;32mOK[0m
test_string.R................. 18 tests [0;32mOK[0m [0;34m0.4s[0m
test_uint16.R................. 0 tests
test_uint16.R................. 0 tests
test_uint16.R................. 1 tests [0;32mOK[0m
test_uint16.R................. 2 tests [0;32mOK[0m
test_uint16.R................. 3 tests [0;32mOK[0m
test_uint16.R................. 4 tests [0;32mOK[0m
test_uint16.R................. 5 tests [0;32mOK[0m [0;36m9ms[0m
test_uint32.R................. 0 tests
test_uint32.R................. 0 tests
test_uint32.R................. 0 tests
test_uint32.R................. 1 tests [0;32mOK[0m
test_uint32.R................. 2 tests [0;32mOK[0m
test_uint32.R................. 3 tests [0;32mOK[0m
test_uint32.R................. 4 tests [0;32mOK[0m
test_uint32.R................. 5 tests [0;32mOK[0m
test_uint32.R................. 6 tests [0;32mOK[0m
test_uint32.R................. 7 tests [0;32mOK[0m
test_uint32.R................. 8 tests [0;32mOK[0m
test_uint32.R................. 9 tests [0;32mOK[0m
test_uint32.R................. 10 tests [0;32mOK[0m
test_uint32.R................. 11 tests [0;32mOK[0m [0;36m22ms[0m
test_uint64.R................. 0 tests
test_uint64.R................. 0 tests
test_uint64.R................. 1 tests [0;32mOK[0m
test_uint64.R................. 2 tests [0;32mOK[0m
test_uint64.R................. 3 tests [0;32mOK[0m
test_uint64.R................. 4 tests [0;32mOK[0m
test_uint64.R................. 5 tests [0;32mOK[0m
test_uint64.R................. 6 tests [0;32mOK[0m
test_uint64.R................. 7 tests [0;32mOK[0m [0;36m12ms[0m
test_uint8.R.................. 0 tests
test_uint8.R.................. 0 tests
test_uint8.R.................. 1 tests [0;32mOK[0m
test_uint8.R.................. 2 tests [0;32mOK[0m
test_uint8.R.................. 3 tests [0;32mOK[0m
test_uint8.R.................. 4 tests [0;32mOK[0m
test_uint8.R.................. 5 tests [0;32mOK[0m [0;36m9ms[0m
test_update_zarr.R............ 0 tests
test_update_zarr.R............ 0 tests
test_update_zarr.R............ 0 tests
test_update_zarr.R............ 1 tests [0;32mOK[0m
test_update_zarr.R............ 2 tests [0;32mOK[0m
test_update_zarr.R............ 3 tests [0;32mOK[0m
test_update_zarr.R............ 3 tests [0;32mOK[0m
test_update_zarr.R............ 4 tests [0;32mOK[0m
test_update_zarr.R............ 5 tests [0;32mOK[0m
test_update_zarr.R............ 6 tests [0;32mOK[0m [0;36m46ms[0m
test_url_parsing.R............ 0 tests
test_url_parsing.R............ 10 tests [0;32mOK[0m
test_url_parsing.R............ 15 tests [0;32mOK[0m
test_url_parsing.R............ 16 tests [0;32mOK[0m
test_url_parsing.R............ 17 tests [0;32mOK[0m
test_url_parsing.R............ 18 tests [0;32mOK[0m [0;36m7ms[0m
test_utils.R.................. 1 tests [0;32mOK[0m
test_utils.R.................. 2 tests [0;32mOK[0m
test_utils.R.................. 3 tests [0;32mOK[0m [0;36m2ms[0m
All ok, 209 results (4.9s)
>
> proc.time()
user system elapsed
2.39 1.68 5.60
Rarr.Rcheck/Rarr-Ex.timings
| name | user | system | elapsed | |
| compressors | 0.25 | 0.12 | 1.19 | |
| create_empty_zarr_array | 0 | 0 | 0 | |
| read_zarr_array | 0.00 | 0.03 | 0.03 | |
| update_zarr_array | 0.00 | 0.00 | 0.02 | |
| write_zarr_array | 0.02 | 0.01 | 0.03 | |
| zarr_overview | 0.09 | 0.02 | 1.66 | |