| Back to Multiple platform build/check report for BioC 3.20: simplified long |
|
This page was generated on 2024-07-16 11:41 -0400 (Tue, 16 Jul 2024).
| Hostname | OS | Arch (*) | R version | Installed pkgs |
|---|---|---|---|---|
| nebbiolo2 | Linux (Ubuntu 22.04.3 LTS) | x86_64 | 4.4.1 (2024-06-14) -- "Race for Your Life" | 4677 |
| palomino6 | Windows Server 2022 Datacenter | x64 | 4.4.1 (2024-06-14 ucrt) -- "Race for Your Life" | 4416 |
| lconway | macOS 12.7.1 Monterey | x86_64 | 4.4.1 (2024-06-14) -- "Race for Your Life" | 4444 |
| kjohnson3 | macOS 13.6.5 Ventura | arm64 | 4.4.1 (2024-06-14) -- "Race for Your Life" | 4393 |
| palomino8 | Windows Server 2022 Datacenter | x64 | 4.4.1 (2024-06-14 ucrt) -- "Race for Your Life" | 4373 |
| Click on any hostname to see more info about the system (e.g. compilers) (*) as reported by 'uname -p', except on Windows and Mac OS X | ||||
| Package 1784/2243 | Hostname | OS / Arch | INSTALL | BUILD | CHECK | BUILD BIN | ||||||||
| RTNsurvival 1.29.0 (landing page) Clarice Groeneveld
| nebbiolo2 | Linux (Ubuntu 22.04.3 LTS) / x86_64 | OK | OK | OK | |||||||||
| palomino6 | Windows Server 2022 Datacenter / x64 | OK | OK | OK | OK | |||||||||
| lconway | macOS 12.7.1 Monterey / x86_64 | OK | OK | OK | OK | |||||||||
| kjohnson3 | macOS 13.6.5 Ventura / arm64 | OK | OK | OK | OK | |||||||||
| palomino8 | Windows Server 2022 Datacenter / x64 | OK | OK | OK | OK | |||||||||
|
To the developers/maintainers of the RTNsurvival package: - Allow up to 24 hours (and sometimes 48 hours) for your latest push to git@git.bioconductor.org:packages/RTNsurvival.git to reflect on this report. See Troubleshooting Build Report for more information. - Use the following Renviron settings to reproduce errors and warnings. - If 'R CMD check' started to fail recently on the Linux builder(s) over a missing dependency, add the missing dependency to 'Suggests:' in your DESCRIPTION file. See Renviron.bioc for more information. |
| Package: RTNsurvival |
| Version: 1.29.0 |
| Command: C:\Users\biocbuild\bbs-3.20-bioc\R\bin\R.exe CMD check --no-multiarch --install=check:RTNsurvival.install-out.txt --library=C:\Users\biocbuild\bbs-3.20-bioc\R\library --no-vignettes --timings RTNsurvival_1.29.0.tar.gz |
| StartedAt: 2024-07-16 03:33:33 -0400 (Tue, 16 Jul 2024) |
| EndedAt: 2024-07-16 03:37:48 -0400 (Tue, 16 Jul 2024) |
| EllapsedTime: 254.6 seconds |
| RetCode: 0 |
| Status: OK |
| CheckDir: RTNsurvival.Rcheck |
| Warnings: 0 |
##############################################################################
##############################################################################
###
### Running command:
###
### C:\Users\biocbuild\bbs-3.20-bioc\R\bin\R.exe CMD check --no-multiarch --install=check:RTNsurvival.install-out.txt --library=C:\Users\biocbuild\bbs-3.20-bioc\R\library --no-vignettes --timings RTNsurvival_1.29.0.tar.gz
###
##############################################################################
##############################################################################
* using log directory 'C:/Users/biocbuild/bbs-3.20-bioc/meat/RTNsurvival.Rcheck'
* using R version 4.4.1 (2024-06-14 ucrt)
* using platform: x86_64-w64-mingw32
* R was compiled by
gcc.exe (GCC) 13.2.0
GNU Fortran (GCC) 13.2.0
* running under: Windows Server 2022 x64 (build 20348)
* using session charset: UTF-8
* using option '--no-vignettes'
* checking for file 'RTNsurvival/DESCRIPTION' ... OK
* checking extension type ... Package
* this is package 'RTNsurvival' version '1.29.0'
* package encoding: UTF-8
* checking package namespace information ... OK
* checking package dependencies ... OK
* checking if this is a source package ... OK
* checking if there is a namespace ... OK
* checking for hidden files and directories ... OK
* checking for portable file names ... OK
* checking whether package 'RTNsurvival' can be installed ... OK
* checking installed package size ... OK
* checking package directory ... OK
* checking 'build' directory ... OK
* checking DESCRIPTION meta-information ... OK
* checking top-level files ... OK
* checking for left-over files ... OK
* checking index information ... OK
* checking package subdirectories ... OK
* checking code files for non-ASCII characters ... OK
* checking R files for syntax errors ... OK
* checking whether the package can be loaded ... OK
* checking whether the package can be loaded with stated dependencies ... OK
* checking whether the package can be unloaded cleanly ... OK
* checking whether the namespace can be loaded with stated dependencies ... OK
* checking whether the namespace can be unloaded cleanly ... OK
* checking dependencies in R code ... OK
* checking S3 generic/method consistency ... OK
* checking replacement functions ... OK
* checking foreign function calls ... OK
* checking R code for possible problems ... OK
* checking Rd files ... NOTE
checkRd: (-1) TNS.data.Rd:14: Lost braces
14 | \code{survival.data}{ A data.frame with a subset of samples in the Fletcher2013b package.}
| ^
* checking Rd metadata ... OK
* checking Rd cross-references ... OK
* checking for missing documentation entries ... OK
* checking for code/documentation mismatches ... OK
* checking Rd \usage sections ... OK
* checking Rd contents ... OK
* checking for unstated dependencies in examples ... OK
* checking contents of 'data' directory ... OK
* checking data for non-ASCII characters ... OK
* checking LazyData ... OK
* checking data for ASCII and uncompressed saves ... OK
* checking files in 'vignettes' ... OK
* checking examples ... OK
Examples with CPU (user + system) or elapsed time > 5s
user system elapsed
tnsGSEA2-methods 4.89 0.26 5.16
* checking for unstated dependencies in 'tests' ... OK
* checking tests ...
Running 'runTests.R'
OK
* checking for unstated dependencies in vignettes ... OK
* checking package vignettes ... OK
* checking running R code from vignettes ... SKIPPED
* checking re-building of vignette outputs ... SKIPPED
* checking PDF version of manual ... OK
* DONE
Status: 1 NOTE
See
'C:/Users/biocbuild/bbs-3.20-bioc/meat/RTNsurvival.Rcheck/00check.log'
for details.
RTNsurvival.Rcheck/00install.out
############################################################################## ############################################################################## ### ### Running command: ### ### C:\Users\biocbuild\bbs-3.20-bioc\R\bin\R.exe CMD INSTALL RTNsurvival ### ############################################################################## ############################################################################## * installing to library 'C:/Users/biocbuild/bbs-3.20-bioc/R/library' * installing *source* package 'RTNsurvival' ... ** using staged installation ** R ** data *** moving datasets to lazyload DB ** inst ** byte-compile and prepare package for lazy loading ** help *** installing help indices ** building package indices ** installing vignettes ** testing if installed package can be loaded from temporary location ** testing if installed package can be loaded from final location ** testing if installed package keeps a record of temporary installation path * DONE (RTNsurvival)
RTNsurvival.Rcheck/tests/runTests.Rout
R version 4.4.1 (2024-06-14 ucrt) -- "Race for Your Life"
Copyright (C) 2024 The R Foundation for Statistical Computing
Platform: x86_64-w64-mingw32/x64
R is free software and comes with ABSOLUTELY NO WARRANTY.
You are welcome to redistribute it under certain conditions.
Type 'license()' or 'licence()' for distribution details.
R is a collaborative project with many contributors.
Type 'contributors()' for more information and
'citation()' on how to cite R or R packages in publications.
Type 'demo()' for some demos, 'help()' for on-line help, or
'help.start()' for an HTML browser interface to help.
Type 'q()' to quit R.
> BiocGenerics:::testPackage("RTNsurvival")
RUNIT TEST PROTOCOL -- Tue Jul 16 03:37:39 2024
***********************************************
Number of test functions: 1
Number of errors: 0
Number of failures: 0
1 Test Suite :
RTNsurvival RUnit Tests - 1 test function, 0 errors, 0 failures
Number of test functions: 1
Number of errors: 0
Number of failures: 0
>
> proc.time()
user system elapsed
11.28 0.59 12.26
RTNsurvival.Rcheck/RTNsurvival-Ex.timings
| name | user | system | elapsed | |
| TNS.data | 0 | 0 | 0 | |
| hclust_semisupervised | 0.07 | 0.00 | 0.08 | |
| tni2tnsPreprocess-methods | 0.25 | 0.01 | 0.27 | |
| tnsAREA3-methods | 1.08 | 0.08 | 1.15 | |
| tnsCox-methods | 2.13 | 0.20 | 2.33 | |
| tnsCoxInteraction-methods | 0.9 | 0.1 | 1.0 | |
| tnsGSEA2-methods | 4.89 | 0.26 | 5.16 | |
| tnsGet-methods | 0.82 | 0.27 | 1.08 | |
| tnsInteraction-methods | 0.92 | 0.08 | 1.00 | |
| tnsKM-methods | 3.44 | 0.23 | 2.79 | |
| tnsKmInteraction-methods | 0.84 | 0.13 | 0.97 | |
| tnsPlotCovariates-methods | 1.95 | 0.37 | 2.33 | |
| tnsPlotCox-methods | 1.71 | 0.13 | 2.25 | |
| tnsPlotCoxInteraction-methods | 1.48 | 0.34 | 1.80 | |
| tnsPlotGSEA2-methods | 2.13 | 0.28 | 2.40 | |
| tnsPlotKM-methods | 3.93 | 0.08 | 4.71 | |
| tnsPlotKmInteraction-methods | 0.82 | 0.09 | 0.90 | |
| tnsPlotSRE-methods | 0.93 | 0.05 | 0.99 | |
| tnsSRD-methods | 4.11 | 0.22 | 3.23 | |
| tnsSRE-methods | 0.83 | 0.11 | 0.94 | |
| tnsStratification | 0 | 0 | 0 | |