| Back to Multiple platform build/check report for BioC 3.20: simplified long |
|
This page was generated on 2024-11-20 12:08 -0500 (Wed, 20 Nov 2024).
| Hostname | OS | Arch (*) | R version | Installed pkgs |
|---|---|---|---|---|
| teran2 | Linux (Ubuntu 24.04.1 LTS) | x86_64 | 4.4.2 (2024-10-31) -- "Pile of Leaves" | 4481 |
| nebbiolo2 | Linux (Ubuntu 24.04.1 LTS) | x86_64 | 4.4.2 (2024-10-31) -- "Pile of Leaves" | 4479 |
| palomino8 | Windows Server 2022 Datacenter | x64 | 4.4.2 (2024-10-31 ucrt) -- "Pile of Leaves" | 4359 |
| lconway | macOS 12.7.1 Monterey | x86_64 | 4.4.1 (2024-06-14) -- "Race for Your Life" | 4539 |
| kunpeng2 | Linux (openEuler 22.03 LTS-SP1) | aarch64 | 4.4.1 (2024-06-14) -- "Race for Your Life" | 4493 |
| Click on any hostname to see more info about the system (e.g. compilers) (*) as reported by 'uname -p', except on Windows and Mac OS X | ||||
| Package 1793/2289 | Hostname | OS / Arch | INSTALL | BUILD | CHECK | BUILD BIN | ||||||||
| ROTS 1.34.0 (landing page) Tomi Suomi
| teran2 | Linux (Ubuntu 24.04.1 LTS) / x86_64 | OK | OK | OK | |||||||||
| nebbiolo2 | Linux (Ubuntu 24.04.1 LTS) / x86_64 | OK | OK | OK | ||||||||||
| palomino8 | Windows Server 2022 Datacenter / x64 | OK | OK | OK | OK | |||||||||
| lconway | macOS 12.7.1 Monterey / x86_64 | OK | OK | OK | OK | |||||||||
| kunpeng2 | Linux (openEuler 22.03 LTS-SP1) / aarch64 | OK | OK | OK | ||||||||||
|
To the developers/maintainers of the ROTS package: - Allow up to 24 hours (and sometimes 48 hours) for your latest push to git@git.bioconductor.org:packages/ROTS.git to reflect on this report. See Troubleshooting Build Report for more information. - Use the following Renviron settings to reproduce errors and warnings. - If 'R CMD check' started to fail recently on the Linux builder(s) over a missing dependency, add the missing dependency to 'Suggests:' in your DESCRIPTION file. See Renviron.bioc for more information. - See Martin Grigorov's blog post for how to debug Linux ARM64 related issues on a x86_64 host. |
| Package: ROTS |
| Version: 1.34.0 |
| Command: /home/biocbuild/R/R/bin/R CMD check --install=check:ROTS.install-out.txt --library=/home/biocbuild/R/R/site-library --no-vignettes --timings ROTS_1.34.0.tar.gz |
| StartedAt: 2024-11-20 11:51:32 -0000 (Wed, 20 Nov 2024) |
| EndedAt: 2024-11-20 11:52:29 -0000 (Wed, 20 Nov 2024) |
| EllapsedTime: 57.1 seconds |
| RetCode: 0 |
| Status: OK |
| CheckDir: ROTS.Rcheck |
| Warnings: 0 |
##############################################################################
##############################################################################
###
### Running command:
###
### /home/biocbuild/R/R/bin/R CMD check --install=check:ROTS.install-out.txt --library=/home/biocbuild/R/R/site-library --no-vignettes --timings ROTS_1.34.0.tar.gz
###
##############################################################################
##############################################################################
* using log directory ‘/home/biocbuild/bbs-3.20-bioc/meat/ROTS.Rcheck’
* using R version 4.4.1 (2024-06-14)
* using platform: aarch64-unknown-linux-gnu
* R was compiled by
gcc (GCC) 12.2.1 20220819 (openEuler 12.2.1-14)
GNU Fortran (GCC) 10.3.1
* running under: openEuler 22.03 (LTS-SP1)
* using session charset: UTF-8
* using option ‘--no-vignettes’
* checking for file ‘ROTS/DESCRIPTION’ ... OK
* checking extension type ... Package
* this is package ‘ROTS’ version ‘1.34.0’
* checking package namespace information ... OK
* checking package dependencies ... OK
* checking if this is a source package ... OK
* checking if there is a namespace ... OK
* checking for hidden files and directories ... OK
* checking for portable file names ... OK
* checking for sufficient/correct file permissions ... OK
* checking whether package ‘ROTS’ can be installed ... OK
* used C++ compiler: ‘g++ (conda-forge gcc 14.2.0-1) 14.2.0’
* checking installed package size ... OK
* checking package directory ... OK
* checking ‘build’ directory ... OK
* checking DESCRIPTION meta-information ... OK
* checking top-level files ... OK
* checking for left-over files ... OK
* checking index information ... OK
* checking package subdirectories ... OK
* checking code files for non-ASCII characters ... OK
* checking R files for syntax errors ... OK
* checking whether the package can be loaded ... OK
* checking whether the package can be loaded with stated dependencies ... OK
* checking whether the package can be unloaded cleanly ... OK
* checking whether the namespace can be loaded with stated dependencies ... OK
* checking whether the namespace can be unloaded cleanly ... OK
* checking loading without being on the library search path ... OK
* checking dependencies in R code ... OK
* checking S3 generic/method consistency ... OK
* checking replacement functions ... OK
* checking foreign function calls ... OK
* checking R code for possible problems ... OK
* checking Rd files ... OK
* checking Rd metadata ... OK
* checking Rd cross-references ... OK
* checking for missing documentation entries ... OK
* checking for code/documentation mismatches ... OK
* checking Rd \usage sections ... OK
* checking Rd contents ... OK
* checking for unstated dependencies in examples ... OK
* checking contents of ‘data’ directory ... OK
* checking data for non-ASCII characters ... OK
* checking LazyData ... OK
* checking data for ASCII and uncompressed saves ... OK
* checking line endings in C/C++/Fortran sources/headers ... OK
* checking compiled code ... NOTE
Note: information on .o files is not available
* checking files in ‘vignettes’ ... OK
* checking examples ... OK
* checking for unstated dependencies in ‘tests’ ... OK
* checking tests ...
Running ‘test-all.R’
OK
* checking for unstated dependencies in vignettes ... OK
* checking package vignettes ... OK
* checking running R code from vignettes ... SKIPPED
* checking re-building of vignette outputs ... SKIPPED
* checking PDF version of manual ... OK
* DONE
Status: 1 NOTE
See
‘/home/biocbuild/bbs-3.20-bioc/meat/ROTS.Rcheck/00check.log’
for details.
ROTS.Rcheck/00install.out
##############################################################################
##############################################################################
###
### Running command:
###
### /home/biocbuild/R/R/bin/R CMD INSTALL ROTS
###
##############################################################################
##############################################################################
* installing to library ‘/home/biocbuild/R/R-4.4.1/site-library’
* installing *source* package ‘ROTS’ ...
** using staged installation
** libs
using C++ compiler: ‘g++ (conda-forge gcc 14.2.0-1) 14.2.0’
g++ -std=gnu++17 -I"/home/biocbuild/R/R-4.4.1/include" -DNDEBUG -I'/home/biocbuild/R/R-4.4.1/site-library/Rcpp/include' -I/usr/local/include -fPIC -g -O2 -Wall -c NeedForSpeed1.cpp -o NeedForSpeed1.o
In file included from /home/biocbuild/miniforge3/lib/gcc/aarch64-conda-linux-gnu/14.2.0/include/c++/bits/stl_algo.h:61,
from /home/biocbuild/miniforge3/lib/gcc/aarch64-conda-linux-gnu/14.2.0/include/c++/algorithm:61,
from NeedForSpeed1.cpp:4:
/home/biocbuild/miniforge3/lib/gcc/aarch64-conda-linux-gnu/14.2.0/include/c++/bits/stl_heap.h: In function 'void std::__adjust_heap(_RandomAccessIterator, _Distance, _Distance, _Tp, _Compare) [with _RandomAccessIterator = __gnu_cxx::__normal_iterator<pair<double, double>*, vector<pair<double, double> > >; _Distance = long int; _Tp = pair<double, double>; _Compare = __gnu_cxx::__ops::_Iter_less_iter]':
/home/biocbuild/miniforge3/lib/gcc/aarch64-conda-linux-gnu/14.2.0/include/c++/bits/stl_heap.h:224:5: note: parameter passing for argument of type 'std::pair<double, double>' when C++17 is enabled changed to match C++14 in GCC 10.1
224 | __adjust_heap(_RandomAccessIterator __first, _Distance __holeIndex,
| ^~~~~~~~~~~~~
g++ -std=gnu++17 -I"/home/biocbuild/R/R-4.4.1/include" -DNDEBUG -I'/home/biocbuild/R/R-4.4.1/site-library/Rcpp/include' -I/usr/local/include -fPIC -g -O2 -Wall -c NeedForSpeed2.cpp -o NeedForSpeed2.o
In file included from /home/biocbuild/miniforge3/lib/gcc/aarch64-conda-linux-gnu/14.2.0/include/c++/bits/stl_algo.h:61,
from /home/biocbuild/miniforge3/lib/gcc/aarch64-conda-linux-gnu/14.2.0/include/c++/algorithm:61,
from NeedForSpeed2.cpp:4:
/home/biocbuild/miniforge3/lib/gcc/aarch64-conda-linux-gnu/14.2.0/include/c++/bits/stl_heap.h: In function 'void std::__adjust_heap(_RandomAccessIterator, _Distance, _Distance, _Tp, _Compare) [with _RandomAccessIterator = __gnu_cxx::__normal_iterator<pair<double, double>*, vector<pair<double, double> > >; _Distance = long int; _Tp = pair<double, double>; _Compare = __gnu_cxx::__ops::_Iter_less_iter]':
/home/biocbuild/miniforge3/lib/gcc/aarch64-conda-linux-gnu/14.2.0/include/c++/bits/stl_heap.h:224:5: note: parameter passing for argument of type 'std::pair<double, double>' when C++17 is enabled changed to match C++14 in GCC 10.1
224 | __adjust_heap(_RandomAccessIterator __first, _Distance __holeIndex,
| ^~~~~~~~~~~~~
g++ -std=gnu++17 -I"/home/biocbuild/R/R-4.4.1/include" -DNDEBUG -I'/home/biocbuild/R/R-4.4.1/site-library/Rcpp/include' -I/usr/local/include -fPIC -g -O2 -Wall -c RcppExports.cpp -o RcppExports.o
g++ -std=gnu++17 -I"/home/biocbuild/R/R-4.4.1/include" -DNDEBUG -I'/home/biocbuild/R/R-4.4.1/site-library/Rcpp/include' -I/usr/local/include -fPIC -g -O2 -Wall -c pvalue.cpp -o pvalue.o
g++ -std=gnu++17 -shared -L/home/biocbuild/R/R-4.4.1/lib -L/usr/local/lib -o ROTS.so NeedForSpeed1.o NeedForSpeed2.o RcppExports.o pvalue.o -L/home/biocbuild/R/R-4.4.1/lib -lR
installing to /home/biocbuild/R/R-4.4.1/site-library/00LOCK-ROTS/00new/ROTS/libs
** R
** data
*** moving datasets to lazyload DB
** inst
** byte-compile and prepare package for lazy loading
** help
*** installing help indices
** building package indices
** installing vignettes
** testing if installed package can be loaded from temporary location
** checking absolute paths in shared objects and dynamic libraries
** testing if installed package can be loaded from final location
** testing if installed package keeps a record of temporary installation path
* DONE (ROTS)
ROTS.Rcheck/tests/test-all.Rout
R version 4.4.1 (2024-06-14) -- "Race for Your Life"
Copyright (C) 2024 The R Foundation for Statistical Computing
Platform: aarch64-unknown-linux-gnu
R is free software and comes with ABSOLUTELY NO WARRANTY.
You are welcome to redistribute it under certain conditions.
Type 'license()' or 'licence()' for distribution details.
R is a collaborative project with many contributors.
Type 'contributors()' for more information and
'citation()' on how to cite R or R packages in publications.
Type 'demo()' for some demos, 'help()' for on-line help, or
'help.start()' for an HTML browser interface to help.
Type 'q()' to quit R.
> library(testthat)
> test_check("ROTS")
Loading required package: ROTS
[ FAIL 0 | WARN 8 | SKIP 0 | PASS 51 ]
[ FAIL 0 | WARN 8 | SKIP 0 | PASS 51 ]
>
> proc.time()
user system elapsed
15.722 0.359 16.022
ROTS.Rcheck/ROTS-Ex.timings
| name | user | system | elapsed | |
| ROTS | 4.527 | 0.116 | 4.652 | |
| plot.ROTS | 4.64 | 0.02 | 4.67 | |
| summary.ROTS | 4.596 | 0.012 | 4.618 | |