| Back to Multiple platform build/check report for BioC 3.20: simplified long | 
 | 
This page was generated on 2024-11-20 12:02 -0500 (Wed, 20 Nov 2024).
| Hostname | OS | Arch (*) | R version | Installed pkgs | 
|---|---|---|---|---|
| teran2 | Linux (Ubuntu 24.04.1 LTS) | x86_64 | 4.4.2 (2024-10-31) -- "Pile of Leaves" | 4481 | 
| nebbiolo2 | Linux (Ubuntu 24.04.1 LTS) | x86_64 | 4.4.2 (2024-10-31) -- "Pile of Leaves" | 4479 | 
| palomino8 | Windows Server 2022 Datacenter | x64 | 4.4.2 (2024-10-31 ucrt) -- "Pile of Leaves" | 4359 | 
| lconway | macOS 12.7.1 Monterey | x86_64 | 4.4.1 (2024-06-14) -- "Race for Your Life" | 4539 | 
| kunpeng2 | Linux (openEuler 22.03 LTS-SP1) | aarch64 | 4.4.1 (2024-06-14) -- "Race for Your Life" | 4493 | 
| Click on any hostname to see more info about the system (e.g. compilers) (*) as reported by 'uname -p', except on Windows and Mac OS X | ||||
| Package 1757/2289 | Hostname | OS / Arch | INSTALL | BUILD | CHECK | BUILD BIN | ||||||||
| RImmPort 1.34.0  (landing page) Zicheng Hu 
 | teran2 | Linux (Ubuntu 24.04.1 LTS) / x86_64 | OK | OK | OK |  | ||||||||
| nebbiolo2 | Linux (Ubuntu 24.04.1 LTS) / x86_64 | OK | OK | OK | ||||||||||
| palomino8 | Windows Server 2022 Datacenter / x64 | OK | OK | OK | OK |  | ||||||||
| lconway | macOS 12.7.1 Monterey / x86_64 | OK | OK | OK | OK |  | ||||||||
| kunpeng2 | Linux (openEuler 22.03 LTS-SP1) / aarch64 | OK | OK | OK | ||||||||||
| To the developers/maintainers of the RImmPort package: - Allow up to 24 hours (and sometimes 48 hours) for your latest push to git@git.bioconductor.org:packages/RImmPort.git to reflect on this report. See Troubleshooting Build Report for more information. - Use the following Renviron settings to reproduce errors and warnings. - If 'R CMD check' started to fail recently on the Linux builder(s) over a missing dependency, add the missing dependency to 'Suggests:' in your DESCRIPTION file. See Renviron.bioc for more information. | 
| Package: RImmPort | 
| Version: 1.34.0 | 
| Command: /home/biocbuild/bbs-3.20-bioc/R/bin/R CMD check --install=check:RImmPort.install-out.txt --library=/home/biocbuild/bbs-3.20-bioc/R/site-library --timings RImmPort_1.34.0.tar.gz | 
| StartedAt: 2024-11-20 08:29:21 -0500 (Wed, 20 Nov 2024) | 
| EndedAt: 2024-11-20 08:30:17 -0500 (Wed, 20 Nov 2024) | 
| EllapsedTime: 55.6 seconds | 
| RetCode: 0 | 
| Status: OK | 
| CheckDir: RImmPort.Rcheck | 
| Warnings: 0 | 
##############################################################################
##############################################################################
###
### Running command:
###
###   /home/biocbuild/bbs-3.20-bioc/R/bin/R CMD check --install=check:RImmPort.install-out.txt --library=/home/biocbuild/bbs-3.20-bioc/R/site-library --timings RImmPort_1.34.0.tar.gz
###
##############################################################################
##############################################################################
* using log directory ‘/media/volume/teran2_disk/biocbuild/bbs-3.20-bioc/meat/RImmPort.Rcheck’
* using R version 4.4.2 (2024-10-31)
* using platform: x86_64-pc-linux-gnu
* R was compiled by
    gcc (Ubuntu 13.2.0-23ubuntu4) 13.2.0
    GNU Fortran (Ubuntu 13.2.0-23ubuntu4) 13.2.0
* running under: Ubuntu 24.04.1 LTS
* using session charset: UTF-8
* checking for file ‘RImmPort/DESCRIPTION’ ... OK
* checking extension type ... Package
* this is package ‘RImmPort’ version ‘1.34.0’
* checking package namespace information ... OK
* checking package dependencies ... OK
* checking if this is a source package ... OK
* checking if there is a namespace ... OK
* checking for hidden files and directories ... OK
* checking for portable file names ... OK
* checking for sufficient/correct file permissions ... OK
* checking whether package ‘RImmPort’ can be installed ... OK
* checking installed package size ... OK
* checking package directory ... OK
* checking ‘build’ directory ... OK
* checking DESCRIPTION meta-information ... OK
* checking top-level files ... OK
* checking for left-over files ... OK
* checking index information ... OK
* checking package subdirectories ... OK
* checking code files for non-ASCII characters ... OK
* checking R files for syntax errors ... OK
* checking whether the package can be loaded ... OK
* checking whether the package can be loaded with stated dependencies ... OK
* checking whether the package can be unloaded cleanly ... OK
* checking whether the namespace can be loaded with stated dependencies ... OK
* checking whether the namespace can be unloaded cleanly ... OK
* checking loading without being on the library search path ... OK
* checking dependencies in R code ... OK
* checking S3 generic/method consistency ... OK
* checking replacement functions ... OK
* checking foreign function calls ... OK
* checking R code for possible problems ... NOTE
buildNewSqliteDb: no visible global function definition for
  ‘dbListTables’
Undefined global functions or variables:
  dbListTables
* checking Rd files ... NOTE
checkRd: (-1) SUPPDV.Rd:22-32: Lost braces
    22 | The following table enumerates the values in QNAM and QLABEL variables {
       |                                                                        ^
checkRd: (-1) SUPPFA.Rd:23-28: Lost braces
    23 | The following table enumerates the values in QNAM and QLABEL variables {
       |                                                                        ^
checkRd: (-1) SUPPLB.Rd:22-29: Lost braces
    22 | The following table enumerates the values in QNAM and QLABEL variables {
       |                                                                        ^
checkRd: (-1) SUPPMH.Rd:23-30: Lost braces
    23 | The following table enumerates the values in QNAM and QLABEL variables {
       |                                                                        ^
checkRd: (-1) SUPPPE.Rd:23-28: Lost braces
    23 | The following table enumerates the values in QNAM and QLABEL variables {
       |                                                                        ^
checkRd: (-1) SUPPPF.Rd:22-38: Lost braces
    22 | The following table enumerates the values in QNAM and QLABEL variables {
       |                                                                        ^
checkRd: (-1) SUPPVS.Rd:23-28: Lost braces
    23 | The following table enumerates the values in QNAM and QLABEL variables {
       |                                                                        ^
checkRd: (-1) SUPPZA.Rd:22-39: Lost braces
    22 | The following table enumerates the values in QNAM and QLABEL variables {
       |                                                                        ^
checkRd: (-1) SUPPZB.Rd:22-38: Lost braces
    22 | The following table enumerates the values in QNAM and QLABEL variables {
       |                                                                        ^
checkRd: (-1) SUPPZC.Rd:22-37: Lost braces
    22 | The following table enumerates the values in QNAM and QLABEL variables {
       |                                                                        ^
checkRd: (-1) SUPPZD.Rd:22-37: Lost braces
    22 | The following table enumerates the values in QNAM and QLABEL variables {
       |                                                                        ^
checkRd: (-1) TS.Rd:20-41: Lost braces
    20 | The following table enumerates the values in TSPARMCD and TSPARM variables {
       |                                                                            ^
* checking Rd metadata ... OK
* checking Rd cross-references ... OK
* checking for missing documentation entries ... OK
* checking for code/documentation mismatches ... OK
* checking Rd \usage sections ... OK
* checking Rd contents ... OK
* checking for unstated dependencies in examples ... OK
* checking files in ‘vignettes’ ... OK
* checking examples ... OK
* checking for unstated dependencies in vignettes ... OK
* checking package vignettes ... OK
* checking re-building of vignette outputs ... OK
* checking PDF version of manual ... OK
* DONE
Status: 2 NOTEs
See
  ‘/media/volume/teran2_disk/biocbuild/bbs-3.20-bioc/meat/RImmPort.Rcheck/00check.log’
for details.
RImmPort.Rcheck/00install.out
############################################################################## ############################################################################## ### ### Running command: ### ### /home/biocbuild/bbs-3.20-bioc/R/bin/R CMD INSTALL RImmPort ### ############################################################################## ############################################################################## * installing to library ‘/media/volume/teran2_disk/biocbuild/bbs-3.20-bioc/R/site-library’ * installing *source* package ‘RImmPort’ ... ** using staged installation ** R ** inst ** byte-compile and prepare package for lazy loading ** help *** installing help indices ** building package indices ** installing vignettes ** testing if installed package can be loaded from temporary location ** testing if installed package can be loaded from final location ** testing if installed package keeps a record of temporary installation path * DONE (RImmPort)
RImmPort.Rcheck/RImmPort-Ex.timings
| name | user | system | elapsed | |
| Events-class | 0.246 | 0.053 | 0.690 | |
| Findings-class | 0.144 | 0.027 | 0.174 | |
| Interventions-class | 0.112 | 0.025 | 0.136 | |
| SpecialPurpose-class | 0.126 | 0.013 | 0.139 | |
| Study-class | 0.124 | 0.017 | 0.141 | |
| TrialDesign-class | 0.171 | 0.019 | 0.190 | |
| buildNewSqliteDb | 0.000 | 0.000 | 0.001 | |
| getAssayDataOfStudies | 0.050 | 0.009 | 0.059 | |
| getDomainCode | 0 | 0 | 0 | |
| getDomainDataOfStudies | 0.023 | 0.004 | 0.026 | |
| getListOfAssayTypes | 0 | 0 | 0 | |
| getListOfDomains | 0 | 0 | 0 | |
| getListOfStudies | 0.018 | 0.006 | 0.024 | |
| getStudiesWithSpecificAssayData | 0.023 | 0.003 | 0.027 | |
| getStudiesWithSpecificDomainData | 0.028 | 0.002 | 0.064 | |
| getStudy | 0.146 | 0.018 | 0.330 | |
| loadSerializedStudyData | 0.002 | 0.001 | 0.007 | |
| mergeDomainAndSupplemental | 0.103 | 0.014 | 0.239 | |
| serialzeStudyData | 0.246 | 0.041 | 0.582 | |
| setImmPortDataSource | 0.025 | 0.002 | 0.056 | |