| Back to Multiple platform build/check report for BioC 3.20: simplified long | 
 | 
This page was generated on 2024-11-20 12:02 -0500 (Wed, 20 Nov 2024).
| Hostname | OS | Arch (*) | R version | Installed pkgs | 
|---|---|---|---|---|
| teran2 | Linux (Ubuntu 24.04.1 LTS) | x86_64 | 4.4.2 (2024-10-31) -- "Pile of Leaves" | 4481 | 
| nebbiolo2 | Linux (Ubuntu 24.04.1 LTS) | x86_64 | 4.4.2 (2024-10-31) -- "Pile of Leaves" | 4479 | 
| palomino8 | Windows Server 2022 Datacenter | x64 | 4.4.2 (2024-10-31 ucrt) -- "Pile of Leaves" | 4359 | 
| lconway | macOS 12.7.1 Monterey | x86_64 | 4.4.1 (2024-06-14) -- "Race for Your Life" | 4539 | 
| kunpeng2 | Linux (openEuler 22.03 LTS-SP1) | aarch64 | 4.4.1 (2024-06-14) -- "Race for Your Life" | 4493 | 
| Click on any hostname to see more info about the system (e.g. compilers) (*) as reported by 'uname -p', except on Windows and Mac OS X | ||||
| Package 1547/2289 | Hostname | OS / Arch | INSTALL | BUILD | CHECK | BUILD BIN | ||||||||
| PhyloProfile 1.20.3  (landing page) Vinh Tran 
 | teran2 | Linux (Ubuntu 24.04.1 LTS) / x86_64 | OK | OK | OK |  | ||||||||
| nebbiolo2 | Linux (Ubuntu 24.04.1 LTS) / x86_64 | OK | OK | OK | ||||||||||
| palomino8 | Windows Server 2022 Datacenter / x64 | OK | OK | OK | OK |  | ||||||||
| lconway | macOS 12.7.1 Monterey / x86_64 | OK | OK | OK | OK |  | ||||||||
| kunpeng2 | Linux (openEuler 22.03 LTS-SP1) / aarch64 | OK | OK | OK | ||||||||||
| To the developers/maintainers of the PhyloProfile package: - Allow up to 24 hours (and sometimes 48 hours) for your latest push to git@git.bioconductor.org:packages/PhyloProfile.git to reflect on this report. See Troubleshooting Build Report for more information. - Use the following Renviron settings to reproduce errors and warnings. - If 'R CMD check' started to fail recently on the Linux builder(s) over a missing dependency, add the missing dependency to 'Suggests:' in your DESCRIPTION file. See Renviron.bioc for more information. | 
| Package: PhyloProfile | 
| Version: 1.20.3 | 
| Command: /home/biocbuild/bbs-3.20-bioc/R/bin/R CMD check --install=check:PhyloProfile.install-out.txt --library=/home/biocbuild/bbs-3.20-bioc/R/site-library --timings PhyloProfile_1.20.3.tar.gz | 
| StartedAt: 2024-11-20 07:27:23 -0500 (Wed, 20 Nov 2024) | 
| EndedAt: 2024-11-20 07:30:26 -0500 (Wed, 20 Nov 2024) | 
| EllapsedTime: 182.5 seconds | 
| RetCode: 0 | 
| Status: OK | 
| CheckDir: PhyloProfile.Rcheck | 
| Warnings: 0 | 
##############################################################################
##############################################################################
###
### Running command:
###
###   /home/biocbuild/bbs-3.20-bioc/R/bin/R CMD check --install=check:PhyloProfile.install-out.txt --library=/home/biocbuild/bbs-3.20-bioc/R/site-library --timings PhyloProfile_1.20.3.tar.gz
###
##############################################################################
##############################################################################
* using log directory ‘/media/volume/teran2_disk/biocbuild/bbs-3.20-bioc/meat/PhyloProfile.Rcheck’
* using R version 4.4.2 (2024-10-31)
* using platform: x86_64-pc-linux-gnu
* R was compiled by
    gcc (Ubuntu 13.2.0-23ubuntu4) 13.2.0
    GNU Fortran (Ubuntu 13.2.0-23ubuntu4) 13.2.0
* running under: Ubuntu 24.04.1 LTS
* using session charset: UTF-8
* checking for file ‘PhyloProfile/DESCRIPTION’ ... OK
* this is package ‘PhyloProfile’ version ‘1.20.3’
* package encoding: UTF-8
* checking package namespace information ... OK
* checking package dependencies ... OK
* checking if this is a source package ... OK
* checking if there is a namespace ... OK
* checking for hidden files and directories ... OK
* checking for portable file names ... OK
* checking for sufficient/correct file permissions ... OK
* checking whether package ‘PhyloProfile’ can be installed ... OK
* checking installed package size ... OK
* checking package directory ... OK
* checking ‘build’ directory ... OK
* checking DESCRIPTION meta-information ... OK
* checking top-level files ... OK
* checking for left-over files ... OK
* checking index information ... OK
* checking package subdirectories ... OK
* checking code files for non-ASCII characters ... OK
* checking R files for syntax errors ... OK
* checking whether the package can be loaded ... OK
* checking whether the package can be loaded with stated dependencies ... OK
* checking whether the package can be unloaded cleanly ... OK
* checking whether the namespace can be loaded with stated dependencies ... OK
* checking whether the namespace can be unloaded cleanly ... OK
* checking loading without being on the library search path ... OK
* checking dependencies in R code ... OK
* checking S3 generic/method consistency ... OK
* checking replacement functions ... OK
* checking foreign function calls ... OK
* checking R code for possible problems ... OK
* checking Rd files ... OK
* checking Rd metadata ... OK
* checking Rd cross-references ... OK
* checking for missing documentation entries ... OK
* checking for code/documentation mismatches ... OK
* checking Rd \usage sections ... OK
* checking Rd contents ... OK
* checking for unstated dependencies in examples ... OK
* checking contents of ‘data’ directory ... OK
* checking data for non-ASCII characters ... OK
* checking data for ASCII and uncompressed saves ... OK
* checking files in ‘vignettes’ ... OK
* checking examples ... OK
* checking for unstated dependencies in ‘tests’ ... OK
* checking tests ...
  Running ‘testthat.R’
 OK
* checking for unstated dependencies in vignettes ... OK
* checking package vignettes ... OK
* checking re-building of vignette outputs ... OK
* checking PDF version of manual ... OK
* DONE
Status: OK
PhyloProfile.Rcheck/00install.out
############################################################################## ############################################################################## ### ### Running command: ### ### /home/biocbuild/bbs-3.20-bioc/R/bin/R CMD INSTALL PhyloProfile ### ############################################################################## ############################################################################## * installing to library ‘/media/volume/teran2_disk/biocbuild/bbs-3.20-bioc/R/site-library’ * installing *source* package ‘PhyloProfile’ ... ** using staged installation ** R ** data ** inst ** byte-compile and prepare package for lazy loading ** help *** installing help indices ** building package indices ** installing vignettes ** testing if installed package can be loaded from temporary location ** testing if installed package can be loaded from final location ** testing if installed package keeps a record of temporary installation path * DONE (PhyloProfile)
PhyloProfile.Rcheck/tests/testthat.Rout
R version 4.4.2 (2024-10-31) -- "Pile of Leaves"
Copyright (C) 2024 The R Foundation for Statistical Computing
Platform: x86_64-pc-linux-gnu
R is free software and comes with ABSOLUTELY NO WARRANTY.
You are welcome to redistribute it under certain conditions.
Type 'license()' or 'licence()' for distribution details.
R is a collaborative project with many contributors.
Type 'contributors()' for more information and
'citation()' on how to cite R or R packages in publications.
Type 'demo()' for some demos, 'help()' for on-line help, or
'help.start()' for an HTML browser interface to help.
Type 'q()' to quit R.
> library(testthat)
> library(PhyloProfile)
> 
> test_check("PhyloProfile")
[ FAIL 0 | WARN 0 | SKIP 0 | PASS 20 ]
> 
> proc.time()
   user  system elapsed 
  5.702   1.458   7.618 
PhyloProfile.Rcheck/PhyloProfile-Ex.timings
| name | user | system | elapsed | |
| addFeatureColors | 0.032 | 0.001 | 0.036 | |
| addRankDivisionPlot | 1.104 | 0.058 | 1.172 | |
| addUmapTaxaColors | 0.768 | 0.031 | 0.801 | |
| calcPresSpec | 1.145 | 0.000 | 1.149 | |
| checkColorPalette | 0 | 0 | 0 | |
| checkInputValidity | 0.003 | 0.000 | 0.011 | |
| checkNewick | 0.001 | 0.000 | 0.005 | |
| checkOmaID | 0 | 0 | 0 | |
| checkOverlapDomains | 0.012 | 0.000 | 0.017 | |
| clusterDataDend | 0.011 | 0.000 | 0.011 | |
| compareMedianTaxonGroups | 0.016 | 0.001 | 0.017 | |
| compareTaxonGroups | 0.021 | 0.001 | 0.022 | |
| createArchiPlot | 1.442 | 0.001 | 1.446 | |
| createGeneAgePlot | 0.136 | 0.000 | 0.136 | |
| createLongMatrix | 0.008 | 0.002 | 0.010 | |
| createPercentageDistributionData | 0.066 | 0.005 | 0.097 | |
| createProfileFromOma | 0 | 0 | 0 | |
| createUmapPlotData | 2.312 | 0.061 | 2.419 | |
| createUnrootedTree | 0.009 | 0.000 | 0.009 | |
| createVarDistPlot | 0.099 | 0.001 | 0.100 | |
| createVariableDistributionData | 0.002 | 0.003 | 0.005 | |
| createVariableDistributionDataSubset | 0.004 | 0.001 | 0.005 | |
| dataCustomizedPlot | 0.009 | 0.002 | 0.011 | |
| dataFeatureTaxGroup | 0.007 | 0.001 | 0.009 | |
| dataMainPlot | 0.012 | 0.002 | 0.014 | |
| dataVarDistTaxGroup | 0.002 | 0.001 | 0.003 | |
| estimateGeneAge | 0.077 | 0.003 | 0.083 | |
| fastaParser | 0.022 | 0.001 | 0.025 | |
| featureDistTaxPlot | 0.142 | 0.001 | 0.144 | |
| filterProfileData | 0.061 | 0.007 | 0.067 | |
| fromInputToProfile | 0.060 | 0.002 | 0.062 | |
| geneAgePlotDf | 0.005 | 0.000 | 0.005 | |
| generateSinglePlot | 0.260 | 0.003 | 0.264 | |
| getAllDomainsOma | 0 | 0 | 0 | |
| getAllFastaOma | 0 | 0 | 0 | |
| getCommonAncestor | 0.022 | 0.000 | 0.029 | |
| getCoreGene | 0.050 | 0.006 | 0.055 | |
| getDataClustering | 0.009 | 0.000 | 0.009 | |
| getDataForOneOma | 0 | 0 | 0 | |
| getDendrogram | 0.026 | 0.002 | 0.028 | |
| getDistanceMatrix | 0.007 | 0.001 | 0.008 | |
| getDomainFolder | 0.001 | 0.000 | 0.000 | |
| getFastaFromFasInput | 0.011 | 0.000 | 0.011 | |
| getFastaFromFile | 0.006 | 0.000 | 0.008 | |
| getFastaFromFolder | 0.004 | 0.000 | 0.005 | |
| getIDsRank | 0.013 | 0.000 | 0.013 | |
| getInputTaxaID | 0.002 | 0.000 | 0.001 | |
| getInputTaxaName | 0.007 | 0.000 | 0.006 | |
| getNameList | 0.007 | 0.006 | 0.013 | |
| getOmaDataForOneOrtholog | 0 | 0 | 0 | |
| getOmaDomainFromURL | 0 | 0 | 0 | |
| getOmaMembers | 0 | 0 | 0 | |
| getQualColForVector | 0 | 0 | 0 | |
| getSelectedFastaOma | 0.001 | 0.000 | 0.000 | |
| getSelectedTaxonNames | 0.008 | 0.002 | 0.010 | |
| getTaxHierarchy | 0.009 | 0.001 | 0.010 | |
| getTaxonomyInfo | 0.008 | 0.001 | 0.010 | |
| getTaxonomyMatrix | 0.060 | 0.019 | 0.079 | |
| getTaxonomyRanks | 0.001 | 0.000 | 0.000 | |
| gridArrangeSharedLegend | 0 | 0 | 0 | |
| groupLabelUmapData | 0.031 | 0.002 | 0.032 | |
| heatmapPlotting | 0.165 | 0.001 | 0.166 | |
| heatmapPlottingFast | 3.470 | 0.391 | 3.980 | |
| highlightProfilePlot | 0.805 | 0.001 | 0.808 | |
| id2name | 0.004 | 0.000 | 0.003 | |
| joinPlotMergeLegends | 0.389 | 0.008 | 0.399 | |
| linearizeArchitecture | 0.007 | 0.000 | 0.007 | |
| mainTaxonomyRank | 0.000 | 0.000 | 0.001 | |
| modifyFeatureName | 0.009 | 0.002 | 0.011 | |
| pairDomainPlotting | 0.285 | 0.000 | 0.285 | |
| parseDomainInput | 0.005 | 0.006 | 0.011 | |
| parseInfoProfile | 0.048 | 0.005 | 0.053 | |
| plotUmap | 0.955 | 0.000 | 1.025 | |
| plotUmap3D | 0.934 | 0.006 | 0.947 | |
| prepareUmapData | 0.033 | 0.001 | 0.034 | |
| processNcbiTaxonomy | 0.001 | 0.000 | 0.001 | |
| processOrthoID | 0.046 | 0.966 | 1.216 | |
| qualitativeColours | 0.001 | 0.000 | 0.000 | |
| rankIndexing | 0.032 | 0.001 | 0.056 | |
| reduceProfile | 0.007 | 0.002 | 0.010 | |
| resolveOverlapFeatures | 0.012 | 0.000 | 0.012 | |
| runPhyloProfile | 0 | 0 | 0 | |
| singleDomainPlotting | 0.146 | 0.002 | 0.148 | |
| sortDomains | 0.006 | 0.000 | 0.006 | |
| sortDomainsByList | 0.006 | 0.000 | 0.006 | |
| sortInputTaxa | 0.017 | 0.002 | 0.019 | |
| sortTaxaFromTree | 0.008 | 0.000 | 0.008 | |
| taxonomyTableCreator | 0.060 | 0.000 | 0.062 | |
| umapClustering | 0.785 | 0.000 | 0.787 | |
| umapClustering3D | 0.784 | 0.000 | 0.788 | |
| varDistTaxPlot | 0.572 | 0.000 | 0.580 | |
| wideToLong | 0.007 | 0.000 | 0.008 | |
| xmlParser | 0.011 | 0.001 | 0.014 | |