| Back to Multiple platform build/check report for BioC 3.20: simplified long |
|
This page was generated on 2024-07-16 11:40 -0400 (Tue, 16 Jul 2024).
| Hostname | OS | Arch (*) | R version | Installed pkgs |
|---|---|---|---|---|
| nebbiolo2 | Linux (Ubuntu 22.04.3 LTS) | x86_64 | 4.4.1 (2024-06-14) -- "Race for Your Life" | 4677 |
| palomino6 | Windows Server 2022 Datacenter | x64 | 4.4.1 (2024-06-14 ucrt) -- "Race for Your Life" | 4416 |
| lconway | macOS 12.7.1 Monterey | x86_64 | 4.4.1 (2024-06-14) -- "Race for Your Life" | 4444 |
| kjohnson3 | macOS 13.6.5 Ventura | arm64 | 4.4.1 (2024-06-14) -- "Race for Your Life" | 4393 |
| palomino8 | Windows Server 2022 Datacenter | x64 | 4.4.1 (2024-06-14 ucrt) -- "Race for Your Life" | 4373 |
| Click on any hostname to see more info about the system (e.g. compilers) (*) as reported by 'uname -p', except on Windows and Mac OS X | ||||
| Package 1497/2243 | Hostname | OS / Arch | INSTALL | BUILD | CHECK | BUILD BIN | ||||||||
| Pedixplorer 1.1.0 (landing page) Louis Le Nézet
| nebbiolo2 | Linux (Ubuntu 22.04.3 LTS) / x86_64 | OK | OK | OK | |||||||||
| palomino6 | Windows Server 2022 Datacenter / x64 | OK | OK | OK | OK | |||||||||
| lconway | macOS 12.7.1 Monterey / x86_64 | OK | OK | OK | OK | |||||||||
| kjohnson3 | macOS 13.6.5 Ventura / arm64 | OK | OK | OK | OK | |||||||||
| palomino8 | Windows Server 2022 Datacenter / x64 | OK | OK | OK | OK | |||||||||
|
To the developers/maintainers of the Pedixplorer package: - Allow up to 24 hours (and sometimes 48 hours) for your latest push to git@git.bioconductor.org:packages/Pedixplorer.git to reflect on this report. See Troubleshooting Build Report for more information. - Use the following Renviron settings to reproduce errors and warnings. - If 'R CMD check' started to fail recently on the Linux builder(s) over a missing dependency, add the missing dependency to 'Suggests:' in your DESCRIPTION file. See Renviron.bioc for more information. |
| Package: Pedixplorer |
| Version: 1.1.0 |
| Command: C:\Users\biocbuild\bbs-3.20-bioc\R\bin\R.exe CMD check --no-multiarch --install=check:Pedixplorer.install-out.txt --library=C:\Users\biocbuild\bbs-3.20-bioc\R\library --no-vignettes --timings Pedixplorer_1.1.0.tar.gz |
| StartedAt: 2024-07-16 02:41:12 -0400 (Tue, 16 Jul 2024) |
| EndedAt: 2024-07-16 02:43:45 -0400 (Tue, 16 Jul 2024) |
| EllapsedTime: 152.6 seconds |
| RetCode: 0 |
| Status: OK |
| CheckDir: Pedixplorer.Rcheck |
| Warnings: 0 |
##############################################################################
##############################################################################
###
### Running command:
###
### C:\Users\biocbuild\bbs-3.20-bioc\R\bin\R.exe CMD check --no-multiarch --install=check:Pedixplorer.install-out.txt --library=C:\Users\biocbuild\bbs-3.20-bioc\R\library --no-vignettes --timings Pedixplorer_1.1.0.tar.gz
###
##############################################################################
##############################################################################
* using log directory 'C:/Users/biocbuild/bbs-3.20-bioc/meat/Pedixplorer.Rcheck'
* using R version 4.4.1 (2024-06-14 ucrt)
* using platform: x86_64-w64-mingw32
* R was compiled by
gcc.exe (GCC) 13.2.0
GNU Fortran (GCC) 13.2.0
* running under: Windows Server 2022 x64 (build 20348)
* using session charset: UTF-8
* using option '--no-vignettes'
* checking for file 'Pedixplorer/DESCRIPTION' ... OK
* this is package 'Pedixplorer' version '1.1.0'
* package encoding: UTF-8
* checking package namespace information ... OK
* checking package dependencies ... OK
* checking if this is a source package ... OK
* checking if there is a namespace ... OK
* checking for hidden files and directories ... OK
* checking for portable file names ... OK
* checking whether package 'Pedixplorer' can be installed ... OK
* checking installed package size ... OK
* checking package directory ... OK
* checking 'build' directory ... OK
* checking DESCRIPTION meta-information ... OK
* checking top-level files ... OK
* checking for left-over files ... OK
* checking index information ... OK
* checking package subdirectories ... OK
* checking code files for non-ASCII characters ... OK
* checking R files for syntax errors ... OK
* checking whether the package can be loaded ... OK
* checking whether the package can be loaded with stated dependencies ... OK
* checking whether the package can be unloaded cleanly ... OK
* checking whether the namespace can be loaded with stated dependencies ... OK
* checking whether the namespace can be unloaded cleanly ... OK
* checking dependencies in R code ... OK
* checking S3 generic/method consistency ... OK
* checking replacement functions ... OK
* checking foreign function calls ... OK
* checking R code for possible problems ... OK
* checking Rd files ... NOTE
checkRd: (-1) Pedixplorer_package.Rd:19: Lost braces
19 | \\url{https://cran.r-project.org/package=kinship2} for the
| ^
* checking Rd metadata ... OK
* checking Rd cross-references ... OK
* checking for missing documentation entries ... OK
* checking for code/documentation mismatches ... OK
* checking Rd \usage sections ... OK
* checking Rd contents ... OK
* checking for unstated dependencies in examples ... OK
* checking contents of 'data' directory ... OK
* checking data for non-ASCII characters ... OK
* checking data for ASCII and uncompressed saves ... OK
* checking files in 'vignettes' ... OK
* checking examples ... OK
Examples with CPU (user + system) or elapsed time > 5s
user system elapsed
shrink 5.67 0 5.69
* checking for unstated dependencies in 'tests' ... OK
* checking tests ...
Running 'testthat.R'
OK
* checking for unstated dependencies in vignettes ... OK
* checking package vignettes ... OK
* checking running R code from vignettes ... SKIPPED
* checking re-building of vignette outputs ... SKIPPED
* checking PDF version of manual ... OK
* DONE
Status: 1 NOTE
See
'C:/Users/biocbuild/bbs-3.20-bioc/meat/Pedixplorer.Rcheck/00check.log'
for details.
Pedixplorer.Rcheck/00install.out
############################################################################## ############################################################################## ### ### Running command: ### ### C:\Users\biocbuild\bbs-3.20-bioc\R\bin\R.exe CMD INSTALL Pedixplorer ### ############################################################################## ############################################################################## * installing to library 'C:/Users/biocbuild/bbs-3.20-bioc/R/library' * installing *source* package 'Pedixplorer' ... ** using staged installation ** R ** data ** inst ** byte-compile and prepare package for lazy loading ** help *** installing help indices ** building package indices ** installing vignettes ** testing if installed package can be loaded from temporary location ** testing if installed package can be loaded from final location ** testing if installed package keeps a record of temporary installation path * DONE (Pedixplorer)
Pedixplorer.Rcheck/tests/testthat.Rout
R version 4.4.1 (2024-06-14 ucrt) -- "Race for Your Life"
Copyright (C) 2024 The R Foundation for Statistical Computing
Platform: x86_64-w64-mingw32/x64
R is free software and comes with ABSOLUTELY NO WARRANTY.
You are welcome to redistribute it under certain conditions.
Type 'license()' or 'licence()' for distribution details.
R is a collaborative project with many contributors.
Type 'contributors()' for more information and
'citation()' on how to cite R or R packages in publications.
Type 'demo()' for some demos, 'help()' for on-line help, or
'help.start()' for an HTML browser interface to help.
Type 'q()' to quit R.
> # This file is part of the standard setup for testthat.
> # It is recommended that you do not modify it.
> #
> # Where should you do additional test configuration?
> # Learn more about the roles of various files in:
> # * https://r-pkgs.org/tests.html
> # * https://testthat.r-lib.org/reference/test_package.html#special-files
>
> library(withr)
> library(testthat)
> library(Pedixplorer)
> library(vdiffr)
>
> withr::local_options(width = 150)
> test_check("Pedixplorer")
[ FAIL 0 | WARN 0 | SKIP 22 | PASS 200 ]
══ Skipped tests (22) ════════════════════════════════════════════════════════════════════════════════════════════════════════════════════════════════
• On CRAN (22): 'test-align.R:28:5', 'test-align.R:74:5', 'test-align.R:90:5', 'test-class.R:18:5', 'test-class.R:126:5', 'test-class.R:169:5',
'test-class.R:214:5', 'test-fix_parents.R:5:5', 'test-fix_parents.R:20:5', 'test-fix_parents.R:34:5', 'test-fix_parents.R:50:5',
'test-is_informative.R:70:5', 'test-kindepth.R:43:5', 'test-kinship.R:136:5', 'test-norm_data.R:24:5', 'test-norm_data.R:47:5',
'test-ped_to_legdf.R:27:5', 'test-plot.R:29:5', 'test-plot.R:57:5', 'test-shrink.R:20:5', 'test-shrink.R:130:5', 'test-useful_inds.R:32:5'
[ FAIL 0 | WARN 0 | SKIP 22 | PASS 200 ]
Deleting unused snapshots:
• align/sampleped-norel.svg
• kindepth/double-marriage.svg
• ped_to_legdf/legend-alone.svg
• ped_to_legdf/plot-with-legend.svg
• plot/ped-2-affections-ggplot.svg
• plot/ped-simple-affection-ggplot.svg
• plot/ped1reorder.svg
• shrink/pedigree-shrink-2.svg
• shrink/shrinked-ped.svg
> TRUE
[1] TRUE
>
> proc.time()
user system elapsed
35.59 1.84 37.15
Ran 1/1 deferred expressions
Pedixplorer.Rcheck/Pedixplorer-Ex.timings
| name | user | system | elapsed | |
| Hints-class | 0.02 | 0.00 | 0.01 | |
| Ped-class | 0.22 | 0.05 | 0.26 | |
| Pedigree-class | 0.42 | 0.06 | 0.48 | |
| Pedixplorer_package | 0 | 0 | 0 | |
| Rel-class | 0.02 | 0.00 | 0.02 | |
| Scales-class | 0 | 0 | 0 | |
| align | 0.51 | 0.02 | 0.56 | |
| alignped1 | 0.24 | 0.01 | 0.25 | |
| alignped2 | 0.25 | 0.00 | 0.25 | |
| alignped3 | 0.26 | 0.00 | 0.26 | |
| alignped4 | 0.27 | 0.00 | 0.27 | |
| ancestors | 0 | 0 | 0 | |
| anchor_to_factor | 0 | 0 | 0 | |
| auto_hint | 0.13 | 0.00 | 0.13 | |
| best_hint | 0.51 | 0.02 | 0.53 | |
| bit_size | 0.11 | 0.00 | 0.11 | |
| check_columns | 0 | 0 | 0 | |
| circfun | 0 | 0 | 0 | |
| descendants | 0.11 | 0.00 | 0.11 | |
| family_check | 0.17 | 0.00 | 0.17 | |
| find_avail_affected | 0.77 | 0.00 | 0.76 | |
| find_avail_noninform | 0.18 | 0.00 | 0.19 | |
| find_unavailable | 0.16 | 0.00 | 0.16 | |
| fix_parents | 0.03 | 0.00 | 0.03 | |
| generate_aff_inds | 0 | 0 | 0 | |
| generate_border | 0 | 0 | 0 | |
| generate_colors | 0.17 | 0.34 | 0.51 | |
| generate_fill | 0 | 0 | 0 | |
| is_disconnected | 0.05 | 0.00 | 0.05 | |
| is_founder | 0 | 0 | 0 | |
| is_informative | 0.13 | 0.00 | 0.13 | |
| is_parent | 0.11 | 0.00 | 0.11 | |
| kindepth | 0.12 | 0.00 | 0.13 | |
| kinship | 0.30 | 0.03 | 0.32 | |
| make_famid | 0.12 | 0.01 | 0.16 | |
| min_dist_inf | 0.19 | 0.00 | 0.19 | |
| minnbreast | 1.45 | 0.07 | 1.50 | |
| na_to_length | 0 | 0 | 0 | |
| norm_ped | 0 | 0 | 0 | |
| norm_rel | 0.02 | 0.00 | 0.01 | |
| num_child | 0.22 | 0.00 | 0.22 | |
| ped_to_legdf | 0.17 | 0.00 | 0.17 | |
| ped_to_plotdf | 0.22 | 0.00 | 0.24 | |
| plot-Pedigree-missing-method | 0.11 | 0.00 | 0.11 | |
| plot_fromdf | 0.35 | 0.01 | 0.36 | |
| polyfun | 0 | 0 | 0 | |
| polygons | 0 | 0 | 0 | |
| rel_code_to_factor | 0 | 0 | 0 | |
| sampleped | 0.39 | 0.00 | 0.39 | |
| sex_to_factor | 0 | 0 | 0 | |
| shrink | 5.67 | 0.00 | 5.69 | |
| unrelated | 0.15 | 0.00 | 0.17 | |
| upd_famid_id | 0.28 | 0.00 | 0.28 | |
| useful_inds | 0.11 | 0.03 | 0.14 | |
| vect_to_binary | 0 | 0 | 0 | |