| Back to Multiple platform build/check report for BioC 3.20: simplified long |
|
This page was generated on 2025-04-02 19:36 -0400 (Wed, 02 Apr 2025).
| Hostname | OS | Arch (*) | R version | Installed pkgs |
|---|---|---|---|---|
| nebbiolo2 | Linux (Ubuntu 24.04.1 LTS) | x86_64 | 4.4.3 (2025-02-28) -- "Trophy Case" | 4764 |
| palomino8 | Windows Server 2022 Datacenter | x64 | 4.4.3 (2025-02-28 ucrt) -- "Trophy Case" | 4495 |
| merida1 | macOS 12.7.5 Monterey | x86_64 | 4.4.3 (2025-02-28) -- "Trophy Case" | 4522 |
| kjohnson1 | macOS 13.6.6 Ventura | arm64 | 4.4.3 (2025-02-28) -- "Trophy Case" | 4449 |
| taishan | Linux (openEuler 24.03 LTS) | aarch64 | 4.4.3 (2025-02-28) -- "Trophy Case" | 4426 |
| Click on any hostname to see more info about the system (e.g. compilers) (*) as reported by 'uname -p', except on Windows and Mac OS X | ||||
| Package 1604/2289 | Hostname | OS / Arch | INSTALL | BUILD | CHECK | BUILD BIN | ||||||||
| PRONE 1.0.7 (landing page) Lis Arend
| nebbiolo2 | Linux (Ubuntu 24.04.1 LTS) / x86_64 | OK | OK | OK | |||||||||
| palomino8 | Windows Server 2022 Datacenter / x64 | OK | OK | OK | OK | |||||||||
| merida1 | macOS 12.7.5 Monterey / x86_64 | OK | OK | OK | OK | |||||||||
| kjohnson1 | macOS 13.6.6 Ventura / arm64 | OK | OK | OK | OK | |||||||||
| taishan | Linux (openEuler 24.03 LTS) / aarch64 | OK | OK | OK | ||||||||||
|
To the developers/maintainers of the PRONE package: - Allow up to 24 hours (and sometimes 48 hours) for your latest push to git@git.bioconductor.org:packages/PRONE.git to reflect on this report. See Troubleshooting Build Report for more information. - Use the following Renviron settings to reproduce errors and warnings. - If 'R CMD check' started to fail recently on the Linux builder(s) over a missing dependency, add the missing dependency to 'Suggests:' in your DESCRIPTION file. See Renviron.bioc for more information. - See Martin Grigorov's blog post for how to debug Linux ARM64 related issues on a x86_64 host. |
| Package: PRONE |
| Version: 1.0.7 |
| Command: /home/biocbuild/R/R/bin/R CMD check --install=check:PRONE.install-out.txt --library=/home/biocbuild/R/R/site-library --no-vignettes --timings PRONE_1.0.7.tar.gz |
| StartedAt: 2025-04-01 09:35:41 -0000 (Tue, 01 Apr 2025) |
| EndedAt: 2025-04-01 09:41:59 -0000 (Tue, 01 Apr 2025) |
| EllapsedTime: 378.4 seconds |
| RetCode: 0 |
| Status: OK |
| CheckDir: PRONE.Rcheck |
| Warnings: 0 |
##############################################################################
##############################################################################
###
### Running command:
###
### /home/biocbuild/R/R/bin/R CMD check --install=check:PRONE.install-out.txt --library=/home/biocbuild/R/R/site-library --no-vignettes --timings PRONE_1.0.7.tar.gz
###
##############################################################################
##############################################################################
* using log directory ‘/home/biocbuild/bbs-3.20-bioc/meat/PRONE.Rcheck’
* using R version 4.4.3 (2025-02-28)
* using platform: aarch64-unknown-linux-gnu
* R was compiled by
aarch64-unknown-linux-gnu-gcc (GCC) 14.2.0
GNU Fortran (GCC) 14.2.0
* running under: openEuler 24.03 (LTS)
* using session charset: UTF-8
* using option ‘--no-vignettes’
* checking for file ‘PRONE/DESCRIPTION’ ... OK
* checking extension type ... Package
* this is package ‘PRONE’ version ‘1.0.7’
* package encoding: UTF-8
* checking package namespace information ... OK
* checking package dependencies ... OK
* checking if this is a source package ... OK
* checking if there is a namespace ... OK
* checking for hidden files and directories ... OK
* checking for portable file names ... OK
* checking for sufficient/correct file permissions ... OK
* checking whether package ‘PRONE’ can be installed ... OK
* checking installed package size ... OK
* checking package directory ... OK
* checking ‘build’ directory ... OK
* checking DESCRIPTION meta-information ... OK
* checking top-level files ... OK
* checking for left-over files ... OK
* checking index information ... OK
* checking package subdirectories ... OK
* checking code files for non-ASCII characters ... OK
* checking R files for syntax errors ... OK
* checking whether the package can be loaded ... OK
* checking whether the package can be loaded with stated dependencies ... OK
* checking whether the package can be unloaded cleanly ... OK
* checking whether the namespace can be loaded with stated dependencies ... OK
* checking whether the namespace can be unloaded cleanly ... OK
* checking loading without being on the library search path ... OK
* checking dependencies in R code ... NOTE
Unexported objects imported by ':::' calls:
‘NormalyzerDE:::calculateAvgMadMem’
‘NormalyzerDE:::calculateAvgReplicateVariation’
‘NormalyzerDE:::calculatePercentageAvgDiffInMat’
‘NormalyzerDE:::calculateReplicateCV’
‘NormalyzerDE:::calculateSummarizedCorrelationVector’
See the note in ?`:::` about the use of this operator.
* checking S3 generic/method consistency ... OK
* checking replacement functions ... OK
* checking foreign function calls ... OK
* checking R code for possible problems ... OK
* checking Rd files ... OK
* checking Rd metadata ... OK
* checking Rd cross-references ... OK
* checking for missing documentation entries ... OK
* checking for code/documentation mismatches ... OK
* checking Rd \usage sections ... OK
* checking Rd contents ... OK
* checking for unstated dependencies in examples ... OK
* checking contents of ‘data’ directory ... OK
* checking data for non-ASCII characters ... OK
* checking data for ASCII and uncompressed saves ... OK
* checking files in ‘vignettes’ ... OK
* checking examples ... OK
Examples with CPU (user + system) or elapsed time > 5s
user system elapsed
plot_heatmap 5.713 0.064 5.794
plot_boxplots 5.660 0.088 5.756
normalize_se 5.510 0.184 5.708
normalize_se_combination 5.282 0.140 5.434
normalize_se_single 5.284 0.059 5.356
normicsNorm 5.092 0.112 5.216
* checking for unstated dependencies in vignettes ... OK
* checking package vignettes ... OK
* checking running R code from vignettes ... SKIPPED
* checking re-building of vignette outputs ... SKIPPED
* checking PDF version of manual ... OK
* DONE
Status: 1 NOTE
See
‘/home/biocbuild/bbs-3.20-bioc/meat/PRONE.Rcheck/00check.log’
for details.
PRONE.Rcheck/00install.out
############################################################################## ############################################################################## ### ### Running command: ### ### /home/biocbuild/R/R/bin/R CMD INSTALL PRONE ### ############################################################################## ############################################################################## * installing to library ‘/home/biocbuild/R/R-4.4.3/site-library’ * installing *source* package ‘PRONE’ ... ** using staged installation ** R ** data ** inst ** byte-compile and prepare package for lazy loading ** help *** installing help indices *** copying figures ** building package indices ** installing vignettes ** testing if installed package can be loaded from temporary location ** testing if installed package can be loaded from final location ** testing if installed package keeps a record of temporary installation path * DONE (PRONE)
PRONE.Rcheck/PRONE-Ex.timings
| name | user | system | elapsed | |
| apply_thresholds | 0.030 | 0.004 | 0.034 | |
| detect_outliers_POMA | 1.252 | 0.048 | 1.302 | |
| eigenMSNorm | 1.668 | 0.056 | 1.728 | |
| export_data | 0.024 | 0.000 | 0.024 | |
| extract_consensus_DE_candidates | 0.092 | 0.004 | 0.097 | |
| filter_out_NA_proteins_by_threshold | 0.279 | 0.004 | 0.282 | |
| filter_out_complete_NA_proteins | 0.051 | 0.008 | 0.058 | |
| filter_out_proteins_by_ID | 0.208 | 0.020 | 0.229 | |
| filter_out_proteins_by_value | 0.218 | 0.024 | 0.242 | |
| get_NA_overview | 0.031 | 0.016 | 0.047 | |
| get_normalization_methods | 0 | 0 | 0 | |
| get_overview_DE | 0.038 | 0.011 | 0.049 | |
| get_proteins_by_value | 0.203 | 0.027 | 0.231 | |
| get_spiked_stats_DE | 0.086 | 0.004 | 0.090 | |
| globalIntNorm | 0.210 | 0.011 | 0.223 | |
| globalMeanNorm | 0.182 | 0.001 | 0.182 | |
| globalMedianNorm | 0.183 | 0.000 | 0.183 | |
| impute_se | 0.973 | 0.035 | 1.005 | |
| irsNorm | 0.063 | 0.012 | 0.075 | |
| limmaNorm | 0.095 | 0.000 | 0.095 | |
| load_data | 0.076 | 0.000 | 0.079 | |
| load_spike_data | 0.046 | 0.008 | 0.056 | |
| loessCycNorm | 0.166 | 0.012 | 0.179 | |
| loessFNorm | 0.123 | 0.004 | 0.127 | |
| meanNorm | 0.049 | 0.000 | 0.049 | |
| medianAbsDevNorm | 0.129 | 0.004 | 0.133 | |
| medianNorm | 0.066 | 0.008 | 0.074 | |
| normalize_se | 5.510 | 0.184 | 5.708 | |
| normalize_se_combination | 5.282 | 0.140 | 5.434 | |
| normalize_se_single | 5.284 | 0.059 | 5.356 | |
| normicsNorm | 5.092 | 0.112 | 5.216 | |
| plot_NA_density | 0.401 | 0.000 | 0.401 | |
| plot_NA_frequency | 0.244 | 0.000 | 0.244 | |
| plot_NA_heatmap | 1.869 | 0.064 | 1.938 | |
| plot_PCA | 1.450 | 0.000 | 1.454 | |
| plot_ROC_AUC_spiked | 2.161 | 0.052 | 2.219 | |
| plot_TP_FP_spiked_bar | 0.333 | 0.020 | 0.354 | |
| plot_TP_FP_spiked_box | 0.446 | 0.008 | 0.455 | |
| plot_TP_FP_spiked_scatter | 0.487 | 0.008 | 0.497 | |
| plot_boxplots | 5.660 | 0.088 | 5.756 | |
| plot_condition_overview | 0.253 | 0.000 | 0.253 | |
| plot_densities | 3.465 | 0.080 | 3.549 | |
| plot_fold_changes_spiked | 0.584 | 0.004 | 0.588 | |
| plot_heatmap | 5.713 | 0.064 | 5.794 | |
| plot_heatmap_DE | 1.756 | 0.003 | 1.764 | |
| plot_histogram_spiked | 0.420 | 0.004 | 0.424 | |
| plot_identified_spiked_proteins | 0.545 | 0.003 | 0.550 | |
| plot_intersection_enrichment | 0.791 | 0.016 | 2.231 | |
| plot_intragroup_PCV | 0.690 | 0.001 | 0.691 | |
| plot_intragroup_PEV | 0.439 | 0.015 | 0.457 | |
| plot_intragroup_PMAD | 0.463 | 0.012 | 0.480 | |
| plot_intragroup_correlation | 0.496 | 0.020 | 0.521 | |
| plot_jaccard_heatmap | 0.315 | 0.016 | 0.332 | |
| plot_logFC_thresholds_spiked | 0.749 | 0.056 | 0.812 | |
| plot_markers_boxplots | 1.012 | 0.087 | 1.102 | |
| plot_nr_prot_samples | 0.349 | 0.012 | 0.363 | |
| plot_overview_DE_bar | 0.450 | 0.016 | 0.467 | |
| plot_overview_DE_tile | 0.258 | 0.000 | 0.260 | |
| plot_profiles_spiked | 1.028 | 0.060 | 1.090 | |
| plot_pvalues_spiked | 0.589 | 0.040 | 0.631 | |
| plot_stats_spiked_heatmap | 0.372 | 0.032 | 0.405 | |
| plot_tot_int_samples | 0.295 | 0.016 | 0.312 | |
| plot_upset | 0.892 | 0.055 | 0.951 | |
| plot_upset_DE | 1.099 | 0.016 | 1.124 | |
| plot_volcano_DE | 4.114 | 0.159 | 4.288 | |
| quantileNorm | 0.050 | 0.000 | 0.052 | |
| readPRONE_example | 0.001 | 0.000 | 0.001 | |
| remove_POMA_outliers | 0.764 | 0.064 | 0.830 | |
| remove_assays_from_SE | 0.058 | 0.000 | 0.058 | |
| remove_reference_samples | 0.039 | 0.000 | 0.039 | |
| remove_samples_manually | 0.041 | 0.004 | 0.046 | |
| rlrMACycNorm | 1.035 | 0.048 | 1.087 | |
| rlrMANorm | 0.128 | 0.000 | 0.128 | |
| rlrNorm | 0.098 | 0.011 | 0.111 | |
| robnormNorm | 0.104 | 0.004 | 0.108 | |
| run_DE | 3.349 | 0.068 | 3.420 | |
| specify_comparisons | 0.029 | 0.000 | 0.030 | |
| subset_SE_by_norm | 0.102 | 0.016 | 0.119 | |
| tmmNorm | 0.217 | 0.028 | 0.246 | |
| vsnNorm | 0.088 | 0.004 | 0.093 | |