| Back to Multiple platform build/check report for BioC 3.20: simplified long |
|
This page was generated on 2025-04-02 19:32 -0400 (Wed, 02 Apr 2025).
| Hostname | OS | Arch (*) | R version | Installed pkgs |
|---|---|---|---|---|
| nebbiolo2 | Linux (Ubuntu 24.04.1 LTS) | x86_64 | 4.4.3 (2025-02-28) -- "Trophy Case" | 4764 |
| palomino8 | Windows Server 2022 Datacenter | x64 | 4.4.3 (2025-02-28 ucrt) -- "Trophy Case" | 4495 |
| merida1 | macOS 12.7.5 Monterey | x86_64 | 4.4.3 (2025-02-28) -- "Trophy Case" | 4522 |
| kjohnson1 | macOS 13.6.6 Ventura | arm64 | 4.4.3 (2025-02-28) -- "Trophy Case" | 4449 |
| taishan | Linux (openEuler 24.03 LTS) | aarch64 | 4.4.3 (2025-02-28) -- "Trophy Case" | 4426 |
| Click on any hostname to see more info about the system (e.g. compilers) (*) as reported by 'uname -p', except on Windows and Mac OS X | ||||
| Package 1462/2289 | Hostname | OS / Arch | INSTALL | BUILD | CHECK | BUILD BIN | ||||||||
| OncoSimulR 4.8.0 (landing page) Ramon Diaz-Uriarte
| nebbiolo2 | Linux (Ubuntu 24.04.1 LTS) / x86_64 | OK | OK | OK | |||||||||
| palomino8 | Windows Server 2022 Datacenter / x64 | OK | OK | OK | OK | |||||||||
| merida1 | macOS 12.7.5 Monterey / x86_64 | OK | OK | OK | OK | |||||||||
| kjohnson1 | macOS 13.6.6 Ventura / arm64 | ... NOT SUPPORTED ... | ||||||||||||
| taishan | Linux (openEuler 24.03 LTS) / aarch64 | OK | OK | OK | ||||||||||
|
To the developers/maintainers of the OncoSimulR package: - Allow up to 24 hours (and sometimes 48 hours) for your latest push to git@git.bioconductor.org:packages/OncoSimulR.git to reflect on this report. See Troubleshooting Build Report for more information. - Use the following Renviron settings to reproduce errors and warnings. - If 'R CMD check' started to fail recently on the Linux builder(s) over a missing dependency, add the missing dependency to 'Suggests:' in your DESCRIPTION file. See Renviron.bioc for more information. |
| Package: OncoSimulR |
| Version: 4.8.0 |
| Command: /Library/Frameworks/R.framework/Resources/bin/R CMD check --install=check:OncoSimulR.install-out.txt --library=/Library/Frameworks/R.framework/Resources/library --no-vignettes --timings OncoSimulR_4.8.0.tar.gz |
| StartedAt: 2025-04-01 06:42:45 -0400 (Tue, 01 Apr 2025) |
| EndedAt: 2025-04-01 06:53:24 -0400 (Tue, 01 Apr 2025) |
| EllapsedTime: 638.3 seconds |
| RetCode: 0 |
| Status: OK |
| CheckDir: OncoSimulR.Rcheck |
| Warnings: 0 |
##############################################################################
##############################################################################
###
### Running command:
###
### /Library/Frameworks/R.framework/Resources/bin/R CMD check --install=check:OncoSimulR.install-out.txt --library=/Library/Frameworks/R.framework/Resources/library --no-vignettes --timings OncoSimulR_4.8.0.tar.gz
###
##############################################################################
##############################################################################
* using log directory ‘/Users/biocbuild/bbs-3.20-bioc/meat/OncoSimulR.Rcheck’
* using R version 4.4.3 (2025-02-28)
* using platform: x86_64-apple-darwin20
* R was compiled by
Apple clang version 14.0.0 (clang-1400.0.29.202)
GNU Fortran (GCC) 12.2.0
* running under: macOS Monterey 12.7.6
* using session charset: UTF-8
* using option ‘--no-vignettes’
* checking for file ‘OncoSimulR/DESCRIPTION’ ... OK
* checking extension type ... Package
* this is package ‘OncoSimulR’ version ‘4.8.0’
* checking package namespace information ... OK
* checking package dependencies ... OK
* checking if this is a source package ... OK
* checking if there is a namespace ... OK
* checking for hidden files and directories ... NOTE
Found the following hidden files and directories:
.BBSoptions
These were most likely included in error. See section ‘Package
structure’ in the ‘Writing R Extensions’ manual.
* checking for portable file names ... OK
* checking for sufficient/correct file permissions ... OK
* checking whether package ‘OncoSimulR’ can be installed ... OK
* used C compiler: ‘Apple clang version 14.0.0 (clang-1400.0.29.202)’
* used C++ compiler: ‘Apple clang version 14.0.0 (clang-1400.0.29.202)’
* used SDK: ‘MacOSX11.3.sdk’
* checking installed package size ... NOTE
installed size is 9.4Mb
sub-directories of 1Mb or more:
libs 7.9Mb
* checking package directory ... OK
* checking ‘build’ directory ... OK
* checking DESCRIPTION meta-information ... OK
* checking top-level files ... OK
* checking for left-over files ... OK
* checking index information ... OK
* checking package subdirectories ... OK
* checking code files for non-ASCII characters ... OK
* checking R files for syntax errors ... OK
* checking whether the package can be loaded ... OK
* checking whether the package can be loaded with stated dependencies ... OK
* checking whether the package can be unloaded cleanly ... OK
* checking whether the namespace can be loaded with stated dependencies ... OK
* checking whether the namespace can be unloaded cleanly ... OK
* checking whether startup messages can be suppressed ... OK
* checking dependencies in R code ... OK
* checking S3 generic/method consistency ... OK
* checking replacement functions ... OK
* checking foreign function calls ... OK
* checking R code for possible problems ... OK
* checking Rd files ... OK
* checking Rd metadata ... OK
* checking Rd cross-references ... OK
* checking for missing documentation entries ... OK
* checking for code/documentation mismatches ... OK
* checking Rd \usage sections ... OK
* checking Rd contents ... OK
* checking for unstated dependencies in examples ... OK
* checking contents of ‘data’ directory ... OK
* checking data for non-ASCII characters ... OK
* checking data for ASCII and uncompressed saves ... OK
* checking line endings in C/C++/Fortran sources/headers ... OK
* checking line endings in Makefiles ... OK
* checking compilation flags in Makevars ... OK
* checking for GNU extensions in Makefiles ... OK
* checking for portable use of $(BLAS_LIBS) and $(LAPACK_LIBS) ... OK
* checking use of PKG_*FLAGS in Makefiles ... OK
* checking include directives in Makefiles ... OK
* checking compiled code ... NOTE
Note: information on .o files is not available
* checking files in ‘vignettes’ ... OK
* checking examples ... OK
* checking for unstated dependencies in ‘tests’ ... OK
* checking tests ...
Running ‘testthat.R’
OK
* checking for unstated dependencies in vignettes ... OK
* checking package vignettes ... OK
* checking running R code from vignettes ... SKIPPED
* checking re-building of vignette outputs ... SKIPPED
* checking PDF version of manual ... OK
* DONE
Status: 3 NOTEs
See
‘/Users/biocbuild/bbs-3.20-bioc/meat/OncoSimulR.Rcheck/00check.log’
for details.
OncoSimulR.Rcheck/00install.out
##############################################################################
##############################################################################
###
### Running command:
###
### /Library/Frameworks/R.framework/Resources/bin/R CMD INSTALL OncoSimulR
###
##############################################################################
##############################################################################
* installing to library ‘/Library/Frameworks/R.framework/Versions/4.4-x86_64/Resources/library’
* installing *source* package ‘OncoSimulR’ ...
** using staged installation
** libs
using C compiler: ‘Apple clang version 14.0.0 (clang-1400.0.29.202)’
using C++ compiler: ‘Apple clang version 14.0.0 (clang-1400.0.29.202)’
using SDK: ‘MacOSX11.3.sdk’
clang -arch x86_64 -I"/Library/Frameworks/R.framework/Resources/include" -DNDEBUG -I'/Library/Frameworks/R.framework/Versions/4.4-x86_64/Resources/library/Rcpp/include' -I/opt/R/x86_64/include -fPIC -falign-functions=64 -Wall -g -O2 -c FitnessLandscape/gamma.c -o FitnessLandscape/gamma.o
clang -arch x86_64 -I"/Library/Frameworks/R.framework/Resources/include" -DNDEBUG -I'/Library/Frameworks/R.framework/Versions/4.4-x86_64/Resources/library/Rcpp/include' -I/opt/R/x86_64/include -fPIC -falign-functions=64 -Wall -g -O2 -c FitnessLandscape/landscape.c -o FitnessLandscape/landscape.o
clang -arch x86_64 -I"/Library/Frameworks/R.framework/Resources/include" -DNDEBUG -I'/Library/Frameworks/R.framework/Versions/4.4-x86_64/Resources/library/Rcpp/include' -I/opt/R/x86_64/include -fPIC -falign-functions=64 -Wall -g -O2 -c FitnessLandscape/random.c -o FitnessLandscape/random.o
clang -arch x86_64 -I"/Library/Frameworks/R.framework/Resources/include" -DNDEBUG -I'/Library/Frameworks/R.framework/Versions/4.4-x86_64/Resources/library/Rcpp/include' -I/opt/R/x86_64/include -fPIC -falign-functions=64 -Wall -g -O2 -c FitnessLandscape/sort.c -o FitnessLandscape/sort.o
clang -arch x86_64 -I"/Library/Frameworks/R.framework/Resources/include" -DNDEBUG -I'/Library/Frameworks/R.framework/Versions/4.4-x86_64/Resources/library/Rcpp/include' -I/opt/R/x86_64/include -fPIC -falign-functions=64 -Wall -g -O2 -c FitnessLandscape/chain.c -o FitnessLandscape/chain.o
clang -arch x86_64 -I"/Library/Frameworks/R.framework/Resources/include" -DNDEBUG -I'/Library/Frameworks/R.framework/Versions/4.4-x86_64/Resources/library/Rcpp/include' -I/opt/R/x86_64/include -fPIC -falign-functions=64 -Wall -g -O2 -c FitnessLandscape/input.c -o FitnessLandscape/input.o
clang -arch x86_64 -I"/Library/Frameworks/R.framework/Resources/include" -DNDEBUG -I'/Library/Frameworks/R.framework/Versions/4.4-x86_64/Resources/library/Rcpp/include' -I/opt/R/x86_64/include -fPIC -falign-functions=64 -Wall -g -O2 -c FitnessLandscape/genotypes.c -o FitnessLandscape/genotypes.o
clang -arch x86_64 -I"/Library/Frameworks/R.framework/Resources/include" -DNDEBUG -I'/Library/Frameworks/R.framework/Versions/4.4-x86_64/Resources/library/Rcpp/include' -I/opt/R/x86_64/include -fPIC -falign-functions=64 -Wall -g -O2 -c FitnessLandscape/ordered_pairs.c -o FitnessLandscape/ordered_pairs.o
FitnessLandscape/ordered_pairs.c:138:6: warning: variable 'tot_pairs' set but not used [-Wunused-but-set-variable]
int tot_pairs=0;
^
1 warning generated.
clang -arch x86_64 -I"/Library/Frameworks/R.framework/Resources/include" -DNDEBUG -I'/Library/Frameworks/R.framework/Versions/4.4-x86_64/Resources/library/Rcpp/include' -I/opt/R/x86_64/include -fPIC -falign-functions=64 -Wall -g -O2 -c FitnessLandscape/calculus.c -o FitnessLandscape/calculus.o
clang -arch x86_64 -I"/Library/Frameworks/R.framework/Resources/include" -DNDEBUG -I'/Library/Frameworks/R.framework/Versions/4.4-x86_64/Resources/library/Rcpp/include' -I/opt/R/x86_64/include -fPIC -falign-functions=64 -Wall -g -O2 -c FitnessLandscape/vector.c -o FitnessLandscape/vector.o
clang -arch x86_64 -I"/Library/Frameworks/R.framework/Resources/include" -DNDEBUG -I'/Library/Frameworks/R.framework/Versions/4.4-x86_64/Resources/library/Rcpp/include' -I/opt/R/x86_64/include -fPIC -falign-functions=64 -Wall -g -O2 -c FitnessLandscape/generalized_chain.c -o FitnessLandscape/generalized_chain.o
clang -arch x86_64 -I"/Library/Frameworks/R.framework/Resources/include" -DNDEBUG -I'/Library/Frameworks/R.framework/Versions/4.4-x86_64/Resources/library/Rcpp/include' -I/opt/R/x86_64/include -fPIC -falign-functions=64 -Wall -g -O2 -c FitnessLandscape/LinearAlgebra.c -o FitnessLandscape/LinearAlgebra.o
clang -arch x86_64 -I"/Library/Frameworks/R.framework/Resources/include" -DNDEBUG -I'/Library/Frameworks/R.framework/Versions/4.4-x86_64/Resources/library/Rcpp/include' -I/opt/R/x86_64/include -fPIC -falign-functions=64 -Wall -g -O2 -c FitnessLandscape/summary_statistics.c -o FitnessLandscape/summary_statistics.o
FitnessLandscape/summary_statistics.c:515:9: warning: variable 'meanVarianceNumberOfStepsFL' set but not used [-Wunused-but-set-variable]
double meanVarianceNumberOfStepsFL = 0;
^
1 warning generated.
clang -arch x86_64 -I"/Library/Frameworks/R.framework/Resources/include" -DNDEBUG -I'/Library/Frameworks/R.framework/Versions/4.4-x86_64/Resources/library/Rcpp/include' -I/opt/R/x86_64/include -fPIC -falign-functions=64 -Wall -g -O2 -c FitnessLandscape/epistasis_type.c -o FitnessLandscape/epistasis_type.o
clang -arch x86_64 -I"/Library/Frameworks/R.framework/Resources/include" -DNDEBUG -I'/Library/Frameworks/R.framework/Versions/4.4-x86_64/Resources/library/Rcpp/include' -I/opt/R/x86_64/include -fPIC -falign-functions=64 -Wall -g -O2 -c FitnessLandscape/decomposition.c -o FitnessLandscape/decomposition.o
clang -arch x86_64 -I"/Library/Frameworks/R.framework/Resources/include" -DNDEBUG -I'/Library/Frameworks/R.framework/Versions/4.4-x86_64/Resources/library/Rcpp/include' -I/opt/R/x86_64/include -fPIC -falign-functions=64 -Wall -g -O2 -c FitnessLandscape/models.c -o FitnessLandscape/models.o
clang -arch x86_64 -I"/Library/Frameworks/R.framework/Resources/include" -DNDEBUG -I'/Library/Frameworks/R.framework/Versions/4.4-x86_64/Resources/library/Rcpp/include' -I/opt/R/x86_64/include -fPIC -falign-functions=64 -Wall -g -O2 -c FitnessLandscape/verbose.c -o FitnessLandscape/verbose.o
ar -r liblandscape.a FitnessLandscape/gamma.o FitnessLandscape/landscape.o FitnessLandscape/random.o FitnessLandscape/sort.o FitnessLandscape/chain.o FitnessLandscape/input.o FitnessLandscape/genotypes.o FitnessLandscape/ordered_pairs.o FitnessLandscape/calculus.o FitnessLandscape/vector.o FitnessLandscape/generalized_chain.o FitnessLandscape/LinearAlgebra.o FitnessLandscape/summary_statistics.o FitnessLandscape/epistasis_type.o FitnessLandscape/decomposition.o FitnessLandscape/models.o FitnessLandscape/verbose.o ;
ar: creating archive liblandscape.a
ranlib liblandscape.a;
clang -arch x86_64 -O -Wall -o fl_statistics -I/FitnessLandscape/. -L. FitnessLandscape/main_fl_statistics.c -llandscape -lm;
clang -arch x86_64 -O -Wall -o fl_generate -I/FitnessLandscape/. -L. FitnessLandscape/main_fl_generate.c -llandscape -lm;
clang -arch x86_64 -I"/Library/Frameworks/R.framework/Resources/include" -DNDEBUG -I'/Library/Frameworks/R.framework/Versions/4.4-x86_64/Resources/library/Rcpp/include' -I/opt/R/x86_64/include -fPIC -falign-functions=64 -Wall -g -O2 -c OncoSimulR_init.c -o OncoSimulR_init.o
clang++ -arch x86_64 -std=gnu++17 -I"/Library/Frameworks/R.framework/Resources/include" -DNDEBUG -I'/Library/Frameworks/R.framework/Versions/4.4-x86_64/Resources/library/Rcpp/include' -I/opt/R/x86_64/include -fPIC -falign-functions=64 -Wall -g -O2 -c RcppExports.cpp -o RcppExports.o
clang++ -arch x86_64 -std=gnu++17 -I"/Library/Frameworks/R.framework/Resources/include" -DNDEBUG -I'/Library/Frameworks/R.framework/Versions/4.4-x86_64/Resources/library/Rcpp/include' -I/opt/R/x86_64/include -fPIC -falign-functions=64 -Wall -g -O2 -c unity_osimul.cpp -o unity_osimul.o
In file included from unity_osimul.cpp:10:
./UnityOncoSimul/intervention_private_2.cpp:17:10: warning: variable 'totalPop' set but not used [-Wunused-but-set-variable]
double totalPop = 0.0;
^
1 warning generated.
clang++ -arch x86_64 -std=gnu++17 -dynamiclib -Wl,-headerpad_max_install_names -undefined dynamic_lookup -L/Library/Frameworks/R.framework/Resources/lib -L/opt/R/x86_64/lib -o OncoSimulR.so OncoSimulR_init.o RcppExports.o unity_osimul.o -F/Library/Frameworks/R.framework/.. -framework R -Wl,-framework -Wl,CoreFoundation
installing via 'install.libs.R' to /Library/Frameworks/R.framework/Versions/4.4-x86_64/Resources/library/00LOCK-OncoSimulR/00new/OncoSimulR
[1] ""
Installing fl_statistics fl_generate to /Library/Frameworks/R.framework/Versions/4.4-x86_64/Resources/library/00LOCK-OncoSimulR/00new/OncoSimulR/exec
Installing library OncoSimulR.so to /Library/Frameworks/R.framework/Versions/4.4-x86_64/Resources/library/00LOCK-OncoSimulR/00new/OncoSimulR/libs
** R
** data
** inst
** byte-compile and prepare package for lazy loading
** help
*** installing help indices
** building package indices
** installing vignettes
** testing if installed package can be loaded from temporary location
** checking absolute paths in shared objects and dynamic libraries
** testing if installed package can be loaded from final location
** testing if installed package keeps a record of temporary installation path
* DONE (OncoSimulR)
OncoSimulR.Rcheck/tests/testthat.Rout
R version 4.4.3 (2025-02-28) -- "Trophy Case"
Copyright (C) 2025 The R Foundation for Statistical Computing
Platform: x86_64-apple-darwin20
R is free software and comes with ABSOLUTELY NO WARRANTY.
You are welcome to redistribute it under certain conditions.
Type 'license()' or 'licence()' for distribution details.
R is a collaborative project with many contributors.
Type 'contributors()' for more information and
'citation()' on how to cite R or R packages in publications.
Type 'demo()' for some demos, 'help()' for on-line help, or
'help.start()' for an HTML browser interface to help.
Type 'q()' to quit R.
> library(testthat)
> library(OncoSimulR)
This is package OncoSimulR. If you are running it on an aarch64 (arm64) platform with a MacOS note that the package fails some tests in that platform + OS that I have no way of debugging. Please read file README_tests_kjohnson3_aarch64-apple-darwin20.txt in the tests directory. As of 2024-10-09, this platform is unsupported until we can properly debug it.
>
> test_check("OncoSimulR")
Starting FDF-letter-fitness-order Tue Apr 1 06:45:19 2025
exprtk parser error:
Error[00] Position: 00 Type: [ Syntax Error] Msg: ERR202 - Undefined symbol: 'n_2_3' Expression: n_2_3
exprtk parser error:
Error[00] Position: 00 Type: [ Syntax Error] Msg: ERR202 - Undefined symbol: 'f_2_3' Expression: f_2_3
Ending FDF-small-fitness-specs Tue Apr 1 06:45:20 2025
Took 0.94
Starting LOD_POM at Tue Apr 1 06:45:20 2025
Ending LOD_POM at Tue Apr 1 06:45:43 2025
Took 23.32
Starting test.Z-all-fitness at Tue Apr 1 06:45:43 2025
Ending test.Z-all-fitness at Tue Apr 1 06:45:43 2025
Took 0.24
Starting test.Z-driver-counts at Tue Apr 1 06:45:43 2025
Ending test.Z-driver-counts at Tue Apr 1 06:45:44 2025
Took 0.25
Starting test.Z-fixation at Tue Apr 1 06:45:44 2025
Ending test.Z-fixation at Tue Apr 1 06:45:44 2025
Took 0.6
Starting test.Z-magellan at Tue Apr 1 06:45:44 2025
Ended test.Z-magellan at Tue Apr 1 06:45:48 2025
Starting test.Z-mutator at Tue Apr 1 06:45:48 2025
Ending test.Z-mutator at Tue Apr 1 06:45:48 2025
Took 0.71
Starting test.Z-mutatorFDF at Tue Apr 1 06:45:48 2025
Ending test.Z-mutatorFDF at Tue Apr 1 06:45:49 2025
Took 0.23
Starting test.Z-oncoSimulIndiv at Tue Apr 1 06:45:49 2025
Ending test.Z-oncoSimulIndiv at Tue Apr 1 06:45:50 2025
Took 1.12
Starting test.Z-oncoSimulIndivConstant at Tue Apr 1 06:45:50 2025
Ending test.Z-oncoSimulIndivConstant at Tue Apr 1 06:45:54 2025
Took 4.67
Starting test.Z-oncoSimulIndivDeath at Tue Apr 1 06:45:54 2025
Ending test.Z-oncoSimulIndivDeath at Tue Apr 1 06:45:56 2025
Took 1.66
Starting test.Z-oncoSimulIndivFDF at Tue Apr 1 06:45:56 2025
Hitted wall time. Exiting.
Hitting wall time is regarded as an error.
Ending test.Z-oncoSimulIndivFDF at Tue Apr 1 06:45:57 2025
Took 0.55
Starting test.Z-rfitness-landscape at Tue Apr 1 06:45:57 2025
Ending test.Z-rfitness-landscape at Tue Apr 1 06:45:57 2025
Took 0.42
Starting Z-sample-only-last tests Tue Apr 1 06:45:57 2025
Ending Z-sample-only-last tests Tue Apr 1 06:45:57 2025
Took 0
Starting Z-total-present-drivers tests Tue Apr 1 06:45:57 2025
Ending Z-total-present-drivers tests Tue Apr 1 06:45:59 2025
Took 1.63
Dummy empty test Tue Apr 1 06:45:59 2025
Starting accessible_genotypes at Tue Apr 1 06:45:59 2025
Ending accessible_genotypes at Tue Apr 1 06:46:16 2025
Took 17.28
Starting all fitness at Tue Apr 1 06:46:16 2025
Ending all-fitness at Tue Apr 1 06:46:29 2025
Took 12.8
Starting test.allFitnessEffectsFDF at Tue Apr 1 06:46:29 2025
Ending test.allFitnessEffectsFDF at Tue Apr 1 06:46:29 2025
Took 0.3
Starting test.allFitnessEffectsDeath at Tue Apr 1 06:46:29 2025
Ending test.allFitnessEffectsDeath at Tue Apr 1 06:46:30 2025
Took 0.86
Starting test.allFitnessEffectsFDF at Tue Apr 1 06:46:30 2025
Ending test.allFitnessEffectsFDF at Tue Apr 1 06:46:31 2025
Took 0.85
Starting driverCounts at Tue Apr 1 06:46:31 2025
Ending driverCounts at Tue Apr 1 06:46:50 2025
Took 18.91
Starting epist-order-modules at Tue Apr 1 06:46:50 2025
Ending epist-order-modules at Tue Apr 1 06:46:50 2025
Took 0.12
Starting test.evaluatingGenotypesDeath at Tue Apr 1 06:46:50 2025
Ending test.evaluatingGenotypesDeath at Tue Apr 1 06:46:50 2025
Took 0.44
Starting test.evaluatingGenotypesFDF at Tue Apr 1 06:46:50 2025
Ending test.evaluatingGenotypesFDF at Tue Apr 1 06:46:51 2025
Took 0.43
Starting exercise-plotting-code at Tue Apr 1 06:46:51 2025
Ending exercise-plotting-code at Tue Apr 1 06:46:57 2025
Took 6.47
Starting exercise-rfitness at Tue Apr 1 06:46:57 2025
Ending exercise-rfitness at Tue Apr 1 06:47:19 2025
Took 22.06
Starting to_Magella at Tue Apr 1 06:47:19 2025
Ending to_Magella at Tue Apr 1 06:47:19 2025
Took 0.09
Starting fitness preds at Tue Apr 1 06:47:19 2025
Observed vs expected, case III
T.not is
[1] TRUE
[1] 1.909128e-41 9.113646e-33 8.244797e-42 7.401124e-39 8.819755e-39
[6] 1.088172e-36 0.000000e+00 0.000000e+00 8.102650e-35 2.695260e-42
[11] 1.002985e-32 1.042707e-33 1.044573e-25 1.411547e-44 8.123196e-23
[16] 2.747672e-21 5.743697e-34 4.362673e-15
T.yest
[1] TRUE
[1] 0.03916608 0.24559742 0.91316504 0.17053190 0.32939160 0.12809142
[7] 0.44420557 0.18492723 0.82361095 0.95394063 0.19185740 0.37423044
[13] 0.82822948 0.43591261 0.36083985 0.02077550 0.35997902 0.06955274
[19] 0.91708936 0.63508897 0.91598098 0.07966252 0.10865674 0.44179223
[25] 0.70899377 0.79143729 0.77768275 0.41219092 0.09255359 0.87261494
larger values of T.yest
integer(0)
lm and plot
Call:
lm(formula = log(Observed) ~ log(Expected), data = d1)
Residuals:
Min 1Q Median 3Q Max
-0.015004 -0.002780 0.001871 0.003347 0.012032
Coefficients:
Estimate Std. Error t value Pr(>|t|)
(Intercept) -0.0162193 0.0046323 -3.501 0.00157 **
log(Expected) 1.0013571 0.0003894 2571.497 < 2e-16 ***
---
Signif. codes: 0 '***' 0.001 '**' 0.01 '*' 0.05 '.' 0.1 ' ' 1
Residual standard error: 0.007004 on 28 degrees of freedom
Multiple R-squared: 1, Adjusted R-squared: 1
F-statistic: 6.613e+06 on 1 and 28 DF, p-value: < 2.2e-16
Linear hypothesis test:
(Intercept) = 0
log(Expected) = 1
Model 1: restricted model
Model 2: log(Observed) ~ log(Expected)
Res.Df RSS Df Sum of Sq F Pr(>F)
1 30 0.0019843
2 28 0.0013737 2 0.00061066 6.2237 0.005804 **
---
Signif. codes: 0 '***' 0.001 '**' 0.01 '*' 0.05 '.' 0.1 ' ' 1
done tries 2
Ending fitness preds long at Tue Apr 1 06:47:53 2025
Took 33.25
Starting fixation at Tue Apr 1 06:47:53 2025
Ending fixation at Tue Apr 1 06:48:27 2025
Took 34.47
Starting test.flfast-additional.R test at Tue Apr 1 06:48:27 2025
Ending test.flfast-additional.R test at Tue Apr 1 06:48:30 2025
Took 2.68
Starting test.flfast-mutator.R test at Tue Apr 1 06:48:30 2025
Finished test.flfast-mutator.R test at Tue Apr 1 06:48:33 2025
Took 2.94
Starting genotFitness at Tue Apr 1 06:48:33 2025
Ending genotFitness at Tue Apr 1 06:48:33 2025
Took 0.37
Starting genot_fitness_to_epistasis at Tue Apr 1 06:48:33 2025
Ending genot_fitness_to_epistasis at Tue Apr 1 06:48:33 2025
Took 0.09
Starting init-mutant tests Tue Apr 1 06:48:33 2025
exprtk parser error:
Error[00] Position: 18 Type: [ Syntax Error] Msg: ERR202 - Undefined symbol: 'f_2' Expression: 1.1 + 0.7*((f_1 + f_2) > 0.3)
Ending init-mutant tests Tue Apr 1 06:48:47 2025
Took 13.88
Starting interventions tests Tue Apr 1 06:48:47 2025
[1] "Checking intervention: intOverA"
[1] "Checking intervention: intOverA"
[1] "Checking intervention: intOverA"
[1] "Checking intervention: intOverA"
[1] "Checking intervention: intOverMultiplicatesA"
In intervention:intOverMultiplicatesA with WhatHappens: n_1 = n_1 * 2. You cannot intervene to generate more population.[1] "Checking intervention: intOverA"
[1] "Checking intervention: intOverA"
[1] "Checking intervention: intOverTotPop"
[1] 0.51 0.51 0.51
[1] "Checking intervention: intOverTotPop"
[1] "Checking intervention: intOverA"
[1] "Checking intervention: intOverB"
[1] "Checking intervention: intOverC"
[1] "Checking intervention: intOverD"
Init Mutant with birth == 1.0
Init Mutant with birth == 1.0
[1] "Checking intervention: intOverA"
[1] "Checking intervention: intOverB"
[1] "Checking intervention: intOverC"
[1] "Checking intervention: intOverD"
Init Mutant with birth == 1.0
Init Mutant with birth == 1.0
[1] "Checking user variable: user_var_1"
[1] "Checking rule: rule_1"
[1] "Checking rule: rule_2"
[1] "Checking rule: rule_3"
[1] "Checking intervention: intOverTotPop"
[1] "Checking intervention: intOverTotPop2"
[1] "Checking intervention: intOverTotPop3"
[1] "Checking user variable: user_var_1"
[1] "Checking rule: rule_1"
[1] "Checking rule: rule_2"
[1] "Checking rule: rule_3"
[1] "Checking intervention: intOverTotPop"
Ending interventions tests Tue Apr 1 06:48:56 2025
Took 8.38
Starting test.magellan at Tue Apr 1 06:48:56 2025
Ending test.magellan at Tue Apr 1 06:48:56 2025
Took 0.37
Starting test.modules-root-no-root at Tue Apr 1 06:48:56 2025
Ending test.modules-root-no-root at Tue Apr 1 06:48:56 2025
Took 0.18
Starting at mutPropGrowth Tue Apr 1 06:48:56 2025
Ended test.mutPropGrowth: Tue Apr 1 06:49:10 2025
Took 14.06
Starting test.mutator-oncoSimulSample.R test at Tue Apr 1 06:49:10 2025
Finished test.mutator-oncoSimulSample.R test at Tue Apr 1 06:49:28 2025
Took 17.57 seconds
Starting test.mutator.R test at Tue Apr 1 06:49:28 2025[1] 4.229281e-10
[1] 1.696431e-13
Finished test.mutator.R test at Tue Apr 1 06:50:00 2025
Took 32.07
Starting test.mutatorFDF.R test at Tue Apr 1 06:50:00 2025
Starting test.no-v1 at Tue Apr 1 06:50:01 2025
Ending test.no-v1 at Tue Apr 1 06:50:01 2025
Took 0.03
Starting oncoSimulIndiv-miscell tests Tue Apr 1 06:50:01 2025
Ending oncoSimulIndiv-miscell tests Tue Apr 1 06:50:13 2025
Took 12.02
Starting oncoSimulSample-failures tests Tue Apr 1 06:50:13 2025
Ending oncoSimulSample-failures tests Tue Apr 1 06:50:18 2025
Took 4.3
Starting oncoSimulSample-limits tests Tue Apr 1 06:50:18 2025
Ending oncoSimulSample-limits tests Tue Apr 1 06:50:18 2025
Took 0.17
Starting per-gene-mutation rates at Tue Apr 1 06:50:18 2025
Ending per-gene-mutation rates at Tue Apr 1 06:51:26 2025
Took 68.04
Starting plotFitnessLandscape at Tue Apr 1 06:51:26 2025
Ending plotFitnessLandscape at Tue Apr 1 06:51:33 2025
Took 7.53
Starting poset-transformations tests Tue Apr 1 06:51:33 2025
Ending poset-transformations tests Tue Apr 1 06:51:58 2025
Took 24.51
Starting sample-prob Tue Apr 1 06:51:58 2025
[1] 8.114961e-31
[1] 9.834467e-09
[1] 1.147055e-09
[1] 1.337001e-11
[1] 5.619321e-14
[1] 1.638574e-12
[1] 1.97273e-08
[1] 4.442906e-13
[1] 4.37304e-09
[1] 4.651471e-10
[1] 7.847036e-10
[1] 2.064788e-07
Ending sample-prob tests Tue Apr 1 06:52:13 2025
Took 14.68
Starting samplePop tests Tue Apr 1 06:52:13 2025
Ending samplePop tests Tue Apr 1 06:52:23 2025
Took 9.91
Starting simuls-runs-examples tests Tue Apr 1 06:52:23 2025
Ending simuls-runs-examples tests Tue Apr 1 06:52:36 2025
Took 13.75
Starting user variable tests Tue Apr 1 06:52:36 2025
[1] "Checking user variable: user_var_1"
[1] "Checking rule: rule_1"
Ending user variable tests Tue Apr 1 06:52:37 2025
Took 0.28
Starting warning-mutPropGrowth tests Tue Apr 1 06:52:37 2025
Ending warning-mutPropGrowth tests Tue Apr 1 06:52:37 2025
Took 0.88
Starting wide2long tests Tue Apr 1 06:52:37 2025
Ending wide2long tests Tue Apr 1 06:52:38 2025
Took 0.43
[ FAIL 0 | WARN 19 | SKIP 7 | PASS 8381 ]
══ Skipped tests (7) ═══════════════════════════════════════════════════════════
• On Mac (2): 'test.Z-magellan.R:664:5', 'test.Z-oncoSimulIndivFDF.R:125:3'
• empty test (5): 'test.FDF-letter-fitness-order.R:376:1',
'test.ZZ-dummy-skip-warn-test.R:8:1', 'test.ZZ-dummy-skip-warn-test.R:12:1',
'test.fixation.R:4:1', 'test.init-mutant.R:1099:1'
[ FAIL 0 | WARN 19 | SKIP 7 | PASS 8381 ]
>
> proc.time()
user system elapsed
499.284 84.703 450.693
OncoSimulR.Rcheck/OncoSimulR-Ex.timings
| name | user | system | elapsed | |
| OncoSimulWide2Long | 0.309 | 0.007 | 0.316 | |
| POM | 1.832 | 0.086 | 1.062 | |
| allFitnessEffects | 3.830 | 0.134 | 3.974 | |
| benchmarks | 0.019 | 0.012 | 0.032 | |
| createInterventions | 0.511 | 0.013 | 0.526 | |
| createUserVars | 0.738 | 0.018 | 0.758 | |
| evalAllGenotypes | 0.474 | 0.031 | 0.507 | |
| example-missing-drivers | 0.505 | 0.035 | 0.565 | |
| examplePosets | 0.542 | 0.009 | 0.551 | |
| examplesFitnessEffects | 0.163 | 0.007 | 0.170 | |
| freq-dep-simul-examples | 0.017 | 0.003 | 0.021 | |
| mcfLs | 0.000 | 0.001 | 0.001 | |
| oncoSimulIndiv | 2.088 | 0.240 | 2.270 | |
| plot.fitnessEffects | 0.476 | 0.063 | 0.545 | |
| plot.oncosimul | 0.777 | 0.040 | 0.822 | |
| plotClonePhylog | 2.952 | 0.121 | 3.080 | |
| plotFitnessLandscape | 2.492 | 0.048 | 2.566 | |
| plotPoset | 0.173 | 0.011 | 0.184 | |
| poset | 0.217 | 0.012 | 0.231 | |
| rfitness | 1.255 | 0.017 | 1.331 | |
| samplePop | 0.108 | 0.084 | 0.148 | |
| simOGraph | 0.117 | 0.029 | 0.150 | |
| to_Magellan | 0.393 | 0.109 | 0.601 | |
| vignette_pre_computed | 0.012 | 0.007 | 0.020 | |