| Back to Multiple platform build/check report for BioC 3.20: simplified long | 
 | 
This page was generated on 2024-06-11 15:40 -0400 (Tue, 11 Jun 2024).
| Hostname | OS | Arch (*) | R version | Installed pkgs | 
|---|---|---|---|---|
| nebbiolo2 | Linux (Ubuntu 22.04.3 LTS) | x86_64 | 4.4.0 RC (2024-04-16 r86468) -- "Puppy Cup" | 4679 | 
| palomino4 | Windows Server 2022 Datacenter | x64 | 4.4.0 RC (2024-04-16 r86468 ucrt) -- "Puppy Cup" | 4414 | 
| merida1 | macOS 12.7.4 Monterey | x86_64 | 4.4.0 Patched (2024-04-24 r86482) -- "Puppy Cup" | 4441 | 
| kjohnson1 | macOS 13.6.6 Ventura | arm64 | 4.4.0 Patched (2024-04-24 r86482) -- "Puppy Cup" | 4394 | 
| Click on any hostname to see more info about the system (e.g. compilers) (*) as reported by 'uname -p', except on Windows and Mac OS X | ||||
| Package 1415/2239 | Hostname | OS / Arch | INSTALL | BUILD | CHECK | BUILD BIN | ||||||||
| OLIN 1.83.0  (landing page) Matthias Futschik 
 | nebbiolo2 | Linux (Ubuntu 22.04.3 LTS) / x86_64 | OK | OK | OK |  | ||||||||
| palomino4 | Windows Server 2022 Datacenter / x64 | OK | OK | OK | OK |  | ||||||||
| merida1 | macOS 12.7.4 Monterey / x86_64 | OK | OK | OK | OK |  | ||||||||
| kjohnson1 | macOS 13.6.6 Ventura / arm64 | OK | OK | OK | OK |  | ||||||||
| To the developers/maintainers of the OLIN package: - Allow up to 24 hours (and sometimes 48 hours) for your latest push to git@git.bioconductor.org:packages/OLIN.git to reflect on this report. See Troubleshooting Build Report for more information. - Use the following Renviron settings to reproduce errors and warnings. - If 'R CMD check' started to fail recently on the Linux builder(s) over a missing dependency, add the missing dependency to 'Suggests:' in your DESCRIPTION file. See Renviron.bioc for more information. | 
| Package: OLIN | 
| Version: 1.83.0 | 
| Command: F:\biocbuild\bbs-3.20-bioc\R\bin\R.exe CMD check --no-multiarch --install=check:OLIN.install-out.txt --library=F:\biocbuild\bbs-3.20-bioc\R\library --no-vignettes --timings OLIN_1.83.0.tar.gz | 
| StartedAt: 2024-06-10 06:32:43 -0400 (Mon, 10 Jun 2024) | 
| EndedAt: 2024-06-10 06:35:46 -0400 (Mon, 10 Jun 2024) | 
| EllapsedTime: 183.3 seconds | 
| RetCode: 0 | 
| Status: OK | 
| CheckDir: OLIN.Rcheck | 
| Warnings: 0 | 
##############################################################################
##############################################################################
###
### Running command:
###
###   F:\biocbuild\bbs-3.20-bioc\R\bin\R.exe CMD check --no-multiarch --install=check:OLIN.install-out.txt --library=F:\biocbuild\bbs-3.20-bioc\R\library --no-vignettes --timings OLIN_1.83.0.tar.gz
###
##############################################################################
##############################################################################
* using log directory 'F:/biocbuild/bbs-3.20-bioc/meat/OLIN.Rcheck'
* using R version 4.4.0 RC (2024-04-16 r86468 ucrt)
* using platform: x86_64-w64-mingw32
* R was compiled by
    gcc.exe (GCC) 13.2.0
    GNU Fortran (GCC) 13.2.0
* running under: Windows Server 2022 x64 (build 20348)
* using session charset: UTF-8
* using option '--no-vignettes'
* checking for file 'OLIN/DESCRIPTION' ... OK
* this is package 'OLIN' version '1.83.0'
* checking package namespace information ... OK
* checking package dependencies ... OK
* checking if this is a source package ... OK
* checking if there is a namespace ... OK
* checking for hidden files and directories ... OK
* checking for portable file names ... OK
* checking whether package 'OLIN' can be installed ... OK
* checking installed package size ... OK
* checking package directory ... OK
* checking 'build' directory ... OK
* checking DESCRIPTION meta-information ... NOTE
Malformed Description field: should contain one or more complete sentences.
Packages listed in more than one of Depends, Imports, Suggests, Enhances:
  'marray' 'methods'
A package should be listed in only one of these fields.
* checking top-level files ... OK
* checking for left-over files ... OK
* checking index information ... OK
* checking package subdirectories ... OK
* checking code files for non-ASCII characters ... OK
* checking R files for syntax errors ... OK
* checking whether the package can be loaded ... OK
* checking whether the package can be loaded with stated dependencies ... OK
* checking whether the package can be unloaded cleanly ... OK
* checking whether the namespace can be loaded with stated dependencies ... OK
* checking whether the namespace can be unloaded cleanly ... OK
* checking dependencies in R code ... NOTE
'library' or 'require' call to 'convert' in package code.
  Please use :: or requireNamespace() instead.
  See section 'Suggested packages' in the 'Writing R Extensions' manual.
Package in Depends field not imported from: 'locfit'
  These packages need to be imported from (in the NAMESPACE file)
  for when this namespace is loaded but not attached.
* checking S3 generic/method consistency ... OK
* checking replacement functions ... OK
* checking foreign function calls ... OK
* checking R code for possible problems ... NOTE
ino: no visible global function definition for 'locfit'
ino: no visible global function definition for 'predict'
lin: no visible global function definition for 'locfit'
lin: no visible global function definition for 'predict'
oin: no visible global function definition for 'gcvplot'
oin: no visible global function definition for 'locfit'
oin: no visible global function definition for 'predict'
olin: no visible global function definition for 'gcv'
olin: no visible global function definition for 'locfit'
olin: no visible global function definition for 'predict'
Undefined global functions or variables:
  gcv gcvplot locfit predict
Consider adding
  importFrom("stats", "predict")
to your NAMESPACE file.
* checking Rd files ... OK
* checking Rd metadata ... OK
* checking Rd cross-references ... OK
* checking for missing documentation entries ... OK
* checking for code/documentation mismatches ... OK
* checking Rd \usage sections ... OK
* checking Rd contents ... OK
* checking for unstated dependencies in examples ... OK
* checking contents of 'data' directory ... OK
* checking data for non-ASCII characters ... OK
* checking data for ASCII and uncompressed saves ... OK
* checking sizes of PDF files under 'inst/doc' ... OK
* checking files in 'vignettes' ... OK
* checking examples ... OK
Examples with CPU (user + system) or elapsed time > 5s
     user system elapsed
olin 14.5   0.63   15.13
* checking for unstated dependencies in vignettes ... OK
* checking package vignettes ... OK
* checking running R code from vignettes ... SKIPPED
* checking re-building of vignette outputs ... SKIPPED
* checking PDF version of manual ... OK
* DONE
Status: 3 NOTEs
See
  'F:/biocbuild/bbs-3.20-bioc/meat/OLIN.Rcheck/00check.log'
for details.
OLIN.Rcheck/00install.out
############################################################################## ############################################################################## ### ### Running command: ### ### F:\biocbuild\bbs-3.20-bioc\R\bin\R.exe CMD INSTALL OLIN ### ############################################################################## ############################################################################## * installing to library 'F:/biocbuild/bbs-3.20-bioc/R/library' * installing *source* package 'OLIN' ... ** using staged installation ** R ** data ** inst ** byte-compile and prepare package for lazy loading ** help *** installing help indices ** building package indices ** installing vignettes ** testing if installed package can be loaded from temporary location ** testing if installed package can be loaded from final location ** testing if installed package keeps a record of temporary installation path * DONE (OLIN)
OLIN.Rcheck/OLIN-Ex.timings
| name | user | system | elapsed | |
| anovaint | 0.12 | 0.34 | 0.46 | |
| anovapin | 0.08 | 0.00 | 0.07 | |
| anovaplate | 0.06 | 0.02 | 0.08 | |
| anovaspatial | 0.14 | 0.05 | 0.19 | |
| backgroundCorrect2 | 0.44 | 0.83 | 1.32 | |
| bas | 0.19 | 0.03 | 0.24 | |
| colorbar.mxy | 0.03 | 0.01 | 0.04 | |
| fdr.int | 0 | 0 | 0 | |
| fdr.int2 | 0 | 0 | 0 | |
| fdr.spatial | 0 | 0 | 0 | |
| fdr.spatial2 | 0 | 0 | 0 | |
| fgbg.visu | 0.09 | 0.01 | 0.11 | |
| ino | 0.38 | 0.02 | 0.39 | |
| lin | 0.56 | 0.06 | 0.63 | |
| m2v | 0.06 | 0.02 | 0.07 | |
| ma.matrix | 0.20 | 0.00 | 0.21 | |
| ma.vector | 0.36 | 0.04 | 0.40 | |
| mxy.abs.plot | 0.24 | 0.02 | 0.25 | |
| mxy.plot | 0.09 | 0.02 | 0.11 | |
| mxy2.plot | 0.08 | 0.01 | 0.10 | |
| oin | 0.98 | 0.06 | 1.04 | |
| olin | 14.50 | 0.63 | 15.13 | |
| p.int | 0 | 0 | 0 | |
| p.int2 | 0 | 0 | 0 | |
| p.spatial | 0 | 0 | 0 | |
| p.spatial2 | 0 | 0 | 0 | |
| sig.mask | 0 | 0 | 0 | |
| sigint.plot | 0 | 0 | 0 | |
| sigint.plot2 | 0 | 0 | 0 | |
| sigxy.plot | 0 | 0 | 0 | |
| sigxy.plot2 | 0 | 0 | 0 | |
| v2m | 0.05 | 0.03 | 0.08 | |