| Back to Multiple platform build/check report for BioC 3.20: simplified long | 
 | 
This page was generated on 2024-07-16 11:40 -0400 (Tue, 16 Jul 2024).
| Hostname | OS | Arch (*) | R version | Installed pkgs | 
|---|---|---|---|---|
| nebbiolo2 | Linux (Ubuntu 22.04.3 LTS) | x86_64 | 4.4.1 (2024-06-14) -- "Race for Your Life" | 4677 | 
| palomino6 | Windows Server 2022 Datacenter | x64 | 4.4.1 (2024-06-14 ucrt) -- "Race for Your Life" | 4416 | 
| lconway | macOS 12.7.1 Monterey | x86_64 | 4.4.1 (2024-06-14) -- "Race for Your Life" | 4444 | 
| kjohnson3 | macOS 13.6.5 Ventura | arm64 | 4.4.1 (2024-06-14) -- "Race for Your Life" | 4393 | 
| palomino8 | Windows Server 2022 Datacenter | x64 | 4.4.1 (2024-06-14 ucrt) -- "Race for Your Life" | 4373 | 
| Click on any hostname to see more info about the system (e.g. compilers) (*) as reported by 'uname -p', except on Windows and Mac OS X | ||||
| Package 1336/2243 | Hostname | OS / Arch | INSTALL | BUILD | CHECK | BUILD BIN | ||||||||
| Mulcom 1.55.0  (landing page) Claudio Isella 
 | nebbiolo2 | Linux (Ubuntu 22.04.3 LTS) / x86_64 | OK | OK | WARNINGS |  | ||||||||
| palomino6 | Windows Server 2022 Datacenter / x64 | OK | OK | WARNINGS | OK | |||||||||
| lconway | macOS 12.7.1 Monterey / x86_64 | OK | OK | WARNINGS | OK |  | ||||||||
| kjohnson3 | macOS 13.6.5 Ventura / arm64 | OK | OK | WARNINGS | OK |  | ||||||||
| palomino8 | Windows Server 2022 Datacenter / x64 | OK | OK | WARNINGS | OK | |||||||||
| To the developers/maintainers of the Mulcom package: - Allow up to 24 hours (and sometimes 48 hours) for your latest push to git@git.bioconductor.org:packages/Mulcom.git to reflect on this report. See Troubleshooting Build Report for more information. - Use the following Renviron settings to reproduce errors and warnings. - If 'R CMD check' started to fail recently on the Linux builder(s) over a missing dependency, add the missing dependency to 'Suggests:' in your DESCRIPTION file. See Renviron.bioc for more information. | 
| Package: Mulcom | 
| Version: 1.55.0 | 
| Command: rm -rf Mulcom.buildbin-libdir && mkdir Mulcom.buildbin-libdir && C:\Users\biocbuild\bbs-3.20-bioc\R\bin\R.exe CMD INSTALL --build --library=Mulcom.buildbin-libdir Mulcom_1.55.0.tar.gz | 
| StartedAt: 2024-07-16 06:29:08 -0400 (Tue, 16 Jul 2024) | 
| EndedAt: 2024-07-16 06:29:21 -0400 (Tue, 16 Jul 2024) | 
| EllapsedTime: 12.8 seconds | 
| RetCode: 0 | 
| Status: OK | 
| PackageFile: Mulcom_1.55.0.zip | 
| PackageFileSize: 1.49 MiB | 
##############################################################################
##############################################################################
###
### Running command:
###
###   rm -rf Mulcom.buildbin-libdir && mkdir Mulcom.buildbin-libdir && C:\Users\biocbuild\bbs-3.20-bioc\R\bin\R.exe CMD INSTALL --build --library=Mulcom.buildbin-libdir Mulcom_1.55.0.tar.gz
###
##############################################################################
##############################################################################
* installing *source* package 'Mulcom' ...
** using staged installation
** libs
using C++ compiler: 'G__~1.EXE (GCC) 13.2.0'
g++ -std=gnu++17  -I"C:/Users/biocbuild/bbs-3.20-bioc/R/include" -DNDEBUG     -I"C:/rtools44/x86_64-w64-mingw32.static.posix/include"     -O2 -Wall  -mfpmath=sse -msse2 -mstackrealign  -c mulLibs.cc -o mulLibs.o
mulLibs.cc: In function 'void Single_SimulationC(double*, double*, double*, double*, double*, double*, int*, int*, int*, int*, int*)':
mulLibs.cc:708:17: warning: statement has no effect [-Wunused-value]
  708 |                 current_cluster ;
      |                 ^~~~~~~~~~~~~~~
mulLibs.cc: In function 'void Complete_SimulationC(double*, int*, double*, double*, int*, int*, int*, int*, int*)':
mulLibs.cc:1022:45: warning: comparison of integer expressions of different signedness: 'int' and 'std::vector<double>::size_type' {aka 'long long unsigned int'} [-Wsign-compare]
 1022 |                         for ( int i = 0 ; i < sss2.size() ; i++ ) {
      |                                           ~~^~~~~~~~~~~~~
mulLibs.cc:1023:53: warning: comparison of integer expressions of different signedness: 'int' and 'std::vector<double>::size_type' {aka 'long long unsigned int'} [-Wsign-compare]
 1023 |                                 for ( int j = 0 ; j < harmonic_means.size() ; j++ ) {
      |                                                   ~~^~~~~~~~~~~~~~~~~~~~~~~
g++ -std=gnu++17 -shared -s -static-libgcc -o Mulcom.dll tmp.def mulLibs.o -LC:/rtools44/x86_64-w64-mingw32.static.posix/lib/x64 -LC:/rtools44/x86_64-w64-mingw32.static.posix/lib -LC:/Users/biocbuild/bbs-3.20-bioc/R/bin/x64 -lR
installing to C:/Users/biocbuild/bbs-3.20-bioc/meat/Mulcom.buildbin-libdir/00LOCK-Mulcom/00new/Mulcom/libs/x64
** R
** data
** inst
** byte-compile and prepare package for lazy loading
** help
*** installing help indices
** building package indices
** installing vignettes
** testing if installed package can be loaded from temporary location
** testing if installed package can be loaded from final location
** testing if installed package keeps a record of temporary installation path
* MD5 sums
packaged installation of 'Mulcom' as Mulcom_1.55.0.zip
* DONE (Mulcom)