| Back to Multiple platform build/check report for BioC 3.20: simplified long | 
 | 
This page was generated on 2024-11-20 12:06 -0500 (Wed, 20 Nov 2024).
| Hostname | OS | Arch (*) | R version | Installed pkgs | 
|---|---|---|---|---|
| teran2 | Linux (Ubuntu 24.04.1 LTS) | x86_64 | 4.4.2 (2024-10-31) -- "Pile of Leaves" | 4481 | 
| nebbiolo2 | Linux (Ubuntu 24.04.1 LTS) | x86_64 | 4.4.2 (2024-10-31) -- "Pile of Leaves" | 4479 | 
| palomino8 | Windows Server 2022 Datacenter | x64 | 4.4.2 (2024-10-31 ucrt) -- "Pile of Leaves" | 4359 | 
| lconway | macOS 12.7.1 Monterey | x86_64 | 4.4.1 (2024-06-14) -- "Race for Your Life" | 4539 | 
| kunpeng2 | Linux (openEuler 22.03 LTS-SP1) | aarch64 | 4.4.1 (2024-06-14) -- "Race for Your Life" | 4493 | 
| Click on any hostname to see more info about the system (e.g. compilers) (*) as reported by 'uname -p', except on Windows and Mac OS X | ||||
| Package 1333/2289 | Hostname | OS / Arch | INSTALL | BUILD | CHECK | BUILD BIN | ||||||||
| MsBackendRawFileReader 1.12.0  (landing page) Christian Panse 
 | teran2 | Linux (Ubuntu 24.04.1 LTS) / x86_64 | OK | OK | OK |  | ||||||||
| nebbiolo2 | Linux (Ubuntu 24.04.1 LTS) / x86_64 | OK | OK | OK | ||||||||||
| palomino8 | Windows Server 2022 Datacenter / x64 | OK | OK | OK | OK |  | ||||||||
| lconway | macOS 12.7.1 Monterey / x86_64 | OK | OK | OK | OK |  | ||||||||
| kunpeng2 | Linux (openEuler 22.03 LTS-SP1) / aarch64 | OK | OK | OK | ||||||||||
| To the developers/maintainers of the MsBackendRawFileReader package: - Allow up to 24 hours (and sometimes 48 hours) for your latest push to git@git.bioconductor.org:packages/MsBackendRawFileReader.git to reflect on this report. See Troubleshooting Build Report for more information. - Use the following Renviron settings to reproduce errors and warnings. - If 'R CMD check' started to fail recently on the Linux builder(s) over a missing dependency, add the missing dependency to 'Suggests:' in your DESCRIPTION file. See Renviron.bioc for more information. | 
| Package: MsBackendRawFileReader | 
| Version: 1.12.0 | 
| Command: /Library/Frameworks/R.framework/Resources/bin/R CMD check --install=check:MsBackendRawFileReader.install-out.txt --library=/Library/Frameworks/R.framework/Resources/library --no-vignettes --timings MsBackendRawFileReader_1.12.0.tar.gz | 
| StartedAt: 2024-11-20 00:19:10 -0500 (Wed, 20 Nov 2024) | 
| EndedAt: 2024-11-20 00:25:59 -0500 (Wed, 20 Nov 2024) | 
| EllapsedTime: 408.9 seconds | 
| RetCode: 0 | 
| Status: OK | 
| CheckDir: MsBackendRawFileReader.Rcheck | 
| Warnings: 0 | 
##############################################################################
##############################################################################
###
### Running command:
###
###   /Library/Frameworks/R.framework/Resources/bin/R CMD check --install=check:MsBackendRawFileReader.install-out.txt --library=/Library/Frameworks/R.framework/Resources/library --no-vignettes --timings MsBackendRawFileReader_1.12.0.tar.gz
###
##############################################################################
##############################################################################
* using log directory ‘/Users/biocbuild/bbs-3.20-bioc/meat/MsBackendRawFileReader.Rcheck’
* using R version 4.4.1 (2024-06-14)
* using platform: x86_64-apple-darwin20
* R was compiled by
    Apple clang version 14.0.0 (clang-1400.0.29.202)
    GNU Fortran (GCC) 12.2.0
* running under: macOS Monterey 12.7.6
* using session charset: UTF-8
* using option ‘--no-vignettes’
* checking for file ‘MsBackendRawFileReader/DESCRIPTION’ ... OK
* checking extension type ... Package
* this is package ‘MsBackendRawFileReader’ version ‘1.12.0’
* package encoding: UTF-8
* checking package namespace information ... OK
* checking package dependencies ...Warning: unable to access index for repository https://CRAN.R-project.org/src/contrib:
  cannot open URL 'https://CRAN.R-project.org/src/contrib/PACKAGES'
 OK
* checking if this is a source package ... OK
* checking if there is a namespace ... OK
* checking for hidden files and directories ... OK
* checking for portable file names ... OK
* checking for sufficient/correct file permissions ... OK
* checking whether package ‘MsBackendRawFileReader’ can be installed ... OK
* checking installed package size ... OK
* checking package directory ... OK
* checking ‘build’ directory ... OK
* checking DESCRIPTION meta-information ... OK
* checking top-level files ... OK
* checking for left-over files ... OK
* checking index information ... OK
* checking package subdirectories ... OK
* checking code files for non-ASCII characters ... OK
* checking R files for syntax errors ... OK
* checking whether the package can be loaded ... OK
* checking whether the package can be loaded with stated dependencies ... OK
* checking whether the package can be unloaded cleanly ... OK
* checking whether the namespace can be loaded with stated dependencies ... OK
* checking whether the namespace can be unloaded cleanly ... OK
* checking whether startup messages can be suppressed ... OK
* checking dependencies in R code ... OK
* checking S3 generic/method consistency ... OK
* checking replacement functions ... OK
* checking foreign function calls ... OK
* checking R code for possible problems ... OK
* checking Rd files ... OK
* checking Rd metadata ... OK
* checking Rd cross-references ... OK
* checking for missing documentation entries ... OK
* checking for code/documentation mismatches ... OK
* checking Rd \usage sections ... OK
* checking Rd contents ... OK
* checking for unstated dependencies in examples ... OK
* checking files in ‘vignettes’ ... OK
* checking examples ... OK
Examples with CPU (user + system) or elapsed time > 5s
                               user system elapsed
ioBenchmark                  38.322  9.338  12.925
MsBackendRawFileReader        6.845  3.221  11.452
MsBackendRawFileReader-class  3.207  1.160   5.080
* checking for unstated dependencies in ‘tests’ ... OK
* checking tests ...
  Running ‘testthat.R’
 OK
* checking for unstated dependencies in vignettes ... OK
* checking package vignettes ... OK
* checking running R code from vignettes ... SKIPPED
* checking re-building of vignette outputs ... SKIPPED
* checking PDF version of manual ... OK
* DONE
Status: OK
MsBackendRawFileReader.Rcheck/00install.out
############################################################################## ############################################################################## ### ### Running command: ### ### /Library/Frameworks/R.framework/Resources/bin/R CMD INSTALL MsBackendRawFileReader ### ############################################################################## ############################################################################## * installing to library ‘/Library/Frameworks/R.framework/Versions/4.4-x86_64/Resources/library’ * installing *source* package ‘MsBackendRawFileReader’ ... ** using staged installation ** R ** inst ** byte-compile and prepare package for lazy loading ** help *** installing help indices ** building package indices ** installing vignettes ** testing if installed package can be loaded from temporary location ** testing if installed package can be loaded from final location ** testing if installed package keeps a record of temporary installation path * DONE (MsBackendRawFileReader)
MsBackendRawFileReader.Rcheck/tests/testthat.Rout
R version 4.4.1 (2024-06-14) -- "Race for Your Life"
Copyright (C) 2024 The R Foundation for Statistical Computing
Platform: x86_64-apple-darwin20
R is free software and comes with ABSOLUTELY NO WARRANTY.
You are welcome to redistribute it under certain conditions.
Type 'license()' or 'licence()' for distribution details.
R is a collaborative project with many contributors.
Type 'contributors()' for more information and
'citation()' on how to cite R or R packages in publications.
Type 'demo()' for some demos, 'help()' for on-line help, or
'help.start()' for an HTML browser interface to help.
Type 'q()' to quit R.
> library("testthat")
> library("MsBackendRawFileReader")
Loading required package: Spectra
Loading required package: S4Vectors
Loading required package: stats4
Loading required package: BiocGenerics
Attaching package: 'BiocGenerics'
The following objects are masked from 'package:stats':
    IQR, mad, sd, var, xtabs
The following objects are masked from 'package:base':
    Filter, Find, Map, Position, Reduce, anyDuplicated, aperm, append,
    as.data.frame, basename, cbind, colnames, dirname, do.call,
    duplicated, eval, evalq, get, grep, grepl, intersect, is.unsorted,
    lapply, mapply, match, mget, order, paste, pmax, pmax.int, pmin,
    pmin.int, rank, rbind, rownames, sapply, saveRDS, setdiff, table,
    tapply, union, unique, unsplit, which.max, which.min
Attaching package: 'S4Vectors'
The following object is masked from 'package:utils':
    findMatches
The following objects are masked from 'package:base':
    I, expand.grid, unname
Loading required package: BiocParallel
> library("Spectra")
> 
> 
> sample_raw_file <- file.path(system.file(package = "rawrr"),
+                                 'extdata', 'sample.raw')
> 
> sample_mzXML_file <- file.path(path.package(package = 'MsBackendRawFileReader'),
+                                 'extdata', 'sample.mzXML')
> 
> 
> sample_raw <-  backendInitialize(MsBackendRawFileReader::MsBackendRawFileReader(), files = sample_raw_file)
> 
> 
> #sample_mzr <-  backendInitialize(MsBackendMzR(), files = sample_mzXML_file)
> 
> 
> mgf_file <- file.path(system.file(package = "MsBackendRawFileReader"),
+                              'extdata', '3159619b11ed_4590_9594.mgf')
> 
> 
> rv <- lapply(1:2, function(x){
+   file.copy(from = sample_raw_file, to = tempfile(fileext='.raw'))})
> 
> 
> register(SnowParam(workers = 1, type = "SOCK") , default = TRUE); 
> sample_raw_2 <- backendInitialize(MsBackendRawFileReader(),
+     files = file.path(tempdir(),
+          list.files(path = tempdir(), pattern = 'raw$')))
> 
> 
> test_check("MsBackendRawFileReader")
[ FAIL 0 | WARN 1 | SKIP 2 | PASS 21 ]
══ Skipped tests (2) ═══════════════════════════════════════════════════════════
• isFALSE(file.exists(sample_mzXML_file)) is TRUE (1):
  'test_MsBackendMzR_MsBackendRawFileReader.R:1:1'
• isFALSE(require(MsBackendRawMgf)) is TRUE (1): 'test_top_n_mgf.R:1:1'
[ FAIL 0 | WARN 1 | SKIP 2 | PASS 21 ]
> 
> 
> be <- Spectra::backendInitialize(MsBackendRawFileReader::MsBackendRawFileReader(),
+                                  files = c(sample_raw_file))
> 
> ## Run the MsBackend spectra variable test suite
> 
> test_suite <- system.file("test_backends", "test_MsBackend",
+                           package = "Spectra")
> 
> #res <- test_file(paste0(test_suite, "/test_spectra_variables.R"),
> #                 reporter = check_reporter(), stop_on_failure = TRUE)
> 
> 
> ## Run the whole suite.
> res <- test_dir(test_suite, stop_on_failure = TRUE)
✔ | F W  S  OK | Context
⠏ |          0 | peaks_variables                                                
⠙ |          2 | peaks_variables                                                
⠸ |          4 | peaks_variables                                                
✔ |          4 | peaks_variables [4.2s]
⠏ |          0 | spectra_subsetting                                             
⠋ |          1 | spectra_subsetting                                             
⠸ |         14 | spectra_subsetting                                             
⠇ |         29 | spectra_subsetting                                             
⠴ |         46 | spectra_subsetting                                             
⠋ |         61 | spectra_subsetting                                             
⠦ |         77 | spectra_subsetting                                             
⠋ |         91 | spectra_subsetting                                             
⠧ |        108 | spectra_subsetting                                             
⠸ |        124 | spectra_subsetting                                             
⠏ |        140 | spectra_subsetting                                             
⠦ |        157 | spectra_subsetting                                             
⠙ |        172 | spectra_subsetting                                             
⠏ |        190 | spectra_subsetting                                             
⠼ |        205 | spectra_subsetting                                             
⠋ |        221 | spectra_subsetting                                             
⠴ |        236 | spectra_subsetting                                             
⠹ |        253 | spectra_subsetting                                             
⠋ |        271 | spectra_subsetting                                             
⠦ |        287 | spectra_subsetting                                             
⠸ |        304 | spectra_subsetting                                             
⠇ |        319 | spectra_subsetting                                             
⠼ |        335 | spectra_subsetting                                             
⠏ |        350 | spectra_subsetting                                             
⠦ |        367 | spectra_subsetting                                             
⠙ |        382 | spectra_subsetting                                             
⠏ |        400 | spectra_subsetting                                             
⠦ |        417 | spectra_subsetting                                             
⠙ |        432 | spectra_subsetting                                             
⠧ |        448 | spectra_subsetting                                             
⠹ |        463 | spectra_subsetting                                             
⠇ |        479 | spectra_subsetting                                             
⠹ |        493 | spectra_subsetting                                             
⠇ |        509 | spectra_subsetting                                             
⠴ |        526 | spectra_subsetting                                             
⠙ |        542 | spectra_subsetting                                             
⠧ |        558 | spectra_subsetting                                             
⠋ |        571 | spectra_subsetting                                             
⠦ |        587 | spectra_subsetting                                             
⠹ |        603 | spectra_subsetting                                             
⠇ |        619 | spectra_subsetting                                             
⠸ |        634 | spectra_subsetting                                             
⠏ |        650 | spectra_subsetting                                             
⠦ |        667 | spectra_subsetting                                             
⠙ |        682 | spectra_subsetting                                             
⠇ |        699 | spectra_subsetting                                             
⠹ |        713 | spectra_subsetting                                             
⠏ |        730 | spectra_subsetting                                             
⠼ |        745 | spectra_subsetting                                             
⠋ |        761 | spectra_subsetting                                             
⠦ |        777 | spectra_subsetting                                             
⠏ |        790 | spectra_subsetting                                             
⠴ |        806 | spectra_subsetting                                             
⠏ |        820 | spectra_subsetting                                             
⠧ |        838 | spectra_subsetting                                             
⠹ |        853 | spectra_subsetting                                             
⠇ |        869 | spectra_subsetting                                             
⠼ |        885 | spectra_subsetting                                             
⠧ |        898 | spectra_subsetting                                             
⠴ |        916 | spectra_subsetting                                             
⠋ |        931 | spectra_subsetting                                             
⠇ |        949 | spectra_subsetting                                             
⠸ |        964 | spectra_subsetting                                             
⠏ |        980 | spectra_subsetting                                             
⠼ |        995 | spectra_subsetting                                             
⠇ |        1009 | spectra_subsetting                                            
⠴ |        1026 | spectra_subsetting                                            
⠇ |        1039 | spectra_subsetting                                            
⠴ |        1056 | spectra_subsetting                                            
⠙ |        1072 | spectra_subsetting                                            
⠇ |        1089 | spectra_subsetting                                            
⠼ |        1105 | spectra_subsetting                                            
⠏ |        1120 | spectra_subsetting                                            
⠼ |        1135 | spectra_subsetting                                            
⠏ |        1150 | spectra_subsetting                                            
⠦ |        1167 | spectra_subsetting                                            
⠏ |        1180 | spectra_subsetting                                            
⠼ |        1195 | spectra_subsetting                                            
⠋ |        1211 | spectra_subsetting                                            
⠼ |        1225 | spectra_subsetting                                            
⠋ |        1241 | spectra_subsetting                                            
⠴ |        1256 | spectra_subsetting                                            
⠹ |        1273 | spectra_subsetting                                            
⠧ |        1288 | spectra_subsetting                                            
⠸ |        1304 | spectra_subsetting                                            
⠋ |        1321 | spectra_subsetting                                            
⠴ |        1336 | spectra_subsetting                                            
⠹ |        1353 | spectra_subsetting                                            
⠴ |        1366 | spectra_subsetting                                            
⠹ |        1383 | spectra_subsetting                                            
⠦ |        1397 | spectra_subsetting                                            
⠹ |        1413 | spectra_subsetting                                            
⠇ |        1429 | spectra_subsetting                                            
⠸ |        1444 | spectra_subsetting                                            
⠏ |        1460 | spectra_subsetting                                            
⠼ |        1475 | spectra_subsetting                                            
⠙ |        1492 | spectra_subsetting                                            
⠦ |        1507 | spectra_subsetting                                            
⠼ |        1525 | spectra_subsetting                                            
⠏ |        1540 | spectra_subsetting                                            
⠼ |        1555 | spectra_subsetting                                            
⠋ |        1571 | spectra_subsetting                                            
⠼ |        1585 | spectra_subsetting                                            
⠋ |        1601 | spectra_subsetting                                            
⠼ |        1615 | spectra_subsetting                                            
⠋ |        1631 | spectra_subsetting                                            
⠦ |        1647 | spectra_subsetting                                            
⠋ |        1661 | spectra_subsetting                                            
⠧ |        1678 | spectra_subsetting                                            
⠹ |        1693 | spectra_subsetting                                            
⠏ |        1710 | spectra_subsetting                                            
⠹ |        1723 | spectra_subsetting                                            
⠧ |        1728 | spectra_subsetting                                            
⠋ |        1731 | spectra_subsetting                                            
⠸ |        1734 | spectra_subsetting                                            
⠦ |        1737 | spectra_subsetting                                            
⠏ |        1740 | spectra_subsetting                                            
⠹ |        1743 | spectra_subsetting                                            
⠴ |        1746 | spectra_subsetting                                            
⠇ |        1749 | spectra_subsetting                                            
⠙ |        1752 | spectra_subsetting                                            
⠼ |        1755 | spectra_subsetting                                            
⠧ |        1758 | spectra_subsetting                                            
⠋ |        1761 | spectra_subsetting                                            
⠸ |        1764 | spectra_subsetting                                            
⠦ |        1767 | spectra_subsetting                                            
⠏ |        1770 | spectra_subsetting                                            
⠹ |        1773 | spectra_subsetting                                            
⠴ |        1776 | spectra_subsetting                                            
⠇ |        1779 | spectra_subsetting                                            
⠙ |        1782 | spectra_subsetting                                            
⠼ |        1785 | spectra_subsetting                                            
⠧ |        1788 | spectra_subsetting                                            
⠋ |        1791 | spectra_subsetting                                            
⠸ |        1794 | spectra_subsetting                                            
⠦ |        1797 | spectra_subsetting                                            
⠏ |        1800 | spectra_subsetting                                            
⠹ |        1803 | spectra_subsetting                                            
⠴ |        1806 | spectra_subsetting                                            
⠇ |        1809 | spectra_subsetting                                            
⠙ |        1812 | spectra_subsetting                                            
⠼ |        1815 | spectra_subsetting                                            
⠧ |        1818 | spectra_subsetting                                            
⠋ |        1821 | spectra_subsetting                                            
⠸ |        1824 | spectra_subsetting                                            
⠦ |        1827 | spectra_subsetting                                            
⠏ |        1830 | spectra_subsetting                                            
⠹ |        1833 | spectra_subsetting                                            
⠴ |        1836 | spectra_subsetting                                            
⠇ |        1839 | spectra_subsetting                                            
⠙ |        1842 | spectra_subsetting                                            
⠼ |        1845 | spectra_subsetting                                            
⠧ |        1848 | spectra_subsetting                                            
⠋ |        1851 | spectra_subsetting                                            
⠸ |        1854 | spectra_subsetting                                            
⠦ |        1857 | spectra_subsetting                                            
⠏ |        1860 | spectra_subsetting                                            
⠹ |        1863 | spectra_subsetting                                            
⠴ |        1866 | spectra_subsetting                                            
⠇ |        1869 | spectra_subsetting                                            
⠙ |        1872 | spectra_subsetting                                            
⠼ |        1875 | spectra_subsetting                                            
⠧ |        1878 | spectra_subsetting                                            
⠋ |        1881 | spectra_subsetting                                            
⠸ |        1884 | spectra_subsetting                                            
⠦ |        1887 | spectra_subsetting                                            
⠏ |        1890 | spectra_subsetting                                            
⠹ |        1893 | spectra_subsetting                                            
⠴ |        1896 | spectra_subsetting                                            
⠇ |        1899 | spectra_subsetting                                            
⠙ |        1902 | spectra_subsetting                                            
⠼ |        1905 | spectra_subsetting                                            
⠧ |        1908 | spectra_subsetting                                            
⠋ |        1911 | spectra_subsetting                                            
⠸ |        1914 | spectra_subsetting                                            
⠦ |        1917 | spectra_subsetting                                            
⠏ |        1920 | spectra_subsetting                                            
⠹ |        1923 | spectra_subsetting                                            
⠴ |        1926 | spectra_subsetting                                            
⠇ |        1929 | spectra_subsetting                                            
⠙ |        1932 | spectra_subsetting                                            
⠼ |        1935 | spectra_subsetting                                            
⠧ |        1938 | spectra_subsetting                                            
⠋ |        1941 | spectra_subsetting                                            
⠸ |        1944 | spectra_subsetting                                            
⠦ |        1947 | spectra_subsetting                                            
⠏ |        1950 | spectra_subsetting                                            
⠹ |        1953 | spectra_subsetting                                            
⠴ |        1956 | spectra_subsetting                                            
⠇ |        1959 | spectra_subsetting                                            
⠙ |        1962 | spectra_subsetting                                            
⠼ |        1965 | spectra_subsetting                                            
⠧ |        1968 | spectra_subsetting                                            
⠋ |        1971 | spectra_subsetting                                            
⠸ |        1974 | spectra_subsetting                                            
⠦ |        1977 | spectra_subsetting                                            
⠏ |        1980 | spectra_subsetting                                            
⠹ |        1983 | spectra_subsetting                                            
⠴ |        1986 | spectra_subsetting                                            
⠇ |        1989 | spectra_subsetting                                            
⠙ |        1992 | spectra_subsetting                                            
⠼ |        1995 | spectra_subsetting                                            
⠧ |        1998 | spectra_subsetting                                            
⠋ |        2001 | spectra_subsetting                                            
⠸ |        2004 | spectra_subsetting                                            
⠦ |        2007 | spectra_subsetting                                            
⠏ |        2010 | spectra_subsetting                                            
⠹ |        2013 | spectra_subsetting                                            
⠴ |        2016 | spectra_subsetting                                            
⠇ |        2019 | spectra_subsetting                                            
⠙ |        2022 | spectra_subsetting                                            
⠼ |        2025 | spectra_subsetting                                            
⠧ |        2028 | spectra_subsetting                                            
⠋ |        2031 | spectra_subsetting                                            
⠸ |        2034 | spectra_subsetting                                            
⠦ |        2037 | spectra_subsetting                                            
⠏ |        2040 | spectra_subsetting                                            
⠹ |        2043 | spectra_subsetting                                            
⠴ |        2046 | spectra_subsetting                                            
⠇ |        2049 | spectra_subsetting                                            
⠙ |        2052 | spectra_subsetting                                            
⠼ |        2055 | spectra_subsetting                                            
⠧ |        2058 | spectra_subsetting                                            
⠋ |        2061 | spectra_subsetting                                            
⠸ |        2064 | spectra_subsetting                                            
⠦ |        2067 | spectra_subsetting                                            
⠏ |        2070 | spectra_subsetting                                            
⠹ |        2073 | spectra_subsetting                                            
⠴ |        2076 | spectra_subsetting                                            
⠇ |        2079 | spectra_subsetting                                            
⠙ |        2082 | spectra_subsetting                                            
⠼ |        2085 | spectra_subsetting                                            
⠧ |        2088 | spectra_subsetting                                            
⠋ |        2091 | spectra_subsetting                                            
⠸ |        2094 | spectra_subsetting                                            
⠦ |        2097 | spectra_subsetting                                            
⠏ |        2100 | spectra_subsetting                                            
⠹ |        2103 | spectra_subsetting                                            
⠴ |        2106 | spectra_subsetting                                            
⠇ |        2109 | spectra_subsetting                                            
⠙ |        2112 | spectra_subsetting                                            
⠼ |        2115 | spectra_subsetting                                            
⠧ |        2118 | spectra_subsetting                                            
⠋ |        2121 | spectra_subsetting                                            
⠸ |        2124 | spectra_subsetting                                            
⠦ |        2127 | spectra_subsetting                                            
⠏ |        2130 | spectra_subsetting                                            
⠹ |        2133 | spectra_subsetting                                            
⠴ |        2136 | spectra_subsetting                                            
⠇ |        2139 | spectra_subsetting                                            
⠙ |        2142 | spectra_subsetting                                            
⠼ |        2145 | spectra_subsetting                                            
⠧ |        2148 | spectra_subsetting                                            
⠋ |        2151 | spectra_subsetting                                            
⠸ |        2154 | spectra_subsetting                                            
⠦ |        2157 | spectra_subsetting                                            
⠏ |        2160 | spectra_subsetting                                            
⠹ |        2163 | spectra_subsetting                                            
⠴ |        2166 | spectra_subsetting                                            
⠇ |        2169 | spectra_subsetting                                            
⠙ |        2172 | spectra_subsetting                                            
⠼ |        2175 | spectra_subsetting                                            
⠧ |        2178 | spectra_subsetting                                            
⠋ |        2181 | spectra_subsetting                                            
⠸ |        2184 | spectra_subsetting                                            
⠦ |        2187 | spectra_subsetting                                            
⠏ |        2190 | spectra_subsetting                                            
⠹ |        2193 | spectra_subsetting                                            
⠴ |        2196 | spectra_subsetting                                            
⠇ |        2199 | spectra_subsetting                                            
⠙ |        2202 | spectra_subsetting                                            
⠼ |        2205 | spectra_subsetting                                            
⠧ |        2208 | spectra_subsetting                                            
⠋ |        2211 | spectra_subsetting                                            
⠸ |        2214 | spectra_subsetting                                            
⠦ |        2217 | spectra_subsetting                                            
⠏ |        2220 | spectra_subsetting                                            
⠹ |        2223 | spectra_subsetting                                            
⠴ |        2226 | spectra_subsetting                                            
⠇ |        2229 | spectra_subsetting                                            
⠙ |        2232 | spectra_subsetting                                            
⠼ |        2235 | spectra_subsetting                                            
⠧ |        2238 | spectra_subsetting                                            
⠋ |        2241 | spectra_subsetting                                            
⠸ |        2244 | spectra_subsetting                                            
⠦ |        2247 | spectra_subsetting                                            
⠏ |        2250 | spectra_subsetting                                            
⠹ |        2253 | spectra_subsetting                                            
⠴ |        2256 | spectra_subsetting                                            
⠇ |        2259 | spectra_subsetting                                            
⠙ |        2262 | spectra_subsetting                                            
⠼ |        2265 | spectra_subsetting                                            
⠧ |        2268 | spectra_subsetting                                            
⠋ |        2271 | spectra_subsetting                                            
⠸ |        2274 | spectra_subsetting                                            
⠦ |        2277 | spectra_subsetting                                            
⠏ |        2280 | spectra_subsetting                                            
⠹ |        2283 | spectra_subsetting                                            
⠴ |        2286 | spectra_subsetting                                            
⠇ |        2289 | spectra_subsetting                                            
⠙ |        2292 | spectra_subsetting                                            
⠼ |        2295 | spectra_subsetting                                            
⠧ |        2298 | spectra_subsetting                                            
⠹ |        2303 | spectra_subsetting                                            
⠼ |        2315 | spectra_subsetting                                            
⠙ |        2322 | spectra_subsetting                                            
✔ |        2324 | spectra_subsetting [35.8s]
⠏ |          0 | spectra_variables                                              
⠙ |         12 | spectra_variables                                              
⠸ |         14 | spectra_variables                                              
⠴ |         16 | spectra_variables                                              
⠦ |         27 | spectra_variables                                              
⠇ |         29 | spectra_variables                                              
⠋ |         31 | spectra_variables                                              
⠹ |         43 | spectra_variables                                              
⠋ |      1  60 | spectra_variables                                              
✔ |      1  62 | spectra_variables [15.7s]
══ Results ═════════════════════════════════════════════════════════════════════
Duration: 55.8 s
── Skipped tests (1) ───────────────────────────────────────────────────────────
• empty test (1): 'test_spectra_variables.R:262:1'
[ FAIL 0 | WARN 0 | SKIP 1 | PASS 2390 ]
> 
> proc.time()
   user  system elapsed 
 71.893  12.141  90.240 
MsBackendRawFileReader.Rcheck/MsBackendRawFileReader-Ex.timings
| name | user | system | elapsed | |
| MsBackendRawFileReader-class | 3.207 | 1.160 | 5.080 | |
| MsBackendRawFileReader | 6.845 | 3.221 | 11.452 | |
| hidden_aliases | 2.248 | 1.029 | 3.733 | |
| ioBenchmark | 38.322 | 9.338 | 12.925 | |