| Back to Multiple platform build/check report for BioC 3.20: simplified long |
|
This page was generated on 2025-04-02 19:30 -0400 (Wed, 02 Apr 2025).
| Hostname | OS | Arch (*) | R version | Installed pkgs |
|---|---|---|---|---|
| nebbiolo2 | Linux (Ubuntu 24.04.1 LTS) | x86_64 | 4.4.3 (2025-02-28) -- "Trophy Case" | 4764 |
| palomino8 | Windows Server 2022 Datacenter | x64 | 4.4.3 (2025-02-28 ucrt) -- "Trophy Case" | 4495 |
| merida1 | macOS 12.7.5 Monterey | x86_64 | 4.4.3 (2025-02-28) -- "Trophy Case" | 4522 |
| kjohnson1 | macOS 13.6.6 Ventura | arm64 | 4.4.3 (2025-02-28) -- "Trophy Case" | 4449 |
| taishan | Linux (openEuler 24.03 LTS) | aarch64 | 4.4.3 (2025-02-28) -- "Trophy Case" | 4426 |
| Click on any hostname to see more info about the system (e.g. compilers) (*) as reported by 'uname -p', except on Windows and Mac OS X | ||||
| Package 1128/2289 | Hostname | OS / Arch | INSTALL | BUILD | CHECK | BUILD BIN | ||||||||
| M3Drop 1.32.0 (landing page) Tallulah Andrews
| nebbiolo2 | Linux (Ubuntu 24.04.1 LTS) / x86_64 | OK | OK | OK | |||||||||
| palomino8 | Windows Server 2022 Datacenter / x64 | OK | OK | OK | OK | |||||||||
| merida1 | macOS 12.7.5 Monterey / x86_64 | OK | OK | OK | OK | |||||||||
| kjohnson1 | macOS 13.6.6 Ventura / arm64 | OK | OK | OK | OK | |||||||||
| taishan | Linux (openEuler 24.03 LTS) / aarch64 | OK | OK | OK | ||||||||||
|
To the developers/maintainers of the M3Drop package: - Allow up to 24 hours (and sometimes 48 hours) for your latest push to git@git.bioconductor.org:packages/M3Drop.git to reflect on this report. See Troubleshooting Build Report for more information. - Use the following Renviron settings to reproduce errors and warnings. - If 'R CMD check' started to fail recently on the Linux builder(s) over a missing dependency, add the missing dependency to 'Suggests:' in your DESCRIPTION file. See Renviron.bioc for more information. |
| Package: M3Drop |
| Version: 1.32.0 |
| Command: F:\biocbuild\bbs-3.20-bioc\R\bin\R.exe CMD check --no-multiarch --install=check:M3Drop.install-out.txt --library=F:\biocbuild\bbs-3.20-bioc\R\library --no-vignettes --timings M3Drop_1.32.0.tar.gz |
| StartedAt: 2025-04-01 02:59:42 -0400 (Tue, 01 Apr 2025) |
| EndedAt: 2025-04-01 03:06:54 -0400 (Tue, 01 Apr 2025) |
| EllapsedTime: 432.8 seconds |
| RetCode: 0 |
| Status: OK |
| CheckDir: M3Drop.Rcheck |
| Warnings: 0 |
##############################################################################
##############################################################################
###
### Running command:
###
### F:\biocbuild\bbs-3.20-bioc\R\bin\R.exe CMD check --no-multiarch --install=check:M3Drop.install-out.txt --library=F:\biocbuild\bbs-3.20-bioc\R\library --no-vignettes --timings M3Drop_1.32.0.tar.gz
###
##############################################################################
##############################################################################
* using log directory 'F:/biocbuild/bbs-3.20-bioc/meat/M3Drop.Rcheck'
* using R version 4.4.3 (2025-02-28 ucrt)
* using platform: x86_64-w64-mingw32
* R was compiled by
gcc.exe (GCC) 13.3.0
GNU Fortran (GCC) 13.3.0
* running under: Windows Server 2022 x64 (build 20348)
* using session charset: UTF-8
* using option '--no-vignettes'
* checking for file 'M3Drop/DESCRIPTION' ... OK
* this is package 'M3Drop' version '1.32.0'
* checking package namespace information ... OK
* checking package dependencies ... OK
* checking if this is a source package ... OK
* checking if there is a namespace ... OK
* checking for hidden files and directories ... OK
* checking for portable file names ... OK
* checking whether package 'M3Drop' can be installed ... OK
* checking installed package size ... OK
* checking package directory ... OK
* checking 'build' directory ... OK
* checking DESCRIPTION meta-information ... OK
* checking top-level files ... OK
* checking for left-over files ... OK
* checking index information ... OK
* checking package subdirectories ... OK
* checking code files for non-ASCII characters ... OK
* checking R files for syntax errors ... OK
* checking whether the package can be loaded ... OK
* checking whether the package can be loaded with stated dependencies ... OK
* checking whether the package can be unloaded cleanly ... OK
* checking whether the namespace can be loaded with stated dependencies ... OK
* checking whether the namespace can be unloaded cleanly ... OK
* checking dependencies in R code ... NOTE
Namespace in Imports field not imported from: 'scater'
All declared Imports should be used.
* checking S3 generic/method consistency ... OK
* checking replacement functions ... OK
* checking foreign function calls ... OK
* checking R code for possible problems ... NOTE
M3DropConvertData: no visible global function definition for 'assays'
NBumiConvertData: no visible global function definition for 'assays'
bg__filter_cells: no visible binding for global variable 'x'
bg__get_extreme_residuals: no visible binding for global variable 'x'
Undefined global functions or variables:
assays x
* checking Rd files ... NOTE
prepare_Rd: NBumi_FSOther.Rd:8-10: Dropping empty section \usage
prepare_Rd: NBumi_TradDE.Rd:7-8: Dropping empty section \usage
* checking Rd metadata ... OK
* checking Rd cross-references ... OK
* checking for missing documentation entries ... OK
* checking for code/documentation mismatches ... OK
* checking Rd \usage sections ... OK
* checking Rd contents ... OK
* checking for unstated dependencies in examples ... OK
* checking sizes of PDF files under 'inst/doc' ... OK
* checking files in 'vignettes' ... OK
* checking examples ... OK
Examples with CPU (user + system) or elapsed time > 5s
user system elapsed
NewSimulations 127.19 2.09 129.30
Imputation 78.80 0.46 79.28
M3D_getmarkers 44.91 1.22 46.14
M3D_ConverData 6.08 0.50 6.58
* checking for unstated dependencies in vignettes ... OK
* checking package vignettes ... OK
* checking running R code from vignettes ... SKIPPED
* checking re-building of vignette outputs ... SKIPPED
* checking PDF version of manual ... OK
* DONE
Status: 3 NOTEs
See
'F:/biocbuild/bbs-3.20-bioc/meat/M3Drop.Rcheck/00check.log'
for details.
M3Drop.Rcheck/00install.out
############################################################################## ############################################################################## ### ### Running command: ### ### F:\biocbuild\bbs-3.20-bioc\R\bin\R.exe CMD INSTALL M3Drop ### ############################################################################## ############################################################################## * installing to library 'F:/biocbuild/bbs-3.20-bioc/R/library' * installing *source* package 'M3Drop' ... ** using staged installation ** R ** inst ** byte-compile and prepare package for lazy loading ** help *** installing help indices ** building package indices ** installing vignettes ** testing if installed package can be loaded from temporary location ** testing if installed package can be loaded from final location ** testing if installed package keeps a record of temporary installation path * DONE (M3Drop)
M3Drop.Rcheck/M3Drop-Ex.timings
| name | user | system | elapsed | |
| Brennecke_getVariableGenes | 4.14 | 0.12 | 4.37 | |
| Consensus_FS | 0.36 | 0.07 | 0.42 | |
| Fitting_Dropout_Models | 0 | 0 | 0 | |
| Imputation | 78.80 | 0.46 | 79.28 | |
| M3D_Clean_Data | 1.80 | 0.18 | 1.97 | |
| M3D_ConverData | 6.08 | 0.50 | 6.58 | |
| M3D_Differential_Expression | 1.76 | 0.17 | 1.94 | |
| M3D_Dropout_Models | 2.00 | 0.22 | 2.22 | |
| M3D_Expression_Heatmap | 0.56 | 0.02 | 0.58 | |
| M3D_Get_Extremes | 2.73 | 0.19 | 2.92 | |
| M3D_Get_Heatmap_Cell_Clusters | 0.55 | 0.01 | 0.56 | |
| M3D_Simulations | 0 | 0 | 0 | |
| M3D_Test_Shift | 0.77 | 0.13 | 0.89 | |
| M3D_ThreeSet_Venn | 0.39 | 0.00 | 0.39 | |
| M3D_TraditionalDE | 0.01 | 0.00 | 0.02 | |
| M3D_getmarkers | 44.91 | 1.22 | 46.14 | |
| M3D_horz_res | 0 | 0 | 0 | |
| NBumi_CheckFit | 2.42 | 0.20 | 2.61 | |
| NBumi_CoExpression | 0.73 | 0.11 | 0.84 | |
| NBumi_CompareModels | 3.49 | 0.33 | 3.82 | |
| NBumi_ConvertToInteger | 0 | 0 | 0 | |
| NBumi_ConvrtData | 0.44 | 0.01 | 0.45 | |
| NBumi_FSDrop | 2.25 | 0.10 | 2.34 | |
| NBumi_FSHighVar | 0.92 | 0.10 | 1.03 | |
| NBumi_FSOther | 0 | 0 | 0 | |
| NBumi_FitDisp | 0 | 0 | 0 | |
| NBumi_FitDispVsMean | 0.50 | 0.02 | 0.51 | |
| NBumi_FitModel | 1.49 | 0.08 | 1.57 | |
| NBumi_HVG | 0.90 | 0.22 | 1.12 | |
| NBumi_PearsonResiduals | 1.55 | 0.17 | 1.72 | |
| NBumi_TradDE | 0 | 0 | 0 | |
| NewSimulations | 127.19 | 2.09 | 129.30 | |
| Other_FS | 1.69 | 0.14 | 1.92 | |
| PoissonUMIFeatureSelectionDropouts | 0.56 | 0.11 | 0.67 | |
| bg__fit_gamma | 0 | 0 | 0 | |
| bg__get_stats | 0 | 0 | 0 | |
| bg__mean2disp | 0 | 0 | 0 | |
| bg__shift_size | 0 | 0 | 0 | |
| bg__var_vs_drop | 0 | 0 | 0 | |