| Back to Multiple platform build/check report for BioC 3.20: simplified long | 
 | 
This page was generated on 2025-04-02 19:34 -0400 (Wed, 02 Apr 2025).
| Hostname | OS | Arch (*) | R version | Installed pkgs | 
|---|---|---|---|---|
| nebbiolo2 | Linux (Ubuntu 24.04.1 LTS) | x86_64 | 4.4.3 (2025-02-28) -- "Trophy Case" | 4764 | 
| palomino8 | Windows Server 2022 Datacenter | x64 | 4.4.3 (2025-02-28 ucrt) -- "Trophy Case" | 4495 | 
| merida1 | macOS 12.7.5 Monterey | x86_64 | 4.4.3 (2025-02-28) -- "Trophy Case" | 4522 | 
| kjohnson1 | macOS 13.6.6 Ventura | arm64 | 4.4.3 (2025-02-28) -- "Trophy Case" | 4449 | 
| taishan | Linux (openEuler 24.03 LTS) | aarch64 | 4.4.3 (2025-02-28) -- "Trophy Case" | 4426 | 
| Click on any hostname to see more info about the system (e.g. compilers) (*) as reported by 'uname -p', except on Windows and Mac OS X | ||||
| Package 1126/2289 | Hostname | OS / Arch | INSTALL | BUILD | CHECK | BUILD BIN | ||||||||
| LymphoSeq 1.34.0  (landing page) David Coffey 
 | nebbiolo2 | Linux (Ubuntu 24.04.1 LTS) / x86_64 | OK | OK | OK |  | ||||||||
| palomino8 | Windows Server 2022 Datacenter / x64 | OK | OK | OK | OK |  | ||||||||
| merida1 | macOS 12.7.5 Monterey / x86_64 | OK | OK | OK | OK |  | ||||||||
| kjohnson1 | macOS 13.6.6 Ventura / arm64 | OK | OK | OK | OK |  | ||||||||
| taishan | Linux (openEuler 24.03 LTS) / aarch64 | OK | OK | OK | ||||||||||
| To the developers/maintainers of the LymphoSeq package: - Allow up to 24 hours (and sometimes 48 hours) for your latest push to git@git.bioconductor.org:packages/LymphoSeq.git to reflect on this report. See Troubleshooting Build Report for more information. - Use the following Renviron settings to reproduce errors and warnings. - If 'R CMD check' started to fail recently on the Linux builder(s) over a missing dependency, add the missing dependency to 'Suggests:' in your DESCRIPTION file. See Renviron.bioc for more information. | 
| Package: LymphoSeq | 
| Version: 1.34.0 | 
| Command: /Library/Frameworks/R.framework/Resources/bin/R CMD check --install=check:LymphoSeq.install-out.txt --library=/Library/Frameworks/R.framework/Resources/library --no-vignettes --timings LymphoSeq_1.34.0.tar.gz | 
| StartedAt: 2025-04-01 23:22:07 -0400 (Tue, 01 Apr 2025) | 
| EndedAt: 2025-04-01 23:25:42 -0400 (Tue, 01 Apr 2025) | 
| EllapsedTime: 214.9 seconds | 
| RetCode: 0 | 
| Status: OK | 
| CheckDir: LymphoSeq.Rcheck | 
| Warnings: 0 | 
##############################################################################
##############################################################################
###
### Running command:
###
###   /Library/Frameworks/R.framework/Resources/bin/R CMD check --install=check:LymphoSeq.install-out.txt --library=/Library/Frameworks/R.framework/Resources/library --no-vignettes --timings LymphoSeq_1.34.0.tar.gz
###
##############################################################################
##############################################################################
* using log directory ‘/Users/biocbuild/bbs-3.20-bioc/meat/LymphoSeq.Rcheck’
* using R version 4.4.3 (2025-02-28)
* using platform: aarch64-apple-darwin20
* R was compiled by
    Apple clang version 14.0.0 (clang-1400.0.29.202)
    GNU Fortran (GCC) 12.2.0
* running under: macOS Ventura 13.7.1
* using session charset: UTF-8
* using option ‘--no-vignettes’
* checking for file ‘LymphoSeq/DESCRIPTION’ ... OK
* this is package ‘LymphoSeq’ version ‘1.34.0’
* checking package namespace information ... OK
* checking package dependencies ... OK
* checking if this is a source package ... OK
* checking if there is a namespace ... OK
* checking for hidden files and directories ... OK
* checking for portable file names ... OK
* checking for sufficient/correct file permissions ... OK
* checking whether package ‘LymphoSeq’ can be installed ... OK
* checking installed package size ... NOTE
  installed size is  5.7Mb
  sub-directories of 1Mb or more:
    extdata   5.5Mb
* checking package directory ... OK
* checking ‘build’ directory ... OK
* checking DESCRIPTION meta-information ... OK
* checking top-level files ... OK
* checking for left-over files ... OK
* checking index information ... OK
* checking package subdirectories ... OK
* checking code files for non-ASCII characters ... OK
* checking R files for syntax errors ... OK
* checking whether the package can be loaded ... OK
* checking whether the package can be loaded with stated dependencies ... OK
* checking whether the package can be unloaded cleanly ... OK
* checking whether the namespace can be loaded with stated dependencies ... OK
* checking whether the namespace can be unloaded cleanly ... OK
* checking dependencies in R code ... OK
* checking S3 generic/method consistency ... OK
* checking replacement functions ... OK
* checking foreign function calls ... OK
* checking R code for possible problems ... OK
* checking Rd files ... OK
* checking Rd metadata ... OK
* checking Rd cross-references ... OK
* checking for missing documentation entries ... OK
* checking for code/documentation mismatches ... OK
* checking Rd \usage sections ... OK
* checking Rd contents ... OK
* checking for unstated dependencies in examples ... OK
* checking files in ‘vignettes’ ... OK
* checking examples ... OK
Examples with CPU (user + system) or elapsed time > 5s
                user system elapsed
cloneTrack    38.605  0.778  39.547
productiveSeq 17.153  0.699  17.860
* checking for unstated dependencies in vignettes ... OK
* checking package vignettes ... OK
* checking running R code from vignettes ... SKIPPED
* checking re-building of vignette outputs ... SKIPPED
* checking PDF version of manual ... OK
* DONE
Status: 1 NOTE
See
  ‘/Users/biocbuild/bbs-3.20-bioc/meat/LymphoSeq.Rcheck/00check.log’
for details.
LymphoSeq.Rcheck/00install.out
############################################################################## ############################################################################## ### ### Running command: ### ### /Library/Frameworks/R.framework/Resources/bin/R CMD INSTALL LymphoSeq ### ############################################################################## ############################################################################## * installing to library ‘/Library/Frameworks/R.framework/Versions/4.4-arm64/Resources/library’ * installing *source* package ‘LymphoSeq’ ... ** using staged installation ** R ** inst ** byte-compile and prepare package for lazy loading ** help *** installing help indices ** building package indices ** installing vignettes ** testing if installed package can be loaded from temporary location ** testing if installed package can be loaded from final location ** testing if installed package keeps a record of temporary installation path * DONE (LymphoSeq)
LymphoSeq.Rcheck/LymphoSeq-Ex.timings
| name | user | system | elapsed | |
| alignSeq | 1.252 | 0.031 | 1.298 | |
| bhattacharyyaCoefficient | 0.174 | 0.016 | 0.204 | |
| bhattacharyyaMatrix | 0.215 | 0.011 | 0.226 | |
| chordDiagramVDJ | 0.762 | 0.024 | 0.801 | |
| clonalRelatedness | 2.097 | 0.012 | 2.113 | |
| clonality | 0.070 | 0.008 | 0.078 | |
| cloneTrack | 38.605 | 0.778 | 39.547 | |
| commonSeqs | 0.200 | 0.015 | 0.216 | |
| commonSeqsBar | 0.906 | 0.082 | 0.989 | |
| commonSeqsPlot | 0.394 | 0.033 | 0.429 | |
| commonSeqsVenn | 0.766 | 0.069 | 0.862 | |
| differentialAbundance | 2.746 | 0.120 | 2.908 | |
| exportFasta | 0.273 | 0.023 | 0.296 | |
| geneFreq | 1.019 | 0.040 | 1.062 | |
| lorenzCurve | 0.892 | 0.025 | 0.926 | |
| mergeFiles | 0.097 | 0.006 | 0.102 | |
| pairwisePlot | 0.682 | 0.021 | 0.704 | |
| phyloTree | 4.183 | 0.034 | 4.221 | |
| productive | 0.077 | 0.005 | 0.083 | |
| productiveSeq | 17.153 | 0.699 | 17.860 | |
| readImmunoSeq | 0.062 | 0.005 | 0.067 | |
| removeSeq | 0.077 | 0.006 | 0.082 | |
| searchPublished | 0.212 | 0.011 | 0.223 | |
| searchSeq | 0.836 | 0.011 | 0.848 | |
| seqMatrix | 2.982 | 0.124 | 3.122 | |
| similarityMatrix | 0.198 | 0.007 | 0.204 | |
| similarityScore | 0.183 | 0.005 | 0.188 | |
| topFreq | 1.452 | 0.053 | 1.505 | |
| topSeqs | 1.083 | 0.029 | 1.112 | |
| topSeqsPlot | 0.397 | 0.008 | 0.406 | |
| uniqueSeqs | 0.235 | 0.007 | 0.243 | |