| Back to Multiple platform build/check report for BioC 3.20: simplified long | 
 | 
This page was generated on 2024-11-20 12:02 -0500 (Wed, 20 Nov 2024).
| Hostname | OS | Arch (*) | R version | Installed pkgs | 
|---|---|---|---|---|
| teran2 | Linux (Ubuntu 24.04.1 LTS) | x86_64 | 4.4.2 (2024-10-31) -- "Pile of Leaves" | 4481 | 
| nebbiolo2 | Linux (Ubuntu 24.04.1 LTS) | x86_64 | 4.4.2 (2024-10-31) -- "Pile of Leaves" | 4479 | 
| palomino8 | Windows Server 2022 Datacenter | x64 | 4.4.2 (2024-10-31 ucrt) -- "Pile of Leaves" | 4359 | 
| lconway | macOS 12.7.1 Monterey | x86_64 | 4.4.1 (2024-06-14) -- "Race for Your Life" | 4539 | 
| kunpeng2 | Linux (openEuler 22.03 LTS-SP1) | aarch64 | 4.4.1 (2024-06-14) -- "Race for Your Life" | 4493 | 
| Click on any hostname to see more info about the system (e.g. compilers) (*) as reported by 'uname -p', except on Windows and Mac OS X | ||||
| Package 1107/2289 | Hostname | OS / Arch | INSTALL | BUILD | CHECK | BUILD BIN | ||||||||
| Linnorm 2.30.0  (landing page) Shun Hang Yip 
 | teran2 | Linux (Ubuntu 24.04.1 LTS) / x86_64 | OK | OK | OK |  | ||||||||
| nebbiolo2 | Linux (Ubuntu 24.04.1 LTS) / x86_64 | OK | OK | OK | ||||||||||
| palomino8 | Windows Server 2022 Datacenter / x64 | OK | OK | OK | OK |  | ||||||||
| lconway | macOS 12.7.1 Monterey / x86_64 | OK | OK | OK | OK |  | ||||||||
| kunpeng2 | Linux (openEuler 22.03 LTS-SP1) / aarch64 | OK | OK | OK | ||||||||||
| To the developers/maintainers of the Linnorm package: - Allow up to 24 hours (and sometimes 48 hours) for your latest push to git@git.bioconductor.org:packages/Linnorm.git to reflect on this report. See Troubleshooting Build Report for more information. - Use the following Renviron settings to reproduce errors and warnings. - If 'R CMD check' started to fail recently on the Linux builder(s) over a missing dependency, add the missing dependency to 'Suggests:' in your DESCRIPTION file. See Renviron.bioc for more information. | 
| Package: Linnorm | 
| Version: 2.30.0 | 
| Command: /home/biocbuild/bbs-3.20-bioc/R/bin/R CMD check --install=check:Linnorm.install-out.txt --library=/home/biocbuild/bbs-3.20-bioc/R/site-library --timings Linnorm_2.30.0.tar.gz | 
| StartedAt: 2024-11-20 05:03:26 -0500 (Wed, 20 Nov 2024) | 
| EndedAt: 2024-11-20 05:09:49 -0500 (Wed, 20 Nov 2024) | 
| EllapsedTime: 382.5 seconds | 
| RetCode: 0 | 
| Status: OK | 
| CheckDir: Linnorm.Rcheck | 
| Warnings: 0 | 
##############################################################################
##############################################################################
###
### Running command:
###
###   /home/biocbuild/bbs-3.20-bioc/R/bin/R CMD check --install=check:Linnorm.install-out.txt --library=/home/biocbuild/bbs-3.20-bioc/R/site-library --timings Linnorm_2.30.0.tar.gz
###
##############################################################################
##############################################################################
* using log directory ‘/media/volume/teran2_disk/biocbuild/bbs-3.20-bioc/meat/Linnorm.Rcheck’
* using R version 4.4.2 (2024-10-31)
* using platform: x86_64-pc-linux-gnu
* R was compiled by
    gcc (Ubuntu 13.2.0-23ubuntu4) 13.2.0
    GNU Fortran (Ubuntu 13.2.0-23ubuntu4) 13.2.0
* running under: Ubuntu 24.04.1 LTS
* using session charset: UTF-8
* checking for file ‘Linnorm/DESCRIPTION’ ... OK
* checking extension type ... Package
* this is package ‘Linnorm’ version ‘2.30.0’
* checking package namespace information ... OK
* checking package dependencies ... OK
* checking if this is a source package ... OK
* checking if there is a namespace ... OK
* checking for hidden files and directories ... OK
* checking for portable file names ... OK
* checking for sufficient/correct file permissions ... OK
* checking whether package ‘Linnorm’ can be installed ... OK
* used C++ compiler: ‘g++ (Ubuntu 13.2.0-23ubuntu4) 13.2.0’
* checking installed package size ... OK
* checking package directory ... OK
* checking ‘build’ directory ... OK
* checking DESCRIPTION meta-information ... NOTE
License stub is invalid DCF.
* checking top-level files ... OK
* checking for left-over files ... OK
* checking index information ... OK
* checking package subdirectories ... OK
* checking code files for non-ASCII characters ... OK
* checking R files for syntax errors ... OK
* checking whether the package can be loaded ... OK
* checking whether the package can be loaded with stated dependencies ... OK
* checking whether the package can be unloaded cleanly ... OK
* checking whether the namespace can be loaded with stated dependencies ... OK
* checking whether the namespace can be unloaded cleanly ... OK
* checking loading without being on the library search path ... OK
* checking dependencies in R code ... OK
* checking S3 generic/method consistency ... OK
* checking replacement functions ... OK
* checking foreign function calls ... OK
* checking R code for possible problems ... NOTE
Linnorm.HClust: no visible binding for global variable ‘y’
Linnorm.HClust: no visible binding for global variable ‘xend’
Linnorm.HClust: no visible binding for global variable ‘yend’
Linnorm.HClust: no visible binding for global variable ‘cluster’
Linnorm.HClust: no visible binding for global variable ‘X1’
Linnorm.HClust: no visible binding for global variable ‘X2’
Linnorm.HVar: no visible binding for global variable ‘SD’
Linnorm.HVar: no visible binding for global variable ‘group’
Undefined global functions or variables:
  SD X1 X2 cluster group xend y yend
* checking Rd files ... NOTE
checkRd: (-1) Linnorm.Cor.Rd:71: Lost braces in \itemize; \value handles \item{}{} directly
checkRd: (-1) Linnorm.Cor.Rd:72: Lost braces in \itemize; \value handles \item{}{} directly
checkRd: (-1) Linnorm.Cor.Rd:73: Lost braces in \itemize; \value handles \item{}{} directly
checkRd: (-1) Linnorm.Cor.Rd:74: Lost braces in \itemize; \value handles \item{}{} directly
checkRd: (-1) Linnorm.Cor.Rd:75: Lost braces in \itemize; \value handles \item{}{} directly
checkRd: (-1) Linnorm.Cor.Rd:76: Lost braces in \itemize; \value handles \item{}{} directly
checkRd: (-1) Linnorm.Cor.Rd:81: Lost braces in \itemize; \value handles \item{}{} directly
checkRd: (-1) Linnorm.Cor.Rd:82: Lost braces in \itemize; \value handles \item{}{} directly
checkRd: (-1) Linnorm.Cor.Rd:83: Lost braces in \itemize; \value handles \item{}{} directly
checkRd: (-1) Linnorm.Cor.Rd:84: Lost braces in \itemize; \value handles \item{}{} directly
checkRd: (-1) Linnorm.Cor.Rd:85: Lost braces in \itemize; \value handles \item{}{} directly
checkRd: (-1) Linnorm.HClust.Rd:37: Lost braces; missing escapes or markup?
    37 | \item{method_hclust}{Charcter. Method to be used in hierarchical clustering. (From hclust {fastcluster}: the agglomeration method to be used. This should be (an unambiguous abbreviation of) one of "ward.D", "ward.D2", "single", "complete", "average", "mcquitty", "median" or "centroid".) Defaults to "ward.D".}
       |                                                                                           ^
checkRd: (-1) Linnorm.HClust.Rd:39: Lost braces; missing escapes or markup?
    39 | \item{method_dist}{Charcter. Method to be used in hierarchical clustering. (From Dist {amap}: the distance measure to be used. This must be one of "euclidean", "maximum", "manhattan", "canberra", "binary", "pearson", "correlation", "spearman" or "kendall". Any unambiguous substring can be given.) Defaults to "pearson".}
       |                                                                                       ^
checkRd: (-1) Linnorm.HClust.Rd:62: Lost braces in \itemize; \value handles \item{}{} directly
checkRd: (-1) Linnorm.HClust.Rd:63: Lost braces in \itemize; \value handles \item{}{} directly
checkRd: (-1) Linnorm.HClust.Rd:64: Lost braces in \itemize; \value handles \item{}{} directly
checkRd: (-1) Linnorm.HVar.Rd:47: Lost braces in \itemize; \value handles \item{}{} directly
checkRd: (-1) Linnorm.HVar.Rd:48: Lost braces in \itemize; \value handles \item{}{} directly
checkRd: (-1) Linnorm.HVar.Rd:49: Lost braces in \itemize; \value handles \item{}{} directly
checkRd: (-1) Linnorm.HVar.Rd:54: Lost braces in \itemize; \value handles \item{}{} directly
checkRd: (-1) Linnorm.HVar.Rd:55: Lost braces in \itemize; \value handles \item{}{} directly
checkRd: (-1) Linnorm.HVar.Rd:56: Lost braces in \itemize; \value handles \item{}{} directly
checkRd: (-1) Linnorm.HVar.Rd:57: Lost braces in \itemize; \value handles \item{}{} directly
checkRd: (-1) Linnorm.HVar.Rd:58: Lost braces in \itemize; \value handles \item{}{} directly
checkRd: (-1) Linnorm.PCA.Rd:56: Lost braces in \itemize; \value handles \item{}{} directly
checkRd: (-1) Linnorm.PCA.Rd:57: Lost braces in \itemize; \value handles \item{}{} directly
checkRd: (-1) Linnorm.PCA.Rd:58: Lost braces in \itemize; \value handles \item{}{} directly
checkRd: (-1) Linnorm.PCA.Rd:59: Lost braces in \itemize; \value handles \item{}{} directly
checkRd: (-1) Linnorm.Rd:70: Lost braces in \itemize; \value handles \item{}{} directly
checkRd: (-1) Linnorm.Rd:71: Lost braces in \itemize; \value handles \item{}{} directly
checkRd: (-1) Linnorm.limma.Rd:38: Lost braces in \itemize; \value handles \item{}{} directly
checkRd: (-1) Linnorm.limma.Rd:39: Lost braces in \itemize; \value handles \item{}{} directly
checkRd: (-1) Linnorm.limma.Rd:40: Lost braces in \itemize; \value handles \item{}{} directly
checkRd: (-1) Linnorm.limma.Rd:41: Lost braces in \itemize; \value handles \item{}{} directly
checkRd: (-1) Linnorm.limma.Rd:42: Lost braces in \itemize; \value handles \item{}{} directly
checkRd: (-1) Linnorm.limma.Rd:43: Lost braces in \itemize; \value handles \item{}{} directly
checkRd: (-1) Linnorm.limma.Rd:48: Lost braces in \itemize; \value handles \item{}{} directly
checkRd: (-1) Linnorm.limma.Rd:49: Lost braces in \itemize; \value handles \item{}{} directly
checkRd: (-1) Linnorm.tSNE.Rd:50: Lost braces in \itemize; \value handles \item{}{} directly
checkRd: (-1) Linnorm.tSNE.Rd:51: Lost braces in \itemize; \value handles \item{}{} directly
checkRd: (-1) Linnorm.tSNE.Rd:52: Lost braces in \itemize; \value handles \item{}{} directly
checkRd: (-1) Linnorm.tSNE.Rd:53: Lost braces in \itemize; \value handles \item{}{} directly
* checking Rd metadata ... OK
* checking Rd cross-references ... OK
* checking for missing documentation entries ... OK
* checking for code/documentation mismatches ... OK
* checking Rd \usage sections ... OK
* checking Rd contents ... OK
* checking for unstated dependencies in examples ... OK
* checking contents of ‘data’ directory ... OK
* checking data for non-ASCII characters ... OK
* checking data for ASCII and uncompressed saves ... OK
* checking line endings in C/C++/Fortran sources/headers ... OK
* checking line endings in Makefiles ... OK
* checking compilation flags in Makevars ... OK
* checking for GNU extensions in Makefiles ... OK
* checking for portable use of $(BLAS_LIBS) and $(LAPACK_LIBS) ... OK
* checking use of PKG_*FLAGS in Makefiles ... OK
* checking compiled code ... NOTE
Note: information on .o files is not available
* checking files in ‘vignettes’ ... OK
* checking examples ... OK
Examples with CPU (user + system) or elapsed time > 5s
                user system elapsed
RnaXSim       50.461  0.013  50.493
Linnorm.Cor   38.432  0.266  38.704
Linnorm.limma 18.348  0.005  18.362
Linnorm       18.039  0.005  18.072
Linnorm.Norm  18.008  0.007  18.018
* checking for unstated dependencies in ‘tests’ ... OK
* checking tests ...
  Running ‘testthat.R’
 OK
* checking for unstated dependencies in vignettes ... OK
* checking package vignettes ... OK
* checking re-building of vignette outputs ... OK
* checking PDF version of manual ... OK
* DONE
Status: 4 NOTEs
See
  ‘/media/volume/teran2_disk/biocbuild/bbs-3.20-bioc/meat/Linnorm.Rcheck/00check.log’
for details.
Linnorm.Rcheck/00install.out
############################################################################## ############################################################################## ### ### Running command: ### ### /home/biocbuild/bbs-3.20-bioc/R/bin/R CMD INSTALL Linnorm ### ############################################################################## ############################################################################## * installing to library ‘/media/volume/teran2_disk/biocbuild/bbs-3.20-bioc/R/site-library’ * installing *source* package ‘Linnorm’ ... ** using staged installation ** libs using C++ compiler: ‘g++ (Ubuntu 13.2.0-23ubuntu4) 13.2.0’ g++ -std=gnu++17 -I"/home/biocbuild/bbs-3.20-bioc/R/include" -DNDEBUG -I'/media/volume/teran2_disk/biocbuild/bbs-3.20-bioc/R/site-library/Rcpp/include' -I'/media/volume/teran2_disk/biocbuild/bbs-3.20-bioc/R/site-library/RcppArmadillo/include' -I/usr/local/include -fpic -g -O2 -Wall -c Misc.cpp -o Misc.o g++ -std=gnu++17 -shared -L/home/biocbuild/bbs-3.20-bioc/R/lib -L/usr/local/lib -o Linnorm.so Misc.o -std=c++11 -llapack -L/home/biocbuild/bbs-3.20-bioc/R/lib -lRblas -lgfortran -lm -lquadmath -DARMA_64BIT_WORD=1 -L/home/biocbuild/bbs-3.20-bioc/R/lib -lR installing to /media/volume/teran2_disk/biocbuild/bbs-3.20-bioc/R/site-library/00LOCK-Linnorm/00new/Linnorm/libs ** R ** data ** inst ** byte-compile and prepare package for lazy loading ** help *** installing help indices ** building package indices ** installing vignettes ** testing if installed package can be loaded from temporary location ** checking absolute paths in shared objects and dynamic libraries ** testing if installed package can be loaded from final location ** testing if installed package keeps a record of temporary installation path * DONE (Linnorm)
Linnorm.Rcheck/tests/testthat.Rout
R version 4.4.2 (2024-10-31) -- "Pile of Leaves"
Copyright (C) 2024 The R Foundation for Statistical Computing
Platform: x86_64-pc-linux-gnu
R is free software and comes with ABSOLUTELY NO WARRANTY.
You are welcome to redistribute it under certain conditions.
Type 'license()' or 'licence()' for distribution details.
R is a collaborative project with many contributors.
Type 'contributors()' for more information and
'citation()' on how to cite R or R packages in publications.
Type 'demo()' for some demos, 'help()' for on-line help, or
'help.start()' for an HTML browser interface to help.
Type 'q()' to quit R.
> library(testthat)
> library(Linnorm)
> 
> test_check("Linnorm")
[ FAIL 0 | WARN 0 | SKIP 0 | PASS 26 ]
> 
> proc.time()
   user  system elapsed 
 13.709   0.388  14.105 
Linnorm.Rcheck/Linnorm-Ex.timings
| name | user | system | elapsed | |
| LinearRegression | 0.000 | 0.000 | 0.001 | |
| LinearRegressionFP | 0 | 0 | 0 | |
| Linnorm.Cor | 38.432 | 0.266 | 38.704 | |
| Linnorm.DataImput | 1.129 | 0.089 | 1.218 | |
| Linnorm.HClust | 1.713 | 0.012 | 1.108 | |
| Linnorm.HVar | 0.588 | 0.013 | 0.602 | |
| Linnorm.Norm | 18.008 | 0.007 | 18.018 | |
| Linnorm.PCA | 1.900 | 0.009 | 1.911 | |
| Linnorm | 18.039 | 0.005 | 18.072 | |
| Linnorm.SGenes | 0.186 | 0.017 | 0.203 | |
| Linnorm.limma | 18.348 | 0.005 | 18.362 | |
| Linnorm.tSNE | 2.757 | 0.011 | 2.768 | |
| RnaXSim | 50.461 | 0.013 | 50.493 | |