| Back to Multiple platform build/check report for BioC 3.20: simplified long | 
 | 
This page was generated on 2024-11-20 12:06 -0500 (Wed, 20 Nov 2024).
| Hostname | OS | Arch (*) | R version | Installed pkgs | 
|---|---|---|---|---|
| teran2 | Linux (Ubuntu 24.04.1 LTS) | x86_64 | 4.4.2 (2024-10-31) -- "Pile of Leaves" | 4481 | 
| nebbiolo2 | Linux (Ubuntu 24.04.1 LTS) | x86_64 | 4.4.2 (2024-10-31) -- "Pile of Leaves" | 4479 | 
| palomino8 | Windows Server 2022 Datacenter | x64 | 4.4.2 (2024-10-31 ucrt) -- "Pile of Leaves" | 4359 | 
| lconway | macOS 12.7.1 Monterey | x86_64 | 4.4.1 (2024-06-14) -- "Race for Your Life" | 4539 | 
| kunpeng2 | Linux (openEuler 22.03 LTS-SP1) | aarch64 | 4.4.1 (2024-06-14) -- "Race for Your Life" | 4493 | 
| Click on any hostname to see more info about the system (e.g. compilers) (*) as reported by 'uname -p', except on Windows and Mac OS X | ||||
| Package 1088/2289 | Hostname | OS / Arch | INSTALL | BUILD | CHECK | BUILD BIN | ||||||||
| KnowSeq 1.20.0  (landing page) Daniel Castillo-Secilla 
 | teran2 | Linux (Ubuntu 24.04.1 LTS) / x86_64 | OK | OK | OK |  | ||||||||
| nebbiolo2 | Linux (Ubuntu 24.04.1 LTS) / x86_64 | OK | OK | OK | ||||||||||
| palomino8 | Windows Server 2022 Datacenter / x64 | OK | OK | OK | OK |  | ||||||||
| lconway | macOS 12.7.1 Monterey / x86_64 | OK | OK | OK | OK |  | ||||||||
| kunpeng2 | Linux (openEuler 22.03 LTS-SP1) / aarch64 | OK | OK | ERROR | ||||||||||
| To the developers/maintainers of the KnowSeq package: - Allow up to 24 hours (and sometimes 48 hours) for your latest push to git@git.bioconductor.org:packages/KnowSeq.git to reflect on this report. See Troubleshooting Build Report for more information. - Use the following Renviron settings to reproduce errors and warnings. - If 'R CMD check' started to fail recently on the Linux builder(s) over a missing dependency, add the missing dependency to 'Suggests:' in your DESCRIPTION file. See Renviron.bioc for more information. | 
| Package: KnowSeq | 
| Version: 1.20.0 | 
| Command: /Library/Frameworks/R.framework/Resources/bin/R CMD check --install=check:KnowSeq.install-out.txt --library=/Library/Frameworks/R.framework/Resources/library --no-vignettes --timings KnowSeq_1.20.0.tar.gz | 
| StartedAt: 2024-11-19 23:25:53 -0500 (Tue, 19 Nov 2024) | 
| EndedAt: 2024-11-19 23:33:25 -0500 (Tue, 19 Nov 2024) | 
| EllapsedTime: 451.9 seconds | 
| RetCode: 0 | 
| Status: OK | 
| CheckDir: KnowSeq.Rcheck | 
| Warnings: 0 | 
##############################################################################
##############################################################################
###
### Running command:
###
###   /Library/Frameworks/R.framework/Resources/bin/R CMD check --install=check:KnowSeq.install-out.txt --library=/Library/Frameworks/R.framework/Resources/library --no-vignettes --timings KnowSeq_1.20.0.tar.gz
###
##############################################################################
##############################################################################
* using log directory ‘/Users/biocbuild/bbs-3.20-bioc/meat/KnowSeq.Rcheck’
* using R version 4.4.1 (2024-06-14)
* using platform: x86_64-apple-darwin20
* R was compiled by
    Apple clang version 14.0.0 (clang-1400.0.29.202)
    GNU Fortran (GCC) 12.2.0
* running under: macOS Monterey 12.7.6
* using session charset: UTF-8
* using option ‘--no-vignettes’
* checking for file ‘KnowSeq/DESCRIPTION’ ... OK
* checking extension type ... Package
* this is package ‘KnowSeq’ version ‘1.20.0’
* package encoding: UTF-8
* checking package namespace information ... OK
* checking package dependencies ...Warning: unable to access index for repository https://CRAN.R-project.org/src/contrib:
  cannot open URL 'https://CRAN.R-project.org/src/contrib/PACKAGES'
 OK
* checking if this is a source package ... OK
* checking if there is a namespace ... OK
* checking for hidden files and directories ... OK
* checking for portable file names ... OK
* checking for sufficient/correct file permissions ... OK
* checking whether package ‘KnowSeq’ can be installed ... OK
* checking installed package size ... NOTE
  installed size is  7.2Mb
  sub-directories of 1Mb or more:
    extdata   6.9Mb
* checking package directory ... OK
* checking ‘build’ directory ... OK
* checking DESCRIPTION meta-information ... OK
* checking top-level files ... OK
* checking for left-over files ... OK
* checking index information ... OK
* checking package subdirectories ... OK
* checking code files for non-ASCII characters ... OK
* checking R files for syntax errors ... OK
* checking whether the package can be loaded ... OK
* checking whether the package can be loaded with stated dependencies ... OK
* checking whether the package can be unloaded cleanly ... OK
* checking whether the namespace can be loaded with stated dependencies ... OK
* checking whether the namespace can be unloaded cleanly ... OK
* checking dependencies in R code ... OK
* checking S3 generic/method consistency ... OK
* checking replacement functions ... OK
* checking foreign function calls ... OK
* checking R code for possible problems ... NOTE
DEGsExtraction: warning in topTable(fit, number = number, coef = 2,
  sort.by = "logFC", p.value = pvalue, adjust = "fdr", lfc = lfc):
  partial argument match of 'adjust' to 'adjust.method'
RNAseqQA : outlierBarPlot: no visible binding for global variable ‘x’
RNAseqQA : outlierBarPlot: no visible binding for global variable ‘y’
RNAseqQA: no visible binding for global variable ‘Var1’
RNAseqQA: no visible binding for global variable ‘Var2’
RNAseqQA: no visible binding for global variable ‘value’
RNAseqQA: no visible binding for global variable ‘Expression’
RNAseqQA: no visible binding for global variable ‘Samples’
dataPlot: no visible binding for global variable ‘Var1’
dataPlot: no visible binding for global variable ‘Var2’
dataPlot: no visible binding for global variable ‘value’
dataPlot: no visible binding for global variable ‘Classes’
dataPlot: no visible binding for global variable ‘Value’
knn_trn: no visible global function definition for ‘knn.cv’
knowseqReport: no visible binding for global variable ‘target’
Undefined global functions or variables:
  Classes Expression Samples Value Var1 Var2 knn.cv target value x y
* checking Rd files ... OK
* checking Rd metadata ... OK
* checking Rd cross-references ... OK
* checking for missing documentation entries ... OK
* checking for code/documentation mismatches ... OK
* checking Rd \usage sections ... OK
* checking Rd contents ... OK
* checking for unstated dependencies in examples ... OK
* checking files in ‘vignettes’ ... OK
* checking examples ... OK
Examples with CPU (user + system) or elapsed time > 5s
                       user system elapsed
dataPlot             13.581  0.095  13.702
rf_trn               11.232  0.473  11.748
svm_trn              11.261  0.040  11.315
svm_test             10.327  0.064  10.409
downloadPublicSeries  0.595  0.058  15.255
DEGsEvidences         0.216  0.017   7.023
* checking for unstated dependencies in vignettes ... OK
* checking package vignettes ... OK
* checking running R code from vignettes ... SKIPPED
* checking re-building of vignette outputs ... SKIPPED
* checking PDF version of manual ... OK
* DONE
Status: 2 NOTEs
See
  ‘/Users/biocbuild/bbs-3.20-bioc/meat/KnowSeq.Rcheck/00check.log’
for details.
KnowSeq.Rcheck/00install.out
############################################################################## ############################################################################## ### ### Running command: ### ### /Library/Frameworks/R.framework/Resources/bin/R CMD INSTALL KnowSeq ### ############################################################################## ############################################################################## * installing to library ‘/Library/Frameworks/R.framework/Versions/4.4-x86_64/Resources/library’ * installing *source* package ‘KnowSeq’ ... ** using staged installation ** R ** inst ** byte-compile and prepare package for lazy loading ** help *** installing help indices ** building package indices ** installing vignettes ** testing if installed package can be loaded from temporary location ** testing if installed package can be loaded from final location ** testing if installed package keeps a record of temporary installation path * DONE (KnowSeq)
KnowSeq.Rcheck/KnowSeq-Ex.timings
| name | user | system | elapsed | |
| DEGsEvidences | 0.216 | 0.017 | 7.023 | |
| DEGsExtraction | 1.028 | 0.030 | 1.061 | |
| DEGsToDiseases | 0.136 | 0.003 | 0.310 | |
| DEGsToPathways | 0.265 | 0.010 | 0.277 | |
| RNAseqQA | 1.228 | 0.055 | 1.288 | |
| batchEffectRemoval | 1.988 | 0.027 | 2.022 | |
| calculateGeneExpressionValues | 0.418 | 0.015 | 0.434 | |
| countsToMatrix | 0.039 | 0.006 | 0.046 | |
| dataPlot | 13.581 | 0.095 | 13.702 | |
| downloadPublicSeries | 0.595 | 0.058 | 15.255 | |
| featureSelection | 0.008 | 0.002 | 0.010 | |
| fileMove | 0 | 0 | 0 | |
| gdcClientDownload | 0 | 0 | 0 | |
| geneOntologyEnrichment | 0 | 0 | 0 | |
| getGenesAnnotation | 0.169 | 0.005 | 0.174 | |
| hisatAlignment | 0.001 | 0.001 | 0.002 | |
| knn_test | 0.031 | 0.001 | 0.032 | |
| knn_trn | 0.994 | 0.009 | 1.005 | |
| knowseqReport | 0.004 | 0.000 | 0.005 | |
| plotConfMatrix | 0.013 | 0.000 | 0.014 | |
| rawAlignment | 0.001 | 0.000 | 0.002 | |
| rf_test | 2.923 | 0.116 | 3.047 | |
| rf_trn | 11.232 | 0.473 | 11.748 | |
| sraToFastq | 0 | 0 | 0 | |
| svm_test | 10.327 | 0.064 | 10.409 | |
| svm_trn | 11.261 | 0.040 | 11.315 | |