| Back to Multiple platform build/check report for BioC 3.20: simplified long | 
 | 
This page was generated on 2025-04-02 19:35 -0400 (Wed, 02 Apr 2025).
| Hostname | OS | Arch (*) | R version | Installed pkgs | 
|---|---|---|---|---|
| nebbiolo2 | Linux (Ubuntu 24.04.1 LTS) | x86_64 | 4.4.3 (2025-02-28) -- "Trophy Case" | 4764 | 
| palomino8 | Windows Server 2022 Datacenter | x64 | 4.4.3 (2025-02-28 ucrt) -- "Trophy Case" | 4495 | 
| merida1 | macOS 12.7.5 Monterey | x86_64 | 4.4.3 (2025-02-28) -- "Trophy Case" | 4522 | 
| kjohnson1 | macOS 13.6.6 Ventura | arm64 | 4.4.3 (2025-02-28) -- "Trophy Case" | 4449 | 
| taishan | Linux (openEuler 24.03 LTS) | aarch64 | 4.4.3 (2025-02-28) -- "Trophy Case" | 4426 | 
| Click on any hostname to see more info about the system (e.g. compilers) (*) as reported by 'uname -p', except on Windows and Mac OS X | ||||
| Package 1082/2289 | Hostname | OS / Arch | INSTALL | BUILD | CHECK | BUILD BIN | ||||||||
| KEGGlincs 1.32.0  (landing page) Shana White 
 | nebbiolo2 | Linux (Ubuntu 24.04.1 LTS) / x86_64 | OK | OK | OK |  | ||||||||
| palomino8 | Windows Server 2022 Datacenter / x64 | OK | OK | OK | OK |  | ||||||||
| merida1 | macOS 12.7.5 Monterey / x86_64 | OK | OK | OK | OK |  | ||||||||
| kjohnson1 | macOS 13.6.6 Ventura / arm64 | OK | OK | OK | OK |  | ||||||||
| taishan | Linux (openEuler 24.03 LTS) / aarch64 | OK | OK | OK | ||||||||||
| To the developers/maintainers of the KEGGlincs package: - Allow up to 24 hours (and sometimes 48 hours) for your latest push to git@git.bioconductor.org:packages/KEGGlincs.git to reflect on this report. See Troubleshooting Build Report for more information. - Use the following Renviron settings to reproduce errors and warnings. - If 'R CMD check' started to fail recently on the Linux builder(s) over a missing dependency, add the missing dependency to 'Suggests:' in your DESCRIPTION file. See Renviron.bioc for more information. - See Martin Grigorov's blog post for how to debug Linux ARM64 related issues on a x86_64 host. | 
| Package: KEGGlincs | 
| Version: 1.32.0 | 
| Command: /home/biocbuild/R/R/bin/R CMD check --install=check:KEGGlincs.install-out.txt --library=/home/biocbuild/R/R/site-library --no-vignettes --timings KEGGlincs_1.32.0.tar.gz | 
| StartedAt: 2025-04-01 07:45:25 -0000 (Tue, 01 Apr 2025) | 
| EndedAt: 2025-04-01 07:49:57 -0000 (Tue, 01 Apr 2025) | 
| EllapsedTime: 271.4 seconds | 
| RetCode: 0 | 
| Status: OK | 
| CheckDir: KEGGlincs.Rcheck | 
| Warnings: 0 | 
##############################################################################
##############################################################################
###
### Running command:
###
###   /home/biocbuild/R/R/bin/R CMD check --install=check:KEGGlincs.install-out.txt --library=/home/biocbuild/R/R/site-library --no-vignettes --timings KEGGlincs_1.32.0.tar.gz
###
##############################################################################
##############################################################################
* using log directory ‘/home/biocbuild/bbs-3.20-bioc/meat/KEGGlincs.Rcheck’
* using R version 4.4.3 (2025-02-28)
* using platform: aarch64-unknown-linux-gnu
* R was compiled by
    aarch64-unknown-linux-gnu-gcc (GCC) 14.2.0
    GNU Fortran (GCC) 14.2.0
* running under: openEuler 24.03 (LTS)
* using session charset: UTF-8
* using option ‘--no-vignettes’
* checking for file ‘KEGGlincs/DESCRIPTION’ ... OK
* checking extension type ... Package
* this is package ‘KEGGlincs’ version ‘1.32.0’
* checking package namespace information ... OK
* checking package dependencies ... OK
* checking if this is a source package ... OK
* checking if there is a namespace ... OK
* checking for hidden files and directories ... OK
* checking for portable file names ... OK
* checking for sufficient/correct file permissions ... OK
* checking whether package ‘KEGGlincs’ can be installed ... OK
* checking installed package size ... OK
* checking package directory ... OK
* checking ‘build’ directory ... OK
* checking DESCRIPTION meta-information ... OK
* checking top-level files ... OK
* checking for left-over files ... OK
* checking index information ... OK
* checking package subdirectories ... OK
* checking code files for non-ASCII characters ... OK
* checking R files for syntax errors ... OK
* checking whether the package can be loaded ... OK
* checking whether the package can be loaded with stated dependencies ... OK
* checking whether the package can be unloaded cleanly ... OK
* checking whether the namespace can be loaded with stated dependencies ... OK
* checking whether the namespace can be unloaded cleanly ... OK
* checking loading without being on the library search path ... OK
* checking dependencies in R code ... NOTE
Namespace in Imports field not imported from: ‘XML’
  All declared Imports should be used.
* checking S3 generic/method consistency ... OK
* checking replacement functions ... OK
* checking foreign function calls ... OK
* checking R code for possible problems ... OK
* checking Rd files ... OK
* checking Rd metadata ... OK
* checking Rd cross-references ... OK
* checking for missing documentation entries ... OK
* checking for code/documentation mismatches ... OK
* checking Rd \usage sections ... OK
* checking Rd contents ... OK
* checking for unstated dependencies in examples ... OK
* checking files in ‘vignettes’ ... OK
* checking examples ... OK
Examples with CPU (user + system) or elapsed time > 5s
                          user system elapsed
overlap_info            27.770  0.658  28.766
add_edge_data           26.720  0.494  27.821
edge_mapping_info       17.507  1.468  19.206
path_genes_by_cell_type 17.544  0.718  18.422
refine_mappings         16.944  0.479  17.577
get_graph_object        16.391  0.449  17.013
* checking for unstated dependencies in vignettes ... OK
* checking package vignettes ... OK
* checking running R code from vignettes ... SKIPPED
* checking re-building of vignette outputs ... SKIPPED
* checking PDF version of manual ... OK
* DONE
Status: 1 NOTE
See
  ‘/home/biocbuild/bbs-3.20-bioc/meat/KEGGlincs.Rcheck/00check.log’
for details.
KEGGlincs.Rcheck/00install.out
############################################################################## ############################################################################## ### ### Running command: ### ### /home/biocbuild/R/R/bin/R CMD INSTALL KEGGlincs ### ############################################################################## ############################################################################## * installing to library ‘/home/biocbuild/R/R-4.4.3/site-library’ * installing *source* package ‘KEGGlincs’ ... ** using staged installation ** R ** inst ** byte-compile and prepare package for lazy loading ** help *** installing help indices ** building package indices ** installing vignettes ** testing if installed package can be loaded from temporary location ** testing if installed package can be loaded from final location ** testing if installed package keeps a record of temporary installation path * DONE (KEGGlincs)
KEGGlincs.Rcheck/KEGGlincs-Ex.timings
| name | user | system | elapsed | |
| KEGG_lincs | 0 | 0 | 0 | |
| KL_compare | 0 | 0 | 0 | |
| add_edge_data | 26.720 | 0.494 | 27.821 | |
| cyto_vis | 0.541 | 0.264 | 0.989 | |
| edge_mapping_info | 17.507 | 1.468 | 19.206 | |
| expand_KEGG_edges | 0.195 | 0.016 | 0.323 | |
| expand_KEGG_mappings | 0.154 | 0.004 | 0.264 | |
| generate_mappings | 0.000 | 0.000 | 0.001 | |
| get_KGML | 0.380 | 0.032 | 0.732 | |
| get_fisher_info | 0.004 | 0.000 | 0.004 | |
| get_graph_object | 16.391 | 0.449 | 17.013 | |
| keggerize_edges | 0 | 0 | 0 | |
| node_mapping_info | 0.178 | 0.000 | 0.284 | |
| overlap_info | 27.770 | 0.658 | 28.766 | |
| path_genes_by_cell_type | 17.544 | 0.718 | 18.422 | |
| refine_mappings | 16.944 | 0.479 | 17.577 | |
| tidy_edge | 0 | 0 | 0 | |