| Back to Multiple platform build/check report for BioC 3.20: simplified long |
|
This page was generated on 2024-07-16 11:40 -0400 (Tue, 16 Jul 2024).
| Hostname | OS | Arch (*) | R version | Installed pkgs |
|---|---|---|---|---|
| nebbiolo2 | Linux (Ubuntu 22.04.3 LTS) | x86_64 | 4.4.1 (2024-06-14) -- "Race for Your Life" | 4677 |
| palomino6 | Windows Server 2022 Datacenter | x64 | 4.4.1 (2024-06-14 ucrt) -- "Race for Your Life" | 4416 |
| lconway | macOS 12.7.1 Monterey | x86_64 | 4.4.1 (2024-06-14) -- "Race for Your Life" | 4444 |
| kjohnson3 | macOS 13.6.5 Ventura | arm64 | 4.4.1 (2024-06-14) -- "Race for Your Life" | 4393 |
| palomino8 | Windows Server 2022 Datacenter | x64 | 4.4.1 (2024-06-14 ucrt) -- "Race for Your Life" | 4373 |
| Click on any hostname to see more info about the system (e.g. compilers) (*) as reported by 'uname -p', except on Windows and Mac OS X | ||||
| Package 1031/2243 | Hostname | OS / Arch | INSTALL | BUILD | CHECK | BUILD BIN | ||||||||
| IRanges 2.39.1 (landing page) Hervé Pagès
| nebbiolo2 | Linux (Ubuntu 22.04.3 LTS) / x86_64 | OK | OK | WARNINGS | |||||||||
| palomino6 | Windows Server 2022 Datacenter / x64 | OK | OK | WARNINGS | OK | |||||||||
| lconway | macOS 12.7.1 Monterey / x86_64 | OK | OK | WARNINGS | OK | |||||||||
| kjohnson3 | macOS 13.6.5 Ventura / arm64 | OK | OK | WARNINGS | OK | |||||||||
| palomino8 | Windows Server 2022 Datacenter / x64 | OK | OK | WARNINGS | OK | |||||||||
|
To the developers/maintainers of the IRanges package: - Allow up to 24 hours (and sometimes 48 hours) for your latest push to git@git.bioconductor.org:packages/IRanges.git to reflect on this report. See Troubleshooting Build Report for more information. - Use the following Renviron settings to reproduce errors and warnings. - If 'R CMD check' started to fail recently on the Linux builder(s) over a missing dependency, add the missing dependency to 'Suggests:' in your DESCRIPTION file. See Renviron.bioc for more information. |
| Package: IRanges |
| Version: 2.39.1 |
| Command: rm -rf IRanges.buildbin-libdir && mkdir IRanges.buildbin-libdir && C:\Users\biocbuild\bbs-3.20-bioc\R\bin\R.exe CMD INSTALL --build --library=IRanges.buildbin-libdir IRanges_2.39.1.tar.gz |
| StartedAt: 2024-07-16 06:20:29 -0400 (Tue, 16 Jul 2024) |
| EndedAt: 2024-07-16 06:21:56 -0400 (Tue, 16 Jul 2024) |
| EllapsedTime: 87.7 seconds |
| RetCode: 0 |
| Status: OK |
| PackageFile: IRanges_2.39.1.zip |
| PackageFileSize: 2.238 MiB |
##############################################################################
##############################################################################
###
### Running command:
###
### rm -rf IRanges.buildbin-libdir && mkdir IRanges.buildbin-libdir && C:\Users\biocbuild\bbs-3.20-bioc\R\bin\R.exe CMD INSTALL --build --library=IRanges.buildbin-libdir IRanges_2.39.1.tar.gz
###
##############################################################################
##############################################################################
* installing *source* package 'IRanges' ...
** using staged installation
** libs
using C compiler: 'gcc.exe (GCC) 13.2.0'
gcc -I"C:/Users/biocbuild/bbs-3.20-bioc/R/include" -DNDEBUG -I'C:/Users/biocbuild/bbs-3.20-bioc/R/library/S4Vectors/include' -I"C:/rtools44/x86_64-w64-mingw32.static.posix/include" -O2 -Wall -mfpmath=sse -msse2 -mstackrealign -c CompressedAtomicList_utils.c -o CompressedAtomicList_utils.o
gcc -I"C:/Users/biocbuild/bbs-3.20-bioc/R/include" -DNDEBUG -I'C:/Users/biocbuild/bbs-3.20-bioc/R/library/S4Vectors/include' -I"C:/rtools44/x86_64-w64-mingw32.static.posix/include" -O2 -Wall -mfpmath=sse -msse2 -mstackrealign -c CompressedIRangesList_class.c -o CompressedIRangesList_class.o
gcc -I"C:/Users/biocbuild/bbs-3.20-bioc/R/include" -DNDEBUG -I'C:/Users/biocbuild/bbs-3.20-bioc/R/library/S4Vectors/include' -I"C:/rtools44/x86_64-w64-mingw32.static.posix/include" -O2 -Wall -mfpmath=sse -msse2 -mstackrealign -c CompressedList_class.c -o CompressedList_class.o
gcc -I"C:/Users/biocbuild/bbs-3.20-bioc/R/include" -DNDEBUG -I'C:/Users/biocbuild/bbs-3.20-bioc/R/library/S4Vectors/include' -I"C:/rtools44/x86_64-w64-mingw32.static.posix/include" -O2 -Wall -mfpmath=sse -msse2 -mstackrealign -c Grouping_class.c -o Grouping_class.o
gcc -I"C:/Users/biocbuild/bbs-3.20-bioc/R/include" -DNDEBUG -I'C:/Users/biocbuild/bbs-3.20-bioc/R/library/S4Vectors/include' -I"C:/rtools44/x86_64-w64-mingw32.static.posix/include" -O2 -Wall -mfpmath=sse -msse2 -mstackrealign -c IPosRanges_comparison.c -o IPosRanges_comparison.o
gcc -I"C:/Users/biocbuild/bbs-3.20-bioc/R/include" -DNDEBUG -I'C:/Users/biocbuild/bbs-3.20-bioc/R/library/S4Vectors/include' -I"C:/rtools44/x86_64-w64-mingw32.static.posix/include" -O2 -Wall -mfpmath=sse -msse2 -mstackrealign -c IRanges_class.c -o IRanges_class.o
gcc -I"C:/Users/biocbuild/bbs-3.20-bioc/R/include" -DNDEBUG -I'C:/Users/biocbuild/bbs-3.20-bioc/R/library/S4Vectors/include' -I"C:/rtools44/x86_64-w64-mingw32.static.posix/include" -O2 -Wall -mfpmath=sse -msse2 -mstackrealign -c IRanges_constructor.c -o IRanges_constructor.o
gcc -I"C:/Users/biocbuild/bbs-3.20-bioc/R/include" -DNDEBUG -I'C:/Users/biocbuild/bbs-3.20-bioc/R/library/S4Vectors/include' -I"C:/rtools44/x86_64-w64-mingw32.static.posix/include" -O2 -Wall -mfpmath=sse -msse2 -mstackrealign -c NCList.c -o NCList.o
NCList.c:1173:13: warning: 'NCList_get_y_overlaps_rec' defined but not used [-Wunused-function]
1173 | static void NCList_get_y_overlaps_rec(const NCList *x_nclist,
| ^~~~~~~~~~~~~~~~~~~~~~~~~
NCList.c:202:22: warning: 'next_top_down' defined but not used [-Wunused-function]
202 | static const NCList *next_top_down(const NCList *nclist)
| ^~~~~~~~~~~~~
NCList.c: In function 'C_find_overlaps_in_groups_NCList':
NCList.c:1608:24: warning: 'ans' may be used uninitialized [-Wmaybe-uninitialized]
1608 | return ans;
| ^~~
NCList.c:1546:14: note: 'ans' was declared here
1546 | SEXP ans;
| ^~~
gcc -I"C:/Users/biocbuild/bbs-3.20-bioc/R/include" -DNDEBUG -I'C:/Users/biocbuild/bbs-3.20-bioc/R/library/S4Vectors/include' -I"C:/rtools44/x86_64-w64-mingw32.static.posix/include" -O2 -Wall -mfpmath=sse -msse2 -mstackrealign -c R_init_IRanges.c -o R_init_IRanges.o
gcc -I"C:/Users/biocbuild/bbs-3.20-bioc/R/include" -DNDEBUG -I'C:/Users/biocbuild/bbs-3.20-bioc/R/library/S4Vectors/include' -I"C:/rtools44/x86_64-w64-mingw32.static.posix/include" -O2 -Wall -mfpmath=sse -msse2 -mstackrealign -c Ranges_class.c -o Ranges_class.o
gcc -I"C:/Users/biocbuild/bbs-3.20-bioc/R/include" -DNDEBUG -I'C:/Users/biocbuild/bbs-3.20-bioc/R/library/S4Vectors/include' -I"C:/rtools44/x86_64-w64-mingw32.static.posix/include" -O2 -Wall -mfpmath=sse -msse2 -mstackrealign -c RleViews_utils.c -o RleViews_utils.o
gcc -I"C:/Users/biocbuild/bbs-3.20-bioc/R/include" -DNDEBUG -I'C:/Users/biocbuild/bbs-3.20-bioc/R/library/S4Vectors/include' -I"C:/rtools44/x86_64-w64-mingw32.static.posix/include" -O2 -Wall -mfpmath=sse -msse2 -mstackrealign -c S4Vectors_stubs.c -o S4Vectors_stubs.o
gcc -I"C:/Users/biocbuild/bbs-3.20-bioc/R/include" -DNDEBUG -I'C:/Users/biocbuild/bbs-3.20-bioc/R/library/S4Vectors/include' -I"C:/rtools44/x86_64-w64-mingw32.static.posix/include" -O2 -Wall -mfpmath=sse -msse2 -mstackrealign -c SimpleIRangesList_class.c -o SimpleIRangesList_class.o
gcc -I"C:/Users/biocbuild/bbs-3.20-bioc/R/include" -DNDEBUG -I'C:/Users/biocbuild/bbs-3.20-bioc/R/library/S4Vectors/include' -I"C:/rtools44/x86_64-w64-mingw32.static.posix/include" -O2 -Wall -mfpmath=sse -msse2 -mstackrealign -c coverage_methods.c -o coverage_methods.o
In function 'shift_and_clip_ranges',
inlined from 'compute_coverage_from_IRanges_holder' at coverage_methods.c:609:12:
coverage_methods.c:579:35: warning: 'x_end' may be used uninitialized [-Wmaybe-uninitialized]
579 | if (*out_ranges_are_tiles && x_end != cvg_len)
| ~~~~~~~~~~~~~~~~~~~~~~^~~~~~~~~~~~~~~~~~~
coverage_methods.c: In function 'compute_coverage_from_IRanges_holder':
coverage_methods.c:495:28: note: 'x_end' was declared here
495 | i, j, x_start, x_end, shift_elt, tmp;
| ^~~~~
gcc -I"C:/Users/biocbuild/bbs-3.20-bioc/R/include" -DNDEBUG -I'C:/Users/biocbuild/bbs-3.20-bioc/R/library/S4Vectors/include' -I"C:/rtools44/x86_64-w64-mingw32.static.posix/include" -O2 -Wall -mfpmath=sse -msse2 -mstackrealign -c extractListFragments.c -o extractListFragments.o
extractListFragments.c: In function 'C_find_partition_overlaps':
extractListFragments.c:85:25: warning: 'split_partitions_buf' may be used uninitialized [-Wmaybe-uninitialized]
85 | IntAE_insert_at(split_partitions_buf,
| ^~~~~~~~~~~~~~~~~~~~~~~~~~~~~~~~~~~~~
86 | IntAE_get_nelt(split_partitions_buf),
| ~~~~~~~~~~~~~~~~~~~~~~~~~~~~~~~~~~~~~
87 | q_prev_end);
| ~~~~~~~~~~~
extractListFragments.c:35:16: note: 'split_partitions_buf' was declared here
35 | IntAE *split_partitions_buf;
| ^~~~~~~~~~~~~~~~~~~~
gcc -I"C:/Users/biocbuild/bbs-3.20-bioc/R/include" -DNDEBUG -I'C:/Users/biocbuild/bbs-3.20-bioc/R/library/S4Vectors/include' -I"C:/rtools44/x86_64-w64-mingw32.static.posix/include" -O2 -Wall -mfpmath=sse -msse2 -mstackrealign -c inter_range_methods.c -o inter_range_methods.o
inter_range_methods.c: In function 'reduce_ranges.isra':
inter_range_methods.c:156:35: warning: 'max_end' may be used uninitialized [-Wmaybe-uninitialized]
156 | width_inc = end_j - max_end;
| ~~~~~~~~~~^~~~~~~~~~~~~~~~~
inter_range_methods.c:102:29: note: 'max_end' was declared here
102 | append_or_drop, max_end, gapwidth, delta, width_inc;
| ^~~~~~~
inter_range_methods.c:165:33: warning: 'revmap_elt' may be used uninitialized [-Wmaybe-uninitialized]
165 | IntAE_insert_at(revmap_elt,
| ^~~~~~~~~~~~~~~~~~~~~~~~~~~
166 | IntAE_get_nelt(revmap_elt),
| ~~~~~~~~~~~~~~~~~~~~~~~~~~~
167 | j + 1);
| ~~~~~~
inter_range_methods.c:103:22: note: 'revmap_elt' was declared here
103 | IntAE *tmp, *revmap_elt;
| ^~~~~~~~~~
inter_range_methods.c:154:39: warning: 'gapwidth' may be used uninitialized [-Wmaybe-uninitialized]
154 | delta += gapwidth;
| ~~~~~~^~~~~~~~~~~
inter_range_methods.c:102:38: note: 'gapwidth' was declared here
102 | append_or_drop, max_end, gapwidth, delta, width_inc;
| ^~~~~~~~
inter_range_methods.c:154:39: warning: 'delta' may be used uninitialized [-Wmaybe-uninitialized]
154 | delta += gapwidth;
| ~~~~~~^~~~~~~~~~~
inter_range_methods.c:102:48: note: 'delta' was declared here
102 | append_or_drop, max_end, gapwidth, delta, width_inc;
| ^~~~~
gcc -shared -s -static-libgcc -o IRanges.dll tmp.def CompressedAtomicList_utils.o CompressedIRangesList_class.o CompressedList_class.o Grouping_class.o IPosRanges_comparison.o IRanges_class.o IRanges_constructor.o NCList.o R_init_IRanges.o Ranges_class.o RleViews_utils.o S4Vectors_stubs.o SimpleIRangesList_class.o coverage_methods.o extractListFragments.o inter_range_methods.o -LC:/rtools44/x86_64-w64-mingw32.static.posix/lib/x64 -LC:/rtools44/x86_64-w64-mingw32.static.posix/lib -LC:/Users/biocbuild/bbs-3.20-bioc/R/bin/x64 -lR
installing to C:/Users/biocbuild/bbs-3.20-bioc/meat/IRanges.buildbin-libdir/00LOCK-IRanges/00new/IRanges/libs/x64
** R
** inst
** byte-compile and prepare package for lazy loading
Creating a generic function for 'drop' from package 'base' in package 'IRanges'
Creating a generic function for 'runmed' from package 'stats' in package 'IRanges'
Creating a generic function for 'chartr' from package 'base' in package 'IRanges'
Creating a generic function for 'toupper' from package 'base' in package 'IRanges'
Creating a generic function for 'tolower' from package 'base' in package 'IRanges'
Creating a generic function for 'sub' from package 'base' in package 'IRanges'
Creating a generic function for 'gsub' from package 'base' in package 'IRanges'
Creating a generic function for 'startsWith' from package 'base' in package 'IRanges'
Creating a generic function for 'endsWith' from package 'base' in package 'IRanges'
Creating a generic function for 'smoothEnds' from package 'stats' in package 'IRanges'
Creating a new generic function for 'windows' in package 'IRanges'
** help
*** installing help indices
** building package indices
** installing vignettes
** testing if installed package can be loaded from temporary location
** testing if installed package can be loaded from final location
** testing if installed package keeps a record of temporary installation path
* MD5 sums
packaged installation of 'IRanges' as IRanges_2.39.1.zip
* DONE (IRanges)