| Back to Multiple platform build/check report for BioC 3.20: simplified long |
|
This page was generated on 2024-11-20 12:07 -0500 (Wed, 20 Nov 2024).
| Hostname | OS | Arch (*) | R version | Installed pkgs |
|---|---|---|---|---|
| teran2 | Linux (Ubuntu 24.04.1 LTS) | x86_64 | 4.4.2 (2024-10-31) -- "Pile of Leaves" | 4481 |
| nebbiolo2 | Linux (Ubuntu 24.04.1 LTS) | x86_64 | 4.4.2 (2024-10-31) -- "Pile of Leaves" | 4479 |
| palomino8 | Windows Server 2022 Datacenter | x64 | 4.4.2 (2024-10-31 ucrt) -- "Pile of Leaves" | 4359 |
| lconway | macOS 12.7.1 Monterey | x86_64 | 4.4.1 (2024-06-14) -- "Race for Your Life" | 4539 |
| kunpeng2 | Linux (openEuler 22.03 LTS-SP1) | aarch64 | 4.4.1 (2024-06-14) -- "Race for Your Life" | 4493 |
| Click on any hostname to see more info about the system (e.g. compilers) (*) as reported by 'uname -p', except on Windows and Mac OS X | ||||
| Package 1050/2289 | Hostname | OS / Arch | INSTALL | BUILD | CHECK | BUILD BIN | ||||||||
| IRanges 2.40.0 (landing page) Hervé Pagès
| teran2 | Linux (Ubuntu 24.04.1 LTS) / x86_64 | OK | OK | WARNINGS | |||||||||
| nebbiolo2 | Linux (Ubuntu 24.04.1 LTS) / x86_64 | OK | OK | WARNINGS | ||||||||||
| palomino8 | Windows Server 2022 Datacenter / x64 | OK | OK | WARNINGS | OK | |||||||||
| lconway | macOS 12.7.1 Monterey / x86_64 | OK | OK | WARNINGS | OK | |||||||||
| kunpeng2 | Linux (openEuler 22.03 LTS-SP1) / aarch64 | OK | OK | WARNINGS | ||||||||||
|
To the developers/maintainers of the IRanges package: - Allow up to 24 hours (and sometimes 48 hours) for your latest push to git@git.bioconductor.org:packages/IRanges.git to reflect on this report. See Troubleshooting Build Report for more information. - Use the following Renviron settings to reproduce errors and warnings. - If 'R CMD check' started to fail recently on the Linux builder(s) over a missing dependency, add the missing dependency to 'Suggests:' in your DESCRIPTION file. See Renviron.bioc for more information. - See Martin Grigorov's blog post for how to debug Linux ARM64 related issues on a x86_64 host. |
| Package: IRanges |
| Version: 2.40.0 |
| Command: /home/biocbuild/R/R/bin/R CMD INSTALL IRanges |
| StartedAt: 2024-11-19 20:30:01 -0000 (Tue, 19 Nov 2024) |
| EndedAt: 2024-11-19 20:31:30 -0000 (Tue, 19 Nov 2024) |
| EllapsedTime: 89.0 seconds |
| RetCode: 0 |
| Status: OK |
##############################################################################
##############################################################################
###
### Running command:
###
### /home/biocbuild/R/R/bin/R CMD INSTALL IRanges
###
##############################################################################
##############################################################################
* installing to library ‘/home/biocbuild/R/R-4.4.1/site-library’
* installing *source* package ‘IRanges’ ...
** using staged installation
** libs
using C compiler: ‘gcc (conda-forge gcc 14.2.0-1) 14.2.0’
gcc -I"/home/biocbuild/R/R-4.4.1/include" -DNDEBUG -I'/home/biocbuild/R/R-4.4.1/site-library/S4Vectors/include' -I/usr/local/include -fPIC -g -O2 -Wall -c CompressedAtomicList_utils.c -o CompressedAtomicList_utils.o
gcc -I"/home/biocbuild/R/R-4.4.1/include" -DNDEBUG -I'/home/biocbuild/R/R-4.4.1/site-library/S4Vectors/include' -I/usr/local/include -fPIC -g -O2 -Wall -c CompressedIRangesList_class.c -o CompressedIRangesList_class.o
gcc -I"/home/biocbuild/R/R-4.4.1/include" -DNDEBUG -I'/home/biocbuild/R/R-4.4.1/site-library/S4Vectors/include' -I/usr/local/include -fPIC -g -O2 -Wall -c CompressedList_class.c -o CompressedList_class.o
gcc -I"/home/biocbuild/R/R-4.4.1/include" -DNDEBUG -I'/home/biocbuild/R/R-4.4.1/site-library/S4Vectors/include' -I/usr/local/include -fPIC -g -O2 -Wall -c Grouping_class.c -o Grouping_class.o
gcc -I"/home/biocbuild/R/R-4.4.1/include" -DNDEBUG -I'/home/biocbuild/R/R-4.4.1/site-library/S4Vectors/include' -I/usr/local/include -fPIC -g -O2 -Wall -c IPosRanges_comparison.c -o IPosRanges_comparison.o
gcc -I"/home/biocbuild/R/R-4.4.1/include" -DNDEBUG -I'/home/biocbuild/R/R-4.4.1/site-library/S4Vectors/include' -I/usr/local/include -fPIC -g -O2 -Wall -c IRanges_class.c -o IRanges_class.o
gcc -I"/home/biocbuild/R/R-4.4.1/include" -DNDEBUG -I'/home/biocbuild/R/R-4.4.1/site-library/S4Vectors/include' -I/usr/local/include -fPIC -g -O2 -Wall -c IRanges_constructor.c -o IRanges_constructor.o
gcc -I"/home/biocbuild/R/R-4.4.1/include" -DNDEBUG -I'/home/biocbuild/R/R-4.4.1/site-library/S4Vectors/include' -I/usr/local/include -fPIC -g -O2 -Wall -c NCList.c -o NCList.o
NCList.c:1173:13: warning: 'NCList_get_y_overlaps_rec' defined but not used [-Wunused-function]
1173 | static void NCList_get_y_overlaps_rec(const NCList *x_nclist,
| ^~~~~~~~~~~~~~~~~~~~~~~~~
NCList.c:202:22: warning: 'next_top_down' defined but not used [-Wunused-function]
202 | static const NCList *next_top_down(const NCList *nclist)
| ^~~~~~~~~~~~~
NCList.c: In function 'C_find_overlaps_in_groups_NCList':
NCList.c:1608:24: warning: 'ans' may be used uninitialized [-Wmaybe-uninitialized]
1608 | return ans;
| ^~~
NCList.c:1546:14: note: 'ans' was declared here
1546 | SEXP ans;
| ^~~
gcc -I"/home/biocbuild/R/R-4.4.1/include" -DNDEBUG -I'/home/biocbuild/R/R-4.4.1/site-library/S4Vectors/include' -I/usr/local/include -fPIC -g -O2 -Wall -c R_init_IRanges.c -o R_init_IRanges.o
gcc -I"/home/biocbuild/R/R-4.4.1/include" -DNDEBUG -I'/home/biocbuild/R/R-4.4.1/site-library/S4Vectors/include' -I/usr/local/include -fPIC -g -O2 -Wall -c Ranges_class.c -o Ranges_class.o
gcc -I"/home/biocbuild/R/R-4.4.1/include" -DNDEBUG -I'/home/biocbuild/R/R-4.4.1/site-library/S4Vectors/include' -I/usr/local/include -fPIC -g -O2 -Wall -c RleViews_utils.c -o RleViews_utils.o
gcc -I"/home/biocbuild/R/R-4.4.1/include" -DNDEBUG -I'/home/biocbuild/R/R-4.4.1/site-library/S4Vectors/include' -I/usr/local/include -fPIC -g -O2 -Wall -c S4Vectors_stubs.c -o S4Vectors_stubs.o
gcc -I"/home/biocbuild/R/R-4.4.1/include" -DNDEBUG -I'/home/biocbuild/R/R-4.4.1/site-library/S4Vectors/include' -I/usr/local/include -fPIC -g -O2 -Wall -c SimpleIRangesList_class.c -o SimpleIRangesList_class.o
gcc -I"/home/biocbuild/R/R-4.4.1/include" -DNDEBUG -I'/home/biocbuild/R/R-4.4.1/site-library/S4Vectors/include' -I/usr/local/include -fPIC -g -O2 -Wall -c coverage_methods.c -o coverage_methods.o
In function 'shift_and_clip_ranges',
inlined from 'compute_coverage_from_IRanges_holder' at coverage_methods.c:609:12:
coverage_methods.c:579:35: warning: 'x_end' may be used uninitialized [-Wmaybe-uninitialized]
579 | if (*out_ranges_are_tiles && x_end != cvg_len)
| ~~~~~~~~~~~~~~~~~~~~~~^~~~~~~~~~~~~~~~~~~
coverage_methods.c: In function 'compute_coverage_from_IRanges_holder':
coverage_methods.c:495:28: note: 'x_end' was declared here
495 | i, j, x_start, x_end, shift_elt, tmp;
| ^~~~~
gcc -I"/home/biocbuild/R/R-4.4.1/include" -DNDEBUG -I'/home/biocbuild/R/R-4.4.1/site-library/S4Vectors/include' -I/usr/local/include -fPIC -g -O2 -Wall -c extractListFragments.c -o extractListFragments.o
extractListFragments.c: In function 'C_find_partition_overlaps':
extractListFragments.c:85:25: warning: 'split_partitions_buf' may be used uninitialized [-Wmaybe-uninitialized]
85 | IntAE_insert_at(split_partitions_buf,
| ^~~~~~~~~~~~~~~~~~~~~~~~~~~~~~~~~~~~~
86 | IntAE_get_nelt(split_partitions_buf),
| ~~~~~~~~~~~~~~~~~~~~~~~~~~~~~~~~~~~~~
87 | q_prev_end);
| ~~~~~~~~~~~
extractListFragments.c:35:16: note: 'split_partitions_buf' was declared here
35 | IntAE *split_partitions_buf;
| ^~~~~~~~~~~~~~~~~~~~
gcc -I"/home/biocbuild/R/R-4.4.1/include" -DNDEBUG -I'/home/biocbuild/R/R-4.4.1/site-library/S4Vectors/include' -I/usr/local/include -fPIC -g -O2 -Wall -c inter_range_methods.c -o inter_range_methods.o
inter_range_methods.c: In function 'reduce_ranges.isra':
inter_range_methods.c:154:39: warning: 'gapwidth' may be used uninitialized [-Wmaybe-uninitialized]
154 | delta += gapwidth;
| ~~~~~~^~~~~~~~~~~
inter_range_methods.c:102:38: note: 'gapwidth' was declared here
102 | append_or_drop, max_end, gapwidth, delta, width_inc;
| ^~~~~~~~
gcc -shared -L/home/biocbuild/R/R-4.4.1/lib -L/usr/local/lib -o IRanges.so CompressedAtomicList_utils.o CompressedIRangesList_class.o CompressedList_class.o Grouping_class.o IPosRanges_comparison.o IRanges_class.o IRanges_constructor.o NCList.o R_init_IRanges.o Ranges_class.o RleViews_utils.o S4Vectors_stubs.o SimpleIRangesList_class.o coverage_methods.o extractListFragments.o inter_range_methods.o -L/home/biocbuild/R/R-4.4.1/lib -lR
installing to /home/biocbuild/R/R-4.4.1/site-library/00LOCK-IRanges/00new/IRanges/libs
** R
** inst
** byte-compile and prepare package for lazy loading
Creating a generic function for ‘drop’ from package ‘base’ in package ‘IRanges’
Creating a generic function for ‘runmed’ from package ‘stats’ in package ‘IRanges’
Creating a generic function for ‘chartr’ from package ‘base’ in package ‘IRanges’
Creating a generic function for ‘toupper’ from package ‘base’ in package ‘IRanges’
Creating a generic function for ‘tolower’ from package ‘base’ in package ‘IRanges’
Creating a generic function for ‘sub’ from package ‘base’ in package ‘IRanges’
Creating a generic function for ‘gsub’ from package ‘base’ in package ‘IRanges’
Creating a generic function for ‘startsWith’ from package ‘base’ in package ‘IRanges’
Creating a generic function for ‘endsWith’ from package ‘base’ in package ‘IRanges’
Creating a generic function for ‘smoothEnds’ from package ‘stats’ in package ‘IRanges’
** help
*** installing help indices
** building package indices
** installing vignettes
** testing if installed package can be loaded from temporary location
** checking absolute paths in shared objects and dynamic libraries
** testing if installed package can be loaded from final location
** testing if installed package keeps a record of temporary installation path
* DONE (IRanges)