| Back to Multiple platform build/check report for BioC 3.20: simplified long |
|
This page was generated on 2024-11-09 21:31 -0500 (Sat, 09 Nov 2024).
| Hostname | OS | Arch (*) | R version | Installed pkgs |
|---|---|---|---|---|
| teran2 | Linux (Ubuntu 24.04.1 LTS) | x86_64 | 4.4.1 (2024-06-14) -- "Race for Your Life" | 4505 |
| palomino8 | Windows Server 2022 Datacenter | x64 | 4.4.1 (2024-06-14 ucrt) -- "Race for Your Life" | 4506 |
| lconway | macOS 12.7.1 Monterey | x86_64 | 4.4.1 (2024-06-14) -- "Race for Your Life" | 4538 |
| kjohnson3 | macOS 13.6.5 Ventura | arm64 | 4.4.1 (2024-06-14) -- "Race for Your Life" | 4486 |
| kunpeng2 | Linux (openEuler 22.03 LTS-SP1) | aarch64 | 4.4.1 (2024-06-14) -- "Race for Your Life" | 4493 |
| Click on any hostname to see more info about the system (e.g. compilers) (*) as reported by 'uname -p', except on Windows and Mac OS X | ||||
| Package 1033/2289 | Hostname | OS / Arch | INSTALL | BUILD | CHECK | BUILD BIN | ||||||||
| INSPEcT 1.36.0 (landing page) Stefano de Pretis
| teran2 | Linux (Ubuntu 24.04.1 LTS) / x86_64 | OK | OK | OK | |||||||||
| palomino8 | Windows Server 2022 Datacenter / x64 | OK | OK | OK | OK | |||||||||
| lconway | macOS 12.7.1 Monterey / x86_64 | OK | OK | OK | OK | |||||||||
| kjohnson3 | macOS 13.6.5 Ventura / arm64 | OK | OK | OK | OK | |||||||||
| kunpeng2 | Linux (openEuler 22.03 LTS-SP1) / aarch64 | OK | ERROR | skipped | ||||||||||
|
To the developers/maintainers of the INSPEcT package: - Allow up to 24 hours (and sometimes 48 hours) for your latest push to git@git.bioconductor.org:packages/INSPEcT.git to reflect on this report. See Troubleshooting Build Report for more information. - Use the following Renviron settings to reproduce errors and warnings. - If 'R CMD check' started to fail recently on the Linux builder(s) over a missing dependency, add the missing dependency to 'Suggests:' in your DESCRIPTION file. See Renviron.bioc for more information. |
| Package: INSPEcT |
| Version: 1.36.0 |
| Command: /Library/Frameworks/R.framework/Resources/bin/R CMD check --install=check:INSPEcT.install-out.txt --library=/Library/Frameworks/R.framework/Resources/library --no-vignettes --timings INSPEcT_1.36.0.tar.gz |
| StartedAt: 2024-11-09 05:07:18 -0500 (Sat, 09 Nov 2024) |
| EndedAt: 2024-11-09 05:14:54 -0500 (Sat, 09 Nov 2024) |
| EllapsedTime: 455.6 seconds |
| RetCode: 0 |
| Status: OK |
| CheckDir: INSPEcT.Rcheck |
| Warnings: 0 |
##############################################################################
##############################################################################
###
### Running command:
###
### /Library/Frameworks/R.framework/Resources/bin/R CMD check --install=check:INSPEcT.install-out.txt --library=/Library/Frameworks/R.framework/Resources/library --no-vignettes --timings INSPEcT_1.36.0.tar.gz
###
##############################################################################
##############################################################################
* using log directory ‘/Users/biocbuild/bbs-3.20-bioc/meat/INSPEcT.Rcheck’
* using R version 4.4.1 (2024-06-14)
* using platform: aarch64-apple-darwin20
* R was compiled by
Apple clang version 14.0.0 (clang-1400.0.29.202)
GNU Fortran (GCC) 12.2.0
* running under: macOS Ventura 13.6.7
* using session charset: UTF-8
* using option ‘--no-vignettes’
* checking for file ‘INSPEcT/DESCRIPTION’ ... OK
* checking extension type ... Package
* this is package ‘INSPEcT’ version ‘1.36.0’
* checking package namespace information ... OK
* checking package dependencies ...Warning: unable to access index for repository https://CRAN.R-project.org/src/contrib:
cannot open URL 'https://CRAN.R-project.org/src/contrib/PACKAGES'
OK
* checking if this is a source package ... OK
* checking if there is a namespace ... OK
* checking for hidden files and directories ... OK
* checking for portable file names ... OK
* checking for sufficient/correct file permissions ... OK
* checking whether package ‘INSPEcT’ can be installed ... OK
* checking installed package size ... NOTE
installed size is 7.1Mb
sub-directories of 1Mb or more:
R 1.8Mb
data 2.8Mb
* checking package directory ... OK
* checking ‘build’ directory ... OK
* checking DESCRIPTION meta-information ... OK
* checking top-level files ... OK
* checking for left-over files ... OK
* checking index information ... OK
* checking package subdirectories ... OK
* checking code files for non-ASCII characters ... OK
* checking R files for syntax errors ... OK
* checking whether the package can be loaded ... OK
* checking whether the package can be loaded with stated dependencies ... OK
* checking whether the package can be unloaded cleanly ... OK
* checking whether the namespace can be loaded with stated dependencies ... OK
* checking whether the namespace can be unloaded cleanly ... OK
* checking dependencies in R code ... OK
* checking S3 generic/method consistency ... OK
* checking replacement functions ... OK
* checking foreign function calls ... OK
* checking R code for possible problems ... NOTE
output_pars: no visible global function definition for ‘plot.new’
plotSingleRNADynamic: no visible global function definition for ‘lines’
Undefined global functions or variables:
lines plot.new
Consider adding
importFrom("graphics", "lines", "plot.new")
to your NAMESPACE file.
* checking Rd files ... OK
* checking Rd metadata ... OK
* checking Rd cross-references ... OK
* checking for missing documentation entries ... OK
* checking for code/documentation mismatches ... OK
* checking Rd \usage sections ... OK
* checking Rd contents ... OK
* checking for unstated dependencies in examples ... OK
* checking contents of ‘data’ directory ... OK
* checking data for non-ASCII characters ... OK
* checking data for ASCII and uncompressed saves ... OK
* checking files in ‘vignettes’ ... OK
* checking examples ... OK
Examples with CPU (user + system) or elapsed time > 5s
user system elapsed
makeSimDataset 22.987 0.055 23.042
quantifyExpressionsFromBAMs 10.103 1.858 11.967
INSPEcT_diffsteady-class 9.133 0.029 9.161
rocThresholds 8.382 0.018 8.401
makeSimModel 7.832 0.023 7.857
rocCurve 7.678 0.019 7.697
compareSteady 7.365 0.027 7.393
plotMA 7.341 0.019 7.360
modelRates 5.292 0.018 5.310
* checking for unstated dependencies in vignettes ... OK
* checking package vignettes ... OK
* checking running R code from vignettes ... SKIPPED
* checking re-building of vignette outputs ... SKIPPED
* checking PDF version of manual ... OK
* DONE
Status: 2 NOTEs
See
‘/Users/biocbuild/bbs-3.20-bioc/meat/INSPEcT.Rcheck/00check.log’
for details.
INSPEcT.Rcheck/00install.out
############################################################################## ############################################################################## ### ### Running command: ### ### /Library/Frameworks/R.framework/Resources/bin/R CMD INSTALL INSPEcT ### ############################################################################## ############################################################################## * installing to library ‘/Library/Frameworks/R.framework/Versions/4.4-arm64/Resources/library’ * installing *source* package ‘INSPEcT’ ... ** using staged installation ** R ** data ** inst ** byte-compile and prepare package for lazy loading ** help *** installing help indices ** building package indices ** installing vignettes ** testing if installed package can be loaded from temporary location ** testing if installed package can be loaded from final location ** testing if installed package keeps a record of temporary installation path * DONE (INSPEcT)
INSPEcT.Rcheck/INSPEcT-Ex.timings
| name | user | system | elapsed | |
| AIC-INSPEcT-method | 0.068 | 0.003 | 0.072 | |
| Extract | 0.115 | 0.003 | 0.117 | |
| INSPEcT_diffsteady-class | 9.133 | 0.029 | 9.161 | |
| calculateRatePvals | 0.090 | 0.002 | 0.092 | |
| chisqmodel | 0.079 | 0.003 | 0.082 | |
| chisqtest | 0.078 | 0.003 | 0.081 | |
| combine | 0.127 | 0.002 | 0.129 | |
| compareSteady | 7.365 | 0.027 | 7.393 | |
| compareSteadyNoNascent | 1.553 | 0.009 | 1.562 | |
| convergence | 0.072 | 0.002 | 0.074 | |
| geneClass | 0.084 | 0.002 | 0.086 | |
| inHeatmap | 0.084 | 0.003 | 0.087 | |
| inspectFromPCR | 1.077 | 0.009 | 1.086 | |
| labeledSF | 0.078 | 0.002 | 0.080 | |
| logLik | 0.079 | 0.003 | 0.081 | |
| makeModelRates | 0.091 | 0.002 | 0.094 | |
| makeOscillatorySimModel | 1.941 | 0.012 | 1.953 | |
| makeSimDataset | 22.987 | 0.055 | 23.042 | |
| makeSimModel | 7.832 | 0.023 | 7.857 | |
| modelRates | 5.292 | 0.018 | 5.310 | |
| modelRatesNF | 0.470 | 0.009 | 0.479 | |
| modelSelection | 0.075 | 0.002 | 0.076 | |
| modelingParams | 0.079 | 0.001 | 0.080 | |
| nGenes | 0.078 | 0.001 | 0.080 | |
| nTpts | 0.078 | 0.002 | 0.079 | |
| newINSPEcT | 4.507 | 0.015 | 4.522 | |
| plotGene | 0.083 | 0.003 | 0.086 | |
| plotMA | 7.341 | 0.019 | 7.360 | |
| processingDelay | 3.869 | 0.018 | 3.887 | |
| quantifyExpressionsFromBAMs | 10.103 | 1.858 | 11.967 | |
| quantifyExpressionsFromTrCounts | 4.898 | 0.020 | 4.917 | |
| ratePvals | 0.072 | 0.002 | 0.074 | |
| ratesFirstGuess | 0.073 | 0.002 | 0.074 | |
| ratesFirstGuessVar | 0.074 | 0.002 | 0.076 | |
| removeModel | 0.097 | 0.001 | 0.098 | |
| rocCurve | 7.678 | 0.019 | 7.697 | |
| rocThresholds | 8.382 | 0.018 | 8.401 | |
| split | 0.102 | 0.002 | 0.104 | |
| tpts | 0.077 | 0.002 | 0.079 | |
| viewConfidenceIntervals | 0.078 | 0.002 | 0.080 | |
| viewModelRates | 0.075 | 0.002 | 0.076 | |