| Back to Multiple platform build/check report for BioC 3.20: simplified long |
|
This page was generated on 2025-04-02 19:35 -0400 (Wed, 02 Apr 2025).
| Hostname | OS | Arch (*) | R version | Installed pkgs |
|---|---|---|---|---|
| nebbiolo2 | Linux (Ubuntu 24.04.1 LTS) | x86_64 | 4.4.3 (2025-02-28) -- "Trophy Case" | 4764 |
| palomino8 | Windows Server 2022 Datacenter | x64 | 4.4.3 (2025-02-28 ucrt) -- "Trophy Case" | 4495 |
| merida1 | macOS 12.7.5 Monterey | x86_64 | 4.4.3 (2025-02-28) -- "Trophy Case" | 4522 |
| kjohnson1 | macOS 13.6.6 Ventura | arm64 | 4.4.3 (2025-02-28) -- "Trophy Case" | 4449 |
| taishan | Linux (openEuler 24.03 LTS) | aarch64 | 4.4.3 (2025-02-28) -- "Trophy Case" | 4426 |
| Click on any hostname to see more info about the system (e.g. compilers) (*) as reported by 'uname -p', except on Windows and Mac OS X | ||||
| Package 953/2289 | Hostname | OS / Arch | INSTALL | BUILD | CHECK | BUILD BIN | ||||||||
| HiCBricks 1.24.0 (landing page) Koustav Pal
| nebbiolo2 | Linux (Ubuntu 24.04.1 LTS) / x86_64 | OK | OK | OK | |||||||||
| palomino8 | Windows Server 2022 Datacenter / x64 | OK | OK | OK | OK | |||||||||
| merida1 | macOS 12.7.5 Monterey / x86_64 | OK | OK | OK | OK | |||||||||
| kjohnson1 | macOS 13.6.6 Ventura / arm64 | OK | OK | OK | OK | |||||||||
| taishan | Linux (openEuler 24.03 LTS) / aarch64 | OK | OK | OK | ||||||||||
|
To the developers/maintainers of the HiCBricks package: - Allow up to 24 hours (and sometimes 48 hours) for your latest push to git@git.bioconductor.org:packages/HiCBricks.git to reflect on this report. See Troubleshooting Build Report for more information. - Use the following Renviron settings to reproduce errors and warnings. - If 'R CMD check' started to fail recently on the Linux builder(s) over a missing dependency, add the missing dependency to 'Suggests:' in your DESCRIPTION file. See Renviron.bioc for more information. - See Martin Grigorov's blog post for how to debug Linux ARM64 related issues on a x86_64 host. |
| Package: HiCBricks |
| Version: 1.24.0 |
| Command: /home/biocbuild/R/R/bin/R CMD check --install=check:HiCBricks.install-out.txt --library=/home/biocbuild/R/R/site-library --no-vignettes --timings HiCBricks_1.24.0.tar.gz |
| StartedAt: 2025-04-01 07:19:45 -0000 (Tue, 01 Apr 2025) |
| EndedAt: 2025-04-01 07:22:44 -0000 (Tue, 01 Apr 2025) |
| EllapsedTime: 179.2 seconds |
| RetCode: 0 |
| Status: OK |
| CheckDir: HiCBricks.Rcheck |
| Warnings: 0 |
##############################################################################
##############################################################################
###
### Running command:
###
### /home/biocbuild/R/R/bin/R CMD check --install=check:HiCBricks.install-out.txt --library=/home/biocbuild/R/R/site-library --no-vignettes --timings HiCBricks_1.24.0.tar.gz
###
##############################################################################
##############################################################################
* using log directory ‘/home/biocbuild/bbs-3.20-bioc/meat/HiCBricks.Rcheck’
* using R version 4.4.3 (2025-02-28)
* using platform: aarch64-unknown-linux-gnu
* R was compiled by
aarch64-unknown-linux-gnu-gcc (GCC) 14.2.0
GNU Fortran (GCC) 14.2.0
* running under: openEuler 24.03 (LTS)
* using session charset: UTF-8
* using option ‘--no-vignettes’
* checking for file ‘HiCBricks/DESCRIPTION’ ... OK
* checking extension type ... Package
* this is package ‘HiCBricks’ version ‘1.24.0’
* package encoding: UTF-8
* checking package namespace information ... OK
* checking package dependencies ... OK
* checking if this is a source package ... OK
* checking if there is a namespace ... OK
* checking for hidden files and directories ... OK
* checking for portable file names ... OK
* checking for sufficient/correct file permissions ... OK
* checking whether package ‘HiCBricks’ can be installed ... OK
* checking installed package size ... OK
* checking package directory ... OK
* checking ‘build’ directory ... OK
* checking DESCRIPTION meta-information ... OK
* checking top-level files ... OK
* checking for left-over files ... OK
* checking index information ... OK
* checking package subdirectories ... OK
* checking code files for non-ASCII characters ... OK
* checking R files for syntax errors ... OK
* checking whether the package can be loaded ... OK
* checking whether the package can be loaded with stated dependencies ... OK
* checking whether the package can be unloaded cleanly ... OK
* checking whether the namespace can be loaded with stated dependencies ... OK
* checking whether the namespace can be unloaded cleanly ... OK
* checking loading without being on the library search path ... OK
* checking dependencies in R code ... OK
* checking S3 generic/method consistency ... OK
* checking replacement functions ... OK
* checking foreign function calls ... OK
* checking R code for possible problems ... OK
* checking Rd files ... OK
* checking Rd metadata ... OK
* checking Rd cross-references ... OK
* checking for missing documentation entries ... OK
* checking for code/documentation mismatches ... OK
* checking Rd \usage sections ... OK
* checking Rd contents ... OK
* checking for unstated dependencies in examples ... OK
* checking files in ‘vignettes’ ... OK
* checking examples ... OK
* checking for unstated dependencies in vignettes ... OK
* checking package vignettes ... OK
* checking running R code from vignettes ... SKIPPED
* checking re-building of vignette outputs ... SKIPPED
* checking PDF version of manual ... OK
* DONE
Status: OK
HiCBricks.Rcheck/00install.out
############################################################################## ############################################################################## ### ### Running command: ### ### /home/biocbuild/R/R/bin/R CMD INSTALL HiCBricks ### ############################################################################## ############################################################################## * installing to library ‘/home/biocbuild/R/R-4.4.3/site-library’ * installing *source* package ‘HiCBricks’ ... ** using staged installation ** R ** inst ** byte-compile and prepare package for lazy loading ** help *** installing help indices ** building package indices ** installing vignettes ** testing if installed package can be loaded from temporary location ** testing if installed package can be loaded from final location ** testing if installed package keeps a record of temporary installation path * DONE (HiCBricks)
HiCBricks.Rcheck/HiCBricks-Ex.timings
| name | user | system | elapsed | |
| BrickContainer_change_experiment_name | 1.576 | 0.155 | 1.736 | |
| BrickContainer_change_output_directory | 1.261 | 0.056 | 1.321 | |
| BrickContainer_get_path_to_file | 1.110 | 0.032 | 1.144 | |
| BrickContainer_list_chromosomes | 1.141 | 0.012 | 1.156 | |
| BrickContainer_list_experiment_name | 1.188 | 0.032 | 1.224 | |
| BrickContainer_list_files | 1.188 | 0.020 | 1.211 | |
| BrickContainer_list_output_directory | 1.185 | 0.024 | 1.212 | |
| BrickContainer_list_resolutions | 1.204 | 0.012 | 1.219 | |
| BrickContainer_unlink_resolution | 2.524 | 0.047 | 2.577 | |
| Brick_add_ranges | 2.470 | 0.148 | 2.686 | |
| Brick_call_compartments | 2.142 | 0.044 | 2.194 | |
| Brick_export_to_sparse | 3.199 | 0.072 | 3.279 | |
| Brick_fetch_range_index | 1.333 | 0.004 | 1.340 | |
| Brick_fetch_row_vector | 1.921 | 0.020 | 1.945 | |
| Brick_get_bintable | 1.199 | 0.012 | 1.214 | |
| Brick_get_chrominfo | 1.149 | 0.020 | 1.172 | |
| Brick_get_entire_matrix | 1.566 | 0.040 | 1.609 | |
| Brick_get_matrix | 1.849 | 0.028 | 1.925 | |
| Brick_get_matrix_mcols | 1.440 | 0.032 | 1.476 | |
| Brick_get_matrix_within_coords | 2.070 | 0.056 | 2.129 | |
| Brick_get_ranges | 1.151 | 0.016 | 1.169 | |
| Brick_get_values_by_distance | 1.670 | 0.024 | 1.697 | |
| Brick_get_vector_values | 1.474 | 0.027 | 1.504 | |
| Brick_list_matrices | 1.095 | 0.008 | 1.108 | |
| Brick_list_matrix_mcols | 1.082 | 0.016 | 1.100 | |
| Brick_list_mcool_normalisations | 0.001 | 0.000 | 0.001 | |
| Brick_list_mcool_resolutions | 0 | 0 | 0 | |
| Brick_list_rangekeys | 1.110 | 0.040 | 1.153 | |
| Brick_list_ranges_mcols | 1.120 | 0.032 | 1.155 | |
| Brick_load_cis_matrix_till_distance | 1.385 | 0.028 | 1.418 | |
| Brick_load_data_from_mcool | 0 | 0 | 0 | |
| Brick_load_data_from_sparse | 0 | 0 | 0 | |
| Brick_load_matrix | 1.440 | 0.012 | 1.588 | |
| Brick_local_score_differentiator | 2.246 | 0.052 | 2.307 | |
| Brick_make_ranges | 0.012 | 0.000 | 0.011 | |
| Brick_matrix_dimensions | 1.434 | 0.032 | 1.473 | |
| Brick_matrix_exists | 1.524 | 0.068 | 1.759 | |
| Brick_matrix_filename | 1.469 | 0.012 | 1.486 | |
| Brick_matrix_isdone | 1.401 | 0.040 | 1.443 | |
| Brick_matrix_issparse | 1.418 | 0.020 | 1.442 | |
| Brick_matrix_maxdist | 1.459 | 0.020 | 1.482 | |
| Brick_matrix_minmax | 1.419 | 0.020 | 1.444 | |
| Brick_mcool_normalisation_exists | 0 | 0 | 0 | |
| Brick_rangekey_exists | 1.090 | 0.016 | 1.109 | |
| Brick_return_region_position | 1.212 | 0.031 | 1.246 | |
| Brick_vizart_plot_heatmap | 2.566 | 0.068 | 2.644 | |
| Create_many_Bricks | 1.092 | 0.016 | 1.112 | |
| Create_many_Bricks_from_mcool | 0 | 0 | 0 | |
| load_BrickContainer | 1.155 | 0.008 | 1.350 | |