| Back to Multiple platform build/check report for BioC 3.20: simplified long | 
 | 
This page was generated on 2024-06-11 15:40 -0400 (Tue, 11 Jun 2024).
| Hostname | OS | Arch (*) | R version | Installed pkgs | 
|---|---|---|---|---|
| nebbiolo2 | Linux (Ubuntu 22.04.3 LTS) | x86_64 | 4.4.0 RC (2024-04-16 r86468) -- "Puppy Cup" | 4679 | 
| palomino4 | Windows Server 2022 Datacenter | x64 | 4.4.0 RC (2024-04-16 r86468 ucrt) -- "Puppy Cup" | 4414 | 
| merida1 | macOS 12.7.4 Monterey | x86_64 | 4.4.0 Patched (2024-04-24 r86482) -- "Puppy Cup" | 4441 | 
| kjohnson1 | macOS 13.6.6 Ventura | arm64 | 4.4.0 Patched (2024-04-24 r86482) -- "Puppy Cup" | 4394 | 
| Click on any hostname to see more info about the system (e.g. compilers) (*) as reported by 'uname -p', except on Windows and Mac OS X | ||||
| Package 917/2239 | Hostname | OS / Arch | INSTALL | BUILD | CHECK | BUILD BIN | ||||||||
| Harman 1.33.0  (landing page) Jason Ross 
 | nebbiolo2 | Linux (Ubuntu 22.04.3 LTS) / x86_64 | OK | OK | OK |  | ||||||||
| palomino4 | Windows Server 2022 Datacenter / x64 | OK | OK | OK | OK |  | ||||||||
| merida1 | macOS 12.7.4 Monterey / x86_64 | OK | OK | OK | OK |  | ||||||||
| kjohnson1 | macOS 13.6.6 Ventura / arm64 | OK | OK | OK | OK |  | ||||||||
| To the developers/maintainers of the Harman package: - Allow up to 24 hours (and sometimes 48 hours) for your latest push to git@git.bioconductor.org:packages/Harman.git to reflect on this report. See Troubleshooting Build Report for more information. - Use the following Renviron settings to reproduce errors and warnings. - If 'R CMD check' started to fail recently on the Linux builder(s) over a missing dependency, add the missing dependency to 'Suggests:' in your DESCRIPTION file. See Renviron.bioc for more information. | 
| Package: Harman | 
| Version: 1.33.0 | 
| Command: F:\biocbuild\bbs-3.20-bioc\R\bin\R.exe CMD INSTALL Harman | 
| StartedAt: 2024-06-09 15:44:48 -0400 (Sun, 09 Jun 2024) | 
| EndedAt: 2024-06-09 15:45:07 -0400 (Sun, 09 Jun 2024) | 
| EllapsedTime: 19.0 seconds | 
| RetCode: 0 | 
| Status: OK | 
##############################################################################
##############################################################################
###
### Running command:
###
###   F:\biocbuild\bbs-3.20-bioc\R\bin\R.exe CMD INSTALL Harman
###
##############################################################################
##############################################################################
* installing to library 'F:/biocbuild/bbs-3.20-bioc/R/library'
* installing *source* package 'Harman' ...
** using staged installation
** libs
using C++ compiler: 'G__~1.EXE (GCC) 13.2.0'
g++ -std=gnu++17  -I"F:/biocbuild/bbs-3.20-bioc/R/include" -DNDEBUG -D_ARRAYALIGNEMT=4  -D_USE_RCPP=1  -I'F:/biocbuild/bbs-3.20-bioc/R/library/Rcpp/include'   -I"C:/rtools44/x86_64-w64-mingw32.static.posix/include"  -I"F:/biocbuild/bbs-3.20-bioc/R/library/Rcpp/include" -std=c++0x    -O2 -Wall  -mfpmath=sse -msse2 -mstackrealign  -c Harman.cpp -o Harman.o
Harman.cpp: In function 'SEXPREC* HarmanMain(SEXP, SEXP, SEXP, SEXP, SEXP, SEXP, SEXP)':
Harman.cpp:3008:3: warning: this 'else' clause does not guard... [-Wmisleading-indentation]
 3008 |   else
      |   ^~~~
Harman.cpp:3022:5: note: ...this statement, but the latter is misleadingly indented as if it were guarded by the 'else'
 3022 |     std::vector<unsigned int>    tr_std_tmp     = Rcpp::as<std::vector<unsigned int> >(tr) ;
      |     ^~~
In file included from Harman.cpp:182:
CSelectRandom.h: In instantiation of 'std::vector<unsigned int>* CSelectRandom<T>::ReturnVectOf32bitIntegersInRange_CSTDLIB(size_t, size_t, size_t, size_t) [with T = double; size_t = long long unsigned int]':
Harman.cpp:1764:79:   required from here
CSelectRandom.h:943:48: warning: comparison of integer expressions of different signedness: 'long long int' and 'size_t' {aka 'long long unsigned int'} [-Wsign-compare]
  943 |                                 while (currval < howManyIN)
      |                                        ~~~~~~~~^~~~~~~~~~~
g++ -std=gnu++17 -shared -s -static-libgcc -o Harman.dll tmp.def Harman.o -LC:/rtools44/x86_64-w64-mingw32.static.posix/lib/x64 -LC:/rtools44/x86_64-w64-mingw32.static.posix/lib -LF:/biocbuild/bbs-3.20-bioc/R/bin/x64 -lR
installing to F:/biocbuild/bbs-3.20-bioc/R/library/00LOCK-Harman/00new/Harman/libs/x64
** R
** inst
** byte-compile and prepare package for lazy loading
** help
*** installing help indices
** building package indices
** installing vignettes
** testing if installed package can be loaded from temporary location
** testing if installed package can be loaded from final location
** testing if installed package keeps a record of temporary installation path
* DONE (Harman)