| Back to Multiple platform build/check report for BioC 3.20: simplified long | 
 | 
This page was generated on 2025-04-02 19:33 -0400 (Wed, 02 Apr 2025).
| Hostname | OS | Arch (*) | R version | Installed pkgs | 
|---|---|---|---|---|
| nebbiolo2 | Linux (Ubuntu 24.04.1 LTS) | x86_64 | 4.4.3 (2025-02-28) -- "Trophy Case" | 4764 | 
| palomino8 | Windows Server 2022 Datacenter | x64 | 4.4.3 (2025-02-28 ucrt) -- "Trophy Case" | 4495 | 
| merida1 | macOS 12.7.5 Monterey | x86_64 | 4.4.3 (2025-02-28) -- "Trophy Case" | 4522 | 
| kjohnson1 | macOS 13.6.6 Ventura | arm64 | 4.4.3 (2025-02-28) -- "Trophy Case" | 4449 | 
| taishan | Linux (openEuler 24.03 LTS) | aarch64 | 4.4.3 (2025-02-28) -- "Trophy Case" | 4426 | 
| Click on any hostname to see more info about the system (e.g. compilers) (*) as reported by 'uname -p', except on Windows and Mac OS X | ||||
| Package 807/2289 | Hostname | OS / Arch | INSTALL | BUILD | CHECK | BUILD BIN | ||||||||
| GeneStructureTools 1.26.0  (landing page) Beth Signal 
 | nebbiolo2 | Linux (Ubuntu 24.04.1 LTS) / x86_64 | OK | OK | OK |  | ||||||||
| palomino8 | Windows Server 2022 Datacenter / x64 | OK | OK | OK | OK |  | ||||||||
| merida1 | macOS 12.7.5 Monterey / x86_64 | OK | OK | OK | OK |  | ||||||||
| kjohnson1 | macOS 13.6.6 Ventura / arm64 | OK | OK | OK | OK |  | ||||||||
| taishan | Linux (openEuler 24.03 LTS) / aarch64 | OK | OK | OK | ||||||||||
| To the developers/maintainers of the GeneStructureTools package: - Allow up to 24 hours (and sometimes 48 hours) for your latest push to git@git.bioconductor.org:packages/GeneStructureTools.git to reflect on this report. See Troubleshooting Build Report for more information. - Use the following Renviron settings to reproduce errors and warnings. - If 'R CMD check' started to fail recently on the Linux builder(s) over a missing dependency, add the missing dependency to 'Suggests:' in your DESCRIPTION file. See Renviron.bioc for more information. | 
| Package: GeneStructureTools | 
| Version: 1.26.0 | 
| Command: /Library/Frameworks/R.framework/Resources/bin/R CMD check --install=check:GeneStructureTools.install-out.txt --library=/Library/Frameworks/R.framework/Resources/library --no-vignettes --timings GeneStructureTools_1.26.0.tar.gz | 
| StartedAt: 2025-04-01 20:03:31 -0400 (Tue, 01 Apr 2025) | 
| EndedAt: 2025-04-01 20:10:41 -0400 (Tue, 01 Apr 2025) | 
| EllapsedTime: 430.1 seconds | 
| RetCode: 0 | 
| Status: OK | 
| CheckDir: GeneStructureTools.Rcheck | 
| Warnings: 0 | 
##############################################################################
##############################################################################
###
### Running command:
###
###   /Library/Frameworks/R.framework/Resources/bin/R CMD check --install=check:GeneStructureTools.install-out.txt --library=/Library/Frameworks/R.framework/Resources/library --no-vignettes --timings GeneStructureTools_1.26.0.tar.gz
###
##############################################################################
##############################################################################
* using log directory ‘/Users/biocbuild/bbs-3.20-bioc/meat/GeneStructureTools.Rcheck’
* using R version 4.4.3 (2025-02-28)
* using platform: aarch64-apple-darwin20
* R was compiled by
    Apple clang version 14.0.0 (clang-1400.0.29.202)
    GNU Fortran (GCC) 12.2.0
* running under: macOS Ventura 13.7.1
* using session charset: UTF-8
* using option ‘--no-vignettes’
* checking for file ‘GeneStructureTools/DESCRIPTION’ ... OK
* checking extension type ... Package
* this is package ‘GeneStructureTools’ version ‘1.26.0’
* package encoding: UTF-8
* checking package namespace information ... OK
* checking package dependencies ... OK
* checking if this is a source package ... OK
* checking if there is a namespace ... OK
* checking for hidden files and directories ... OK
* checking for portable file names ... OK
* checking for sufficient/correct file permissions ... OK
* checking whether package ‘GeneStructureTools’ can be installed ... OK
* checking installed package size ... OK
* checking package directory ... OK
* checking ‘build’ directory ... OK
* checking DESCRIPTION meta-information ... OK
* checking top-level files ... OK
* checking for left-over files ... OK
* checking index information ... OK
* checking package subdirectories ... OK
* checking code files for non-ASCII characters ... OK
* checking R files for syntax errors ... OK
* checking whether the package can be loaded ... OK
* checking whether the package can be loaded with stated dependencies ... OK
* checking whether the package can be unloaded cleanly ... OK
* checking whether the namespace can be loaded with stated dependencies ... OK
* checking whether the namespace can be unloaded cleanly ... OK
* checking dependencies in R code ... OK
* checking S3 generic/method consistency ... OK
* checking replacement functions ... OK
* checking foreign function calls ... OK
* checking R code for possible problems ... OK
* checking Rd files ... OK
* checking Rd metadata ... OK
* checking Rd cross-references ... OK
* checking for missing documentation entries ... OK
* checking for code/documentation mismatches ... OK
* checking Rd \usage sections ... OK
* checking Rd contents ... OK
* checking for unstated dependencies in examples ... OK
* checking files in ‘vignettes’ ... OK
* checking examples ... OK
Examples with CPU (user + system) or elapsed time > 5s
                                    user system elapsed
leafcutterTranscriptChangeSummary 23.195  0.740  24.127
whippetTranscriptChangeSummary    12.636  0.257  13.086
* checking for unstated dependencies in vignettes ... OK
* checking package vignettes ... OK
* checking running R code from vignettes ... SKIPPED
* checking re-building of vignette outputs ... SKIPPED
* checking PDF version of manual ... OK
* DONE
Status: OK
GeneStructureTools.Rcheck/00install.out
############################################################################## ############################################################################## ### ### Running command: ### ### /Library/Frameworks/R.framework/Resources/bin/R CMD INSTALL GeneStructureTools ### ############################################################################## ############################################################################## * installing to library ‘/Library/Frameworks/R.framework/Versions/4.4-arm64/Resources/library’ * installing *source* package ‘GeneStructureTools’ ... ** using staged installation ** R ** inst ** byte-compile and prepare package for lazy loading ** help *** installing help indices ** building package indices ** installing vignettes ** testing if installed package can be loaded from temporary location ** testing if installed package can be loaded from final location ** testing if installed package keeps a record of temporary installation path * DONE (GeneStructureTools)
GeneStructureTools.Rcheck/GeneStructureTools-Ex.timings
| name | user | system | elapsed | |
| DEXSeqIdsToGeneIds | 0.003 | 0.001 | 0.004 | |
| UTR2UTR53 | 2.394 | 0.077 | 2.512 | |
| addBroadTypes | 0.239 | 0.009 | 0.251 | |
| addIntronInTranscript | 2.062 | 0.130 | 2.270 | |
| alternativeIntronUsage | 4.143 | 0.023 | 4.201 | |
| annotateGeneModel | 0.872 | 0.014 | 0.886 | |
| attrChangeAltSpliced | 0.695 | 0.096 | 0.822 | |
| coordinates-methods | 0.046 | 0.063 | 0.125 | |
| diffSplicingResults-methods | 0.051 | 0.066 | 0.139 | |
| exonsToTranscripts | 0.269 | 0.006 | 0.276 | |
| filterGtfOverlap | 0.293 | 0.008 | 0.301 | |
| filterWhippetEvents | 0.078 | 0.072 | 0.172 | |
| findDEXexonType | 2.505 | 0.026 | 2.533 | |
| findExonContainingTranscripts | 0.468 | 0.085 | 0.577 | |
| findIntronContainingTranscripts | 0.700 | 0.096 | 0.822 | |
| findJunctionPairs | 1.339 | 0.089 | 1.464 | |
| formatWhippetEvents | 0.019 | 0.012 | 0.033 | |
| getOrfs | 0.747 | 0.015 | 0.766 | |
| getUOrfs | 0.558 | 0.011 | 0.569 | |
| junctions-methods | 0.074 | 0.076 | 0.170 | |
| leafcutterTranscriptChangeSummary | 23.195 | 0.740 | 24.127 | |
| makeGeneModel | 0.110 | 0.005 | 0.116 | |
| maxLocation | 0.001 | 0.001 | 0.001 | |
| orfDiff | 1.270 | 0.085 | 1.382 | |
| orfSimilarity | 0.000 | 0.000 | 0.001 | |
| overlapTypes | 2.279 | 0.017 | 2.297 | |
| readCounts-methods | 0.077 | 0.089 | 0.188 | |
| readWhippetDIFFfiles | 0.007 | 0.009 | 0.019 | |
| readWhippetDataSet | 0.076 | 0.080 | 0.180 | |
| readWhippetJNCfiles | 0.039 | 0.033 | 0.082 | |
| readWhippetPSIfiles | 0.026 | 0.044 | 0.081 | |
| removeDuplicateTranscripts | 0.331 | 0.007 | 0.339 | |
| removeSameExon | 0.299 | 0.007 | 0.308 | |
| removeVersion | 0.001 | 0.000 | 0.001 | |
| reorderExonNumbers | 0.231 | 0.006 | 0.236 | |
| replaceJunction | 3.839 | 0.095 | 3.968 | |
| skipExonInTranscript | 0.800 | 0.083 | 0.909 | |
| summariseExonTypes | 2.305 | 0.016 | 2.324 | |
| transcriptChangeSummary | 1.465 | 0.124 | 1.629 | |
| whippetTranscriptChangeSummary | 12.636 | 0.257 | 13.086 | |