| Back to Multiple platform build/check report for BioC 3.20: simplified long | 
 | 
This page was generated on 2024-07-16 11:40 -0400 (Tue, 16 Jul 2024).
| Hostname | OS | Arch (*) | R version | Installed pkgs | 
|---|---|---|---|---|
| nebbiolo2 | Linux (Ubuntu 22.04.3 LTS) | x86_64 | 4.4.1 (2024-06-14) -- "Race for Your Life" | 4677 | 
| palomino6 | Windows Server 2022 Datacenter | x64 | 4.4.1 (2024-06-14 ucrt) -- "Race for Your Life" | 4416 | 
| lconway | macOS 12.7.1 Monterey | x86_64 | 4.4.1 (2024-06-14) -- "Race for Your Life" | 4444 | 
| kjohnson3 | macOS 13.6.5 Ventura | arm64 | 4.4.1 (2024-06-14) -- "Race for Your Life" | 4393 | 
| palomino8 | Windows Server 2022 Datacenter | x64 | 4.4.1 (2024-06-14 ucrt) -- "Race for Your Life" | 4373 | 
| Click on any hostname to see more info about the system (e.g. compilers) (*) as reported by 'uname -p', except on Windows and Mac OS X | ||||
| Package 775/2243 | Hostname | OS / Arch | INSTALL | BUILD | CHECK | BUILD BIN | ||||||||
| GeneBreak 1.35.0  (landing page) Evert van den Broek 
 | nebbiolo2 | Linux (Ubuntu 22.04.3 LTS) / x86_64 | OK | OK | OK |  | ||||||||
| palomino6 | Windows Server 2022 Datacenter / x64 | OK | OK | OK | OK | |||||||||
| lconway | macOS 12.7.1 Monterey / x86_64 | OK | OK | OK | OK |  | ||||||||
| kjohnson3 | macOS 13.6.5 Ventura / arm64 | OK | OK | OK | OK |  | ||||||||
| palomino8 | Windows Server 2022 Datacenter / x64 | OK | OK | OK | OK | |||||||||
| To the developers/maintainers of the GeneBreak package: - Allow up to 24 hours (and sometimes 48 hours) for your latest push to git@git.bioconductor.org:packages/GeneBreak.git to reflect on this report. See Troubleshooting Build Report for more information. - Use the following Renviron settings to reproduce errors and warnings. - If 'R CMD check' started to fail recently on the Linux builder(s) over a missing dependency, add the missing dependency to 'Suggests:' in your DESCRIPTION file. See Renviron.bioc for more information. | 
| Package: GeneBreak | 
| Version: 1.35.0 | 
| Command: C:\Users\biocbuild\bbs-3.20-bioc\R\bin\R.exe CMD check --no-multiarch --install=check:GeneBreak.install-out.txt --library=C:\Users\biocbuild\bbs-3.20-bioc\R\library --no-vignettes --timings GeneBreak_1.35.0.tar.gz | 
| StartedAt: 2024-07-16 00:14:58 -0400 (Tue, 16 Jul 2024) | 
| EndedAt: 2024-07-16 00:17:47 -0400 (Tue, 16 Jul 2024) | 
| EllapsedTime: 169.8 seconds | 
| RetCode: 0 | 
| Status: OK | 
| CheckDir: GeneBreak.Rcheck | 
| Warnings: 0 | 
##############################################################################
##############################################################################
###
### Running command:
###
###   C:\Users\biocbuild\bbs-3.20-bioc\R\bin\R.exe CMD check --no-multiarch --install=check:GeneBreak.install-out.txt --library=C:\Users\biocbuild\bbs-3.20-bioc\R\library --no-vignettes --timings GeneBreak_1.35.0.tar.gz
###
##############################################################################
##############################################################################
* using log directory 'C:/Users/biocbuild/bbs-3.20-bioc/meat/GeneBreak.Rcheck'
* using R version 4.4.1 (2024-06-14 ucrt)
* using platform: x86_64-w64-mingw32
* R was compiled by
    gcc.exe (GCC) 13.2.0
    GNU Fortran (GCC) 13.2.0
* running under: Windows Server 2022 x64 (build 20348)
* using session charset: UTF-8
* using option '--no-vignettes'
* checking for file 'GeneBreak/DESCRIPTION' ... OK
* checking extension type ... Package
* this is package 'GeneBreak' version '1.35.0'
* checking package namespace information ... OK
* checking package dependencies ... OK
* checking if this is a source package ... OK
* checking if there is a namespace ... OK
* checking for hidden files and directories ... OK
* checking for portable file names ... OK
* checking whether package 'GeneBreak' can be installed ... OK
* checking installed package size ... OK
* checking package directory ... OK
* checking 'build' directory ... OK
* checking DESCRIPTION meta-information ... OK
* checking top-level files ... OK
* checking for left-over files ... OK
* checking index information ... OK
* checking package subdirectories ... OK
* checking code files for non-ASCII characters ... OK
* checking R files for syntax errors ... OK
* checking whether the package can be loaded ... OK
* checking whether the package can be loaded with stated dependencies ... OK
* checking whether the package can be unloaded cleanly ... OK
* checking whether the namespace can be loaded with stated dependencies ... OK
* checking whether the namespace can be unloaded cleanly ... OK
* checking dependencies in R code ... OK
* checking S3 generic/method consistency ... OK
* checking replacement functions ... OK
* checking foreign function calls ... OK
* checking R code for possible problems ... NOTE
.glmbreak: no visible global function definition for 'glm'
.glmbreak: no visible global function definition for 'predict'
addGeneAnnotation,CopyNumberBreakPoints: no visible global function
  definition for 'head'
bpStats,CopyNumberBreakPoints: no visible global function definition
  for 'sd'
bpStats,CopyNumberBreakPoints: no visible global function definition
  for 'p.adjust'
Undefined global functions or variables:
  glm head p.adjust predict sd
Consider adding
  importFrom("stats", "glm", "p.adjust", "predict", "sd")
  importFrom("utils", "head")
to your NAMESPACE file.
* checking Rd files ... OK
* checking Rd metadata ... OK
* checking Rd cross-references ... OK
* checking for missing documentation entries ... OK
* checking for code/documentation mismatches ... OK
* checking Rd \usage sections ... OK
* checking Rd contents ... OK
* checking for unstated dependencies in examples ... OK
* checking contents of 'data' directory ... OK
* checking data for non-ASCII characters ... OK
* checking data for ASCII and uncompressed saves ... OK
* checking sizes of PDF files under 'inst/doc' ... OK
* checking files in 'vignettes' ... OK
* checking examples ... OK
Examples with CPU (user + system) or elapsed time > 5s
                                                user system elapsed
CopyNumberBreakPointGenes-class                 6.50   1.16    7.66
bpStats-CopyNumberBreakPoints-method            5.58   1.33    6.92
bpPlot-CopyNumberBreakPoints-method             5.11   1.09    6.22
recurrentGenes-CopyNumberBreakPointGenes-method 4.16   0.91    5.06
* checking for unstated dependencies in vignettes ... OK
* checking package vignettes ... OK
* checking running R code from vignettes ... SKIPPED
* checking re-building of vignette outputs ... SKIPPED
* checking PDF version of manual ... OK
* DONE
Status: 1 NOTE
See
  'C:/Users/biocbuild/bbs-3.20-bioc/meat/GeneBreak.Rcheck/00check.log'
for details.
GeneBreak.Rcheck/00install.out
############################################################################## ############################################################################## ### ### Running command: ### ### C:\Users\biocbuild\bbs-3.20-bioc\R\bin\R.exe CMD INSTALL GeneBreak ### ############################################################################## ############################################################################## * installing to library 'C:/Users/biocbuild/bbs-3.20-bioc/R/library' * installing *source* package 'GeneBreak' ... ** using staged installation ** R ** data ** byte-compile and prepare package for lazy loading Creating a new generic function for 'segmentData' in package 'GeneBreak' ** help *** installing help indices ** building package indices ** installing vignettes ** testing if installed package can be loaded from temporary location ** testing if installed package can be loaded from final location ** testing if installed package keeps a record of temporary installation path * DONE (GeneBreak)
GeneBreak.Rcheck/GeneBreak-Ex.timings
| name | user | system | elapsed | |
| CopyNumberBreakPointGenes-class | 6.50 | 1.16 | 7.66 | |
| CopyNumberBreakPoints-class | 2.92 | 0.25 | 3.51 | |
| accessOptions-CopyNumberBreakPoints-method | 0.88 | 0.17 | 1.05 | |
| addGeneAnnotation-CopyNumberBreakPoints-method | 1.40 | 0.47 | 1.87 | |
| bpFilter-CopyNumberBreakPoints-method | 1.69 | 0.23 | 1.98 | |
| bpGenes-CopyNumberBreakPointGenes-method | 1.53 | 0.30 | 1.85 | |
| bpPlot-CopyNumberBreakPoints-method | 5.11 | 1.09 | 6.22 | |
| bpStats-CopyNumberBreakPoints-method | 5.58 | 1.33 | 6.92 | |
| breakpointData-CopyNumberBreakPoints-method | 1.09 | 0.31 | 1.40 | |
| breakpointsPerGene-CopyNumberBreakPointGenes-method | 1.63 | 0.64 | 2.27 | |
| callData-CopyNumberBreakPoints-method | 0.73 | 0.36 | 1.09 | |
| featureChromosomes-CopyNumberBreakPoints-method | 1.33 | 0.17 | 1.50 | |
| featureInfo-CopyNumberBreakPoints-method | 1.64 | 0.43 | 2.07 | |
| featuresPerGene-CopyNumberBreakPointGenes-method | 1.47 | 0.42 | 1.86 | |
| geneChromosomes-CopyNumberBreakPointGenes-method | 1.38 | 0.40 | 1.78 | |
| geneInfo-CopyNumberBreakPointGenes-method | 1.39 | 0.35 | 1.73 | |
| getBreakpoints | 1.04 | 0.39 | 1.44 | |
| namesFeatures-CopyNumberBreakPoints-method | 0.80 | 0.12 | 0.91 | |
| recurrentGenes-CopyNumberBreakPointGenes-method | 4.16 | 0.91 | 5.06 | |
| sampleNames-CopyNumberBreakPoints-method | 0.76 | 0.30 | 1.06 | |
| segmentData-CopyNumberBreakPoints-method | 1.13 | 0.43 | 1.56 | |