| Back to Multiple platform build/check report for BioC 3.20: simplified long |
|
This page was generated on 2025-04-02 19:34 -0400 (Wed, 02 Apr 2025).
| Hostname | OS | Arch (*) | R version | Installed pkgs |
|---|---|---|---|---|
| nebbiolo2 | Linux (Ubuntu 24.04.1 LTS) | x86_64 | 4.4.3 (2025-02-28) -- "Trophy Case" | 4764 |
| palomino8 | Windows Server 2022 Datacenter | x64 | 4.4.3 (2025-02-28 ucrt) -- "Trophy Case" | 4495 |
| merida1 | macOS 12.7.5 Monterey | x86_64 | 4.4.3 (2025-02-28) -- "Trophy Case" | 4522 |
| kjohnson1 | macOS 13.6.6 Ventura | arm64 | 4.4.3 (2025-02-28) -- "Trophy Case" | 4449 |
| taishan | Linux (openEuler 24.03 LTS) | aarch64 | 4.4.3 (2025-02-28) -- "Trophy Case" | 4426 |
| Click on any hostname to see more info about the system (e.g. compilers) (*) as reported by 'uname -p', except on Windows and Mac OS X | ||||
| Package 897/2289 | Hostname | OS / Arch | INSTALL | BUILD | CHECK | BUILD BIN | ||||||||
| GRaNIE 1.10.0 (landing page) Christian Arnold
| nebbiolo2 | Linux (Ubuntu 24.04.1 LTS) / x86_64 | OK | OK | OK | |||||||||
| palomino8 | Windows Server 2022 Datacenter / x64 | OK | OK | WARNINGS | OK | |||||||||
| merida1 | macOS 12.7.5 Monterey / x86_64 | OK | OK | OK | OK | |||||||||
| kjohnson1 | macOS 13.6.6 Ventura / arm64 | OK | OK | OK | OK | |||||||||
| taishan | Linux (openEuler 24.03 LTS) / aarch64 | OK | OK | OK | ||||||||||
|
To the developers/maintainers of the GRaNIE package: - Allow up to 24 hours (and sometimes 48 hours) for your latest push to git@git.bioconductor.org:packages/GRaNIE.git to reflect on this report. See Troubleshooting Build Report for more information. - Use the following Renviron settings to reproduce errors and warnings. - If 'R CMD check' started to fail recently on the Linux builder(s) over a missing dependency, add the missing dependency to 'Suggests:' in your DESCRIPTION file. See Renviron.bioc for more information. |
| Package: GRaNIE |
| Version: 1.10.0 |
| Command: /Library/Frameworks/R.framework/Resources/bin/R CMD check --install=check:GRaNIE.install-out.txt --library=/Library/Frameworks/R.framework/Resources/library --no-vignettes --timings GRaNIE_1.10.0.tar.gz |
| StartedAt: 2025-04-01 21:10:26 -0400 (Tue, 01 Apr 2025) |
| EndedAt: 2025-04-01 21:18:25 -0400 (Tue, 01 Apr 2025) |
| EllapsedTime: 478.9 seconds |
| RetCode: 0 |
| Status: OK |
| CheckDir: GRaNIE.Rcheck |
| Warnings: 0 |
##############################################################################
##############################################################################
###
### Running command:
###
### /Library/Frameworks/R.framework/Resources/bin/R CMD check --install=check:GRaNIE.install-out.txt --library=/Library/Frameworks/R.framework/Resources/library --no-vignettes --timings GRaNIE_1.10.0.tar.gz
###
##############################################################################
##############################################################################
* using log directory ‘/Users/biocbuild/bbs-3.20-bioc/meat/GRaNIE.Rcheck’
* using R version 4.4.3 (2025-02-28)
* using platform: aarch64-apple-darwin20
* R was compiled by
Apple clang version 14.0.0 (clang-1400.0.29.202)
GNU Fortran (GCC) 12.2.0
* running under: macOS Ventura 13.7.1
* using session charset: UTF-8
* using option ‘--no-vignettes’
* checking for file ‘GRaNIE/DESCRIPTION’ ... OK
* this is package ‘GRaNIE’ version ‘1.10.0’
* package encoding: UTF-8
* checking package namespace information ... OK
* checking package dependencies ... OK
* checking if this is a source package ... OK
* checking if there is a namespace ... OK
* checking for hidden files and directories ... OK
* checking for portable file names ... OK
* checking for sufficient/correct file permissions ... OK
* checking whether package ‘GRaNIE’ can be installed ... OK
* checking installed package size ... OK
* checking package directory ... OK
* checking ‘build’ directory ... OK
* checking DESCRIPTION meta-information ... OK
* checking top-level files ... OK
* checking for left-over files ... OK
* checking index information ... OK
* checking package subdirectories ... OK
* checking code files for non-ASCII characters ... OK
* checking R files for syntax errors ... OK
* checking whether the package can be loaded ... OK
* checking whether the package can be loaded with stated dependencies ... OK
* checking whether the package can be unloaded cleanly ... OK
* checking whether the namespace can be loaded with stated dependencies ... OK
* checking whether the namespace can be unloaded cleanly ... OK
* checking whether startup messages can be suppressed ... OK
* checking dependencies in R code ... OK
* checking S3 generic/method consistency ... OK
* checking replacement functions ... OK
* checking foreign function calls ... OK
* checking R code for possible problems ... NOTE
.performIHW: no visible binding for global variable 'adj_pvalue'
Undefined global functions or variables:
adj_pvalue
* checking Rd files ... OK
* checking Rd metadata ... OK
* checking Rd cross-references ... OK
* checking for missing documentation entries ... OK
* checking for code/documentation mismatches ... OK
* checking Rd \usage sections ... OK
* checking Rd contents ... OK
* checking for unstated dependencies in examples ... OK
* checking files in ‘vignettes’ ... OK
* checking examples ... OK
Examples with CPU (user + system) or elapsed time > 5s
user system elapsed
generateStatsSummary 7.790 0.229 8.428
addConnections_TF_peak 5.763 0.684 7.059
addSNPData 6.113 0.228 7.845
plotDiagnosticPlots_peakGene 6.044 0.178 6.594
plotPCA_all 4.770 0.223 5.384
* checking for unstated dependencies in vignettes ... OK
* checking package vignettes ... OK
* checking running R code from vignettes ... SKIPPED
* checking re-building of vignette outputs ... SKIPPED
* checking PDF version of manual ... OK
* DONE
Status: 1 NOTE
See
‘/Users/biocbuild/bbs-3.20-bioc/meat/GRaNIE.Rcheck/00check.log’
for details.
GRaNIE.Rcheck/00install.out
############################################################################## ############################################################################## ### ### Running command: ### ### /Library/Frameworks/R.framework/Resources/bin/R CMD INSTALL GRaNIE ### ############################################################################## ############################################################################## * installing to library ‘/Library/Frameworks/R.framework/Versions/4.4-arm64/Resources/library’ * installing *source* package ‘GRaNIE’ ... ** using staged installation ** R ** byte-compile and prepare package for lazy loading ** help *** installing help indices *** copying figures ** building package indices ** installing vignettes ** testing if installed package can be loaded from temporary location ** testing if installed package can be loaded from final location ** testing if installed package keeps a record of temporary installation path * DONE (GRaNIE)
GRaNIE.Rcheck/GRaNIE-Ex.timings
| name | user | system | elapsed | |
| AR_classification_wrapper | 0 | 0 | 0 | |
| addConnections_TF_peak | 5.763 | 0.684 | 7.059 | |
| addConnections_peak_gene | 3.929 | 0.056 | 4.408 | |
| addData | 0.000 | 0.001 | 0.000 | |
| addSNPData | 6.113 | 0.228 | 7.845 | |
| addTFBS | 0 | 0 | 0 | |
| add_TF_gene_correlation | 2.870 | 0.057 | 3.310 | |
| add_featureVariation | 0.000 | 0.000 | 0.001 | |
| build_eGRN_graph | 2.924 | 0.053 | 3.354 | |
| calculateCommunitiesEnrichment | 4.056 | 0.135 | 4.536 | |
| calculateCommunitiesStats | 3.723 | 0.078 | 4.213 | |
| calculateGeneralEnrichment | 2.791 | 0.061 | 3.299 | |
| calculateTFEnrichment | 3.035 | 0.065 | 3.452 | |
| changeOutputDirectory | 2.584 | 0.050 | 3.007 | |
| deleteIntermediateData | 2.623 | 0.071 | 3.088 | |
| filterConnectionsForPlotting | 2.568 | 0.051 | 3.054 | |
| filterData | 3.195 | 0.075 | 3.651 | |
| filterGRNAndConnectGenes | 2.603 | 0.078 | 3.067 | |
| generateStatsSummary | 7.790 | 0.229 | 8.428 | |
| getCounts | 2.557 | 0.074 | 3.081 | |
| getGRNConnections | 2.654 | 0.073 | 3.130 | |
| getGRNSummary | 3.234 | 0.071 | 3.732 | |
| getParameters | 3.514 | 0.076 | 3.987 | |
| getTopNodes | 2.604 | 0.060 | 3.022 | |
| initializeGRN | 0.017 | 0.003 | 0.020 | |
| loadExampleObject | 2.617 | 0.057 | 3.109 | |
| nGenes | 3.619 | 0.078 | 4.069 | |
| nPeaks | 2.575 | 0.051 | 3.000 | |
| nTFs | 2.518 | 0.066 | 2.998 | |
| overlapPeaksAndTFBS | 2.529 | 0.056 | 2.980 | |
| performAllNetworkAnalyses | 0 | 0 | 0 | |
| plotCommunitiesEnrichment | 3.859 | 0.164 | 4.409 | |
| plotCommunitiesStats | 3.658 | 0.105 | 4.137 | |
| plotCorrelations | 4.044 | 0.089 | 4.528 | |
| plotDiagnosticPlots_TFPeaks | 3.881 | 0.122 | 4.379 | |
| plotDiagnosticPlots_peakGene | 6.044 | 0.178 | 6.594 | |
| plotGeneralEnrichment | 2.761 | 0.069 | 3.263 | |
| plotGeneralGraphStats | 3.455 | 0.074 | 3.939 | |
| plotPCA_all | 4.770 | 0.223 | 5.384 | |
| plotTFEnrichment | 2.907 | 0.059 | 3.376 | |
| plot_stats_connectionSummary | 3.181 | 0.104 | 3.667 | |
| visualizeGRN | 3.477 | 0.091 | 3.959 | |