| Back to Multiple platform build/check report for BioC 3.20: simplified long | 
 | 
This page was generated on 2024-07-16 11:40 -0400 (Tue, 16 Jul 2024).
| Hostname | OS | Arch (*) | R version | Installed pkgs | 
|---|---|---|---|---|
| nebbiolo2 | Linux (Ubuntu 22.04.3 LTS) | x86_64 | 4.4.1 (2024-06-14) -- "Race for Your Life" | 4677 | 
| palomino6 | Windows Server 2022 Datacenter | x64 | 4.4.1 (2024-06-14 ucrt) -- "Race for Your Life" | 4416 | 
| lconway | macOS 12.7.1 Monterey | x86_64 | 4.4.1 (2024-06-14) -- "Race for Your Life" | 4444 | 
| kjohnson3 | macOS 13.6.5 Ventura | arm64 | 4.4.1 (2024-06-14) -- "Race for Your Life" | 4393 | 
| palomino8 | Windows Server 2022 Datacenter | x64 | 4.4.1 (2024-06-14 ucrt) -- "Race for Your Life" | 4373 | 
| Click on any hostname to see more info about the system (e.g. compilers) (*) as reported by 'uname -p', except on Windows and Mac OS X | ||||
| Package 889/2243 | Hostname | OS / Arch | INSTALL | BUILD | CHECK | BUILD BIN | ||||||||
| GRENITS 1.57.0  (landing page) Edward Morrissey 
 | nebbiolo2 | Linux (Ubuntu 22.04.3 LTS) / x86_64 | OK | OK | OK |  | ||||||||
| palomino6 | Windows Server 2022 Datacenter / x64 | OK | OK | OK | OK | |||||||||
| lconway | macOS 12.7.1 Monterey / x86_64 | OK | OK | OK | OK |  | ||||||||
| kjohnson3 | macOS 13.6.5 Ventura / arm64 | OK | OK | OK | OK |  | ||||||||
| palomino8 | Windows Server 2022 Datacenter / x64 | OK | OK | OK | OK | |||||||||
| To the developers/maintainers of the GRENITS package: - Allow up to 24 hours (and sometimes 48 hours) for your latest push to git@git.bioconductor.org:packages/GRENITS.git to reflect on this report. See Troubleshooting Build Report for more information. - Use the following Renviron settings to reproduce errors and warnings. - If 'R CMD check' started to fail recently on the Linux builder(s) over a missing dependency, add the missing dependency to 'Suggests:' in your DESCRIPTION file. See Renviron.bioc for more information. | 
| Package: GRENITS | 
| Version: 1.57.0 | 
| Command: C:\Users\biocbuild\bbs-3.20-bioc\R\bin\R.exe CMD check --no-multiarch --install=check:GRENITS.install-out.txt --library=C:\Users\biocbuild\bbs-3.20-bioc\R\library --no-vignettes --timings GRENITS_1.57.0.tar.gz | 
| StartedAt: 2024-07-16 00:37:50 -0400 (Tue, 16 Jul 2024) | 
| EndedAt: 2024-07-16 00:40:37 -0400 (Tue, 16 Jul 2024) | 
| EllapsedTime: 167.7 seconds | 
| RetCode: 0 | 
| Status: OK | 
| CheckDir: GRENITS.Rcheck | 
| Warnings: 0 | 
##############################################################################
##############################################################################
###
### Running command:
###
###   C:\Users\biocbuild\bbs-3.20-bioc\R\bin\R.exe CMD check --no-multiarch --install=check:GRENITS.install-out.txt --library=C:\Users\biocbuild\bbs-3.20-bioc\R\library --no-vignettes --timings GRENITS_1.57.0.tar.gz
###
##############################################################################
##############################################################################
* using log directory 'C:/Users/biocbuild/bbs-3.20-bioc/meat/GRENITS.Rcheck'
* using R version 4.4.1 (2024-06-14 ucrt)
* using platform: x86_64-w64-mingw32
* R was compiled by
    gcc.exe (GCC) 13.2.0
    GNU Fortran (GCC) 13.2.0
* running under: Windows Server 2022 x64 (build 20348)
* using session charset: UTF-8
* using option '--no-vignettes'
* checking for file 'GRENITS/DESCRIPTION' ... OK
* checking extension type ... Package
* this is package 'GRENITS' version '1.57.0'
* checking package namespace information ... OK
* checking package dependencies ... OK
* checking if this is a source package ... OK
* checking if there is a namespace ... OK
* checking for hidden files and directories ... OK
* checking for portable file names ... OK
* checking whether package 'GRENITS' can be installed ... OK
* used C++ compiler: 'G__~1.EXE (GCC) 13.2.0'
* checking installed package size ... OK
* checking package directory ... OK
* checking 'build' directory ... OK
* checking DESCRIPTION meta-information ... OK
* checking top-level files ... OK
* checking for left-over files ... OK
* checking index information ... OK
* checking package subdirectories ... OK
* checking code files for non-ASCII characters ... OK
* checking R files for syntax errors ... OK
* checking whether the package can be loaded ... OK
* checking whether the package can be loaded with stated dependencies ... OK
* checking whether the package can be unloaded cleanly ... OK
* checking whether the namespace can be loaded with stated dependencies ... OK
* checking whether the namespace can be unloaded cleanly ... OK
* checking dependencies in R code ... NOTE
Packages in Depends field not imported from:
  'Rcpp' 'RcppArmadillo' 'ggplot2'
  These packages need to be imported from (in the NAMESPACE file)
  for when this namespace is loaded but not attached.
* checking S3 generic/method consistency ... OK
* checking replacement functions ... OK
* checking foreign function calls ... OK
* checking R code for possible problems ... NOTE
.heatMap.ggplot: no visible global function definition for 'ggplot'
.heatMap.ggplot: no visible global function definition for 'aes'
.heatMap.ggplot: no visible binding for global variable 'Var2'
.heatMap.ggplot: no visible binding for global variable 'Var1'
.heatMap.ggplot: no visible global function definition for 'geom_tile'
.heatMap.ggplot: no visible binding for global variable 'value'
.heatMap.ggplot: no visible global function definition for
  'scale_fill_gradient'
.heatMap.ggplot: no visible global function definition for 'theme'
.heatMap.ggplot: no visible global function definition for
  'element_blank'
.heatMap.ggplot: no visible global function definition for
  'element_text'
.heatMap.ggplot: no visible global function definition for 'ggtitle'
.heatMap.ggplot: no visible global function definition for 'labs'
.heatMap.ggplot: no visible global function definition for
  'scale_x_discrete'
.heatMap.ggplot: no visible global function definition for
  'scale_y_discrete'
.plotDistribParents.LargeMat: no visible global function definition for
  'ggplot'
.plotDistribParents.LargeMat: no visible global function definition for
  'aes'
.plotDistribParents.LargeMat: no visible binding for global variable
  'variable'
.plotDistribParents.LargeMat: no visible binding for global variable
  'GeneNames'
.plotDistribParents.LargeMat: no visible global function definition for
  'geom_tile'
.plotDistribParents.LargeMat: no visible binding for global variable
  'value'
.plotDistribParents.LargeMat: no visible global function definition for
  'scale_fill_gradient'
.plotDistribParents.LargeMat: no visible global function definition for
  'theme'
.plotDistribParents.LargeMat: no visible global function definition for
  'element_blank'
.plotDistribParents.LargeMat: no visible global function definition for
  'element_text'
.plotDistribParents.LargeMat: no visible global function definition for
  'ggtitle'
.plotDistribParents.LargeMat: no visible global function definition for
  'labs'
.plotDistribParents.LargeMat: no visible global function definition for
  'scale_x_discrete'
.plotDistribParents.LargeMat: no visible global function definition for
  'scale_y_discrete'
.plotDistribParents.LargeMat: no visible global function definition for
  'facet_wrap'
Undefined global functions or variables:
  GeneNames Var1 Var2 aes element_blank element_text facet_wrap
  geom_tile ggplot ggtitle labs scale_fill_gradient scale_x_discrete
  scale_y_discrete theme value variable
* checking Rd files ... OK
* checking Rd metadata ... OK
* checking Rd cross-references ... OK
* checking for missing documentation entries ... OK
* checking for code/documentation mismatches ... OK
* checking Rd \usage sections ... OK
* checking Rd contents ... OK
* checking for unstated dependencies in examples ... OK
* checking contents of 'data' directory ... OK
* checking data for non-ASCII characters ... OK
* checking data for ASCII and uncompressed saves ... OK
* checking line endings in C/C++/Fortran sources/headers ... OK
* checking line endings in Makefiles ... OK
* checking compilation flags in Makevars ... OK
* checking for GNU extensions in Makefiles ... OK
* checking for portable use of $(BLAS_LIBS) and $(LAPACK_LIBS) ... OK
* checking use of PKG_*FLAGS in Makefiles ... OK
* checking compiled code ... NOTE
Note: information on .o files for x64 is not available
File 'C:/Users/biocbuild/bbs-3.20-bioc/R/library/GRENITS/libs/x64/GRENITS.dll':
  Found '_exit', possibly from '_exit' (C)
  Found 'abort', possibly from 'abort' (C), 'runtime' (Fortran)
  Found 'exit', possibly from 'exit' (C), 'stop' (Fortran)
Compiled code should not call entry points which might terminate R nor
write to stdout/stderr instead of to the console, nor use Fortran I/O
nor system RNGs nor [v]sprintf. The detected symbols are linked into
the code but might come from libraries and not actually be called.
See 'Writing portable packages' in the 'Writing R Extensions' manual.
* checking sizes of PDF files under 'inst/doc' ... OK
* checking files in 'vignettes' ... OK
* checking examples ... OK
Examples with CPU (user + system) or elapsed time > 5s
                                user system elapsed
function_NonLinearNet          42.36   0.20   43.55
function_ReplicatesNet_student 25.19   1.44   27.46
function_ReplicatesNet_gauss   16.63   0.25   16.93
analyse.output                  9.63   0.16   11.00
function_LinearNet              8.42   0.28    8.72
readChains                      4.03   0.11    5.66
* checking for unstated dependencies in vignettes ... OK
* checking package vignettes ... OK
* checking running R code from vignettes ... SKIPPED
* checking re-building of vignette outputs ... SKIPPED
* checking PDF version of manual ... OK
* DONE
Status: 3 NOTEs
See
  'C:/Users/biocbuild/bbs-3.20-bioc/meat/GRENITS.Rcheck/00check.log'
for details.
GRENITS.Rcheck/00install.out
##############################################################################
##############################################################################
###
### Running command:
###
###   C:\Users\biocbuild\bbs-3.20-bioc\R\bin\R.exe CMD INSTALL GRENITS
###
##############################################################################
##############################################################################
* installing to library 'C:/Users/biocbuild/bbs-3.20-bioc/R/library'
* installing *source* package 'GRENITS' ...
** using staged installation
** libs
using C++ compiler: 'G__~1.EXE (GCC) 13.2.0'
g++ -std=gnu++17  -I"C:/Users/biocbuild/bbs-3.20-bioc/R/include" -DNDEBUG  -I'C:/Users/biocbuild/bbs-3.20-bioc/R/library/Rcpp/include' -I'C:/Users/biocbuild/bbs-3.20-bioc/R/library/RcppArmadillo/include'   -I"C:/rtools44/x86_64-w64-mingw32.static.posix/include"     -O2 -Wall  -mfpmath=sse -msse2 -mstackrealign  -c AR1_Gauss_biocond.cc -o AR1_Gauss_biocond.o
AR1_Gauss_biocond.cc: In function 'void Error_Gauss_c(std::string&, arma::mat&, arma::colvec&, arma::mat&)':
AR1_Gauss_biocond.cc:49:30: warning: unused variable 'numDiag' [-Wunused-variable]
   49 |   int           num_fixedON, numDiag, p_sqr, free_gammas;
      |                              ^~~~~~~
AR1_Gauss_biocond.cc:49:39: warning: variable 'p_sqr' set but not used [-Wunused-but-set-variable]
   49 |   int           num_fixedON, numDiag, p_sqr, free_gammas;
      |                                       ^~~~~
g++ -std=gnu++17  -I"C:/Users/biocbuild/bbs-3.20-bioc/R/include" -DNDEBUG  -I'C:/Users/biocbuild/bbs-3.20-bioc/R/library/Rcpp/include' -I'C:/Users/biocbuild/bbs-3.20-bioc/R/library/RcppArmadillo/include'   -I"C:/rtools44/x86_64-w64-mingw32.static.posix/include"     -O2 -Wall  -mfpmath=sse -msse2 -mstackrealign  -c AR1_Student_biocond.cc -o AR1_Student_biocond.o
AR1_Student_biocond.cc: In function 'void Error_Student_c(std::string&, arma::mat&, arma::colvec&, arma::mat&)':
AR1_Student_biocond.cc:49:30: warning: unused variable 'numDiag' [-Wunused-variable]
   49 |   int           num_fixedON, numDiag, p_sqr, free_gammas;
      |                              ^~~~~~~
AR1_Student_biocond.cc:49:39: warning: variable 'p_sqr' set but not used [-Wunused-but-set-variable]
   49 |   int           num_fixedON, numDiag, p_sqr, free_gammas;
      |                                       ^~~~~
g++ -std=gnu++17  -I"C:/Users/biocbuild/bbs-3.20-bioc/R/include" -DNDEBUG  -I'C:/Users/biocbuild/bbs-3.20-bioc/R/library/Rcpp/include' -I'C:/Users/biocbuild/bbs-3.20-bioc/R/library/RcppArmadillo/include'   -I"C:/rtools44/x86_64-w64-mingw32.static.posix/include"     -O2 -Wall  -mfpmath=sse -msse2 -mstackrealign  -c AR1_biocond.cc -o AR1_biocond.o
AR1_biocond.cc: In function 'void AR1_c(std::string&, arma::mat&, arma::colvec&, arma::mat&)':
AR1_biocond.cc:48:30: warning: unused variable 'numDiag' [-Wunused-variable]
   48 |   int           num_fixedON, numDiag, p_sqr, free_gammas;
      |                              ^~~~~~~
AR1_biocond.cc:48:39: warning: variable 'p_sqr' set but not used [-Wunused-but-set-variable]
   48 |   int           num_fixedON, numDiag, p_sqr, free_gammas;
      |                                       ^~~~~
g++ -std=gnu++17  -I"C:/Users/biocbuild/bbs-3.20-bioc/R/include" -DNDEBUG  -I'C:/Users/biocbuild/bbs-3.20-bioc/R/library/Rcpp/include' -I'C:/Users/biocbuild/bbs-3.20-bioc/R/library/RcppArmadillo/include'   -I"C:/rtools44/x86_64-w64-mingw32.static.posix/include"     -O2 -Wall  -mfpmath=sse -msse2 -mstackrealign  -c PSplines_biocond.cc -o PSplines_biocond.o
PSplines_biocond.cc: In function 'void PSplines_c(std::string&, arma::mat&, arma::colvec&, arma::mat&)':
PSplines_biocond.cc:45:63: warning: unused variable 'numDiag' [-Wunused-variable]
   45 |   int                 num_fixedON, nodesSpline, degreeSpline, numDiag, free_gammas;
      |                                                               ^~~~~~~
g++ -std=gnu++17  -I"C:/Users/biocbuild/bbs-3.20-bioc/R/include" -DNDEBUG  -I'C:/Users/biocbuild/bbs-3.20-bioc/R/library/Rcpp/include' -I'C:/Users/biocbuild/bbs-3.20-bioc/R/library/RcppArmadillo/include'   -I"C:/rtools44/x86_64-w64-mingw32.static.posix/include"     -O2 -Wall  -mfpmath=sse -msse2 -mstackrealign  -c R_C_interface.cpp -o R_C_interface.o
g++ -std=gnu++17  -I"C:/Users/biocbuild/bbs-3.20-bioc/R/include" -DNDEBUG  -I'C:/Users/biocbuild/bbs-3.20-bioc/R/library/Rcpp/include' -I'C:/Users/biocbuild/bbs-3.20-bioc/R/library/RcppArmadillo/include'   -I"C:/rtools44/x86_64-w64-mingw32.static.posix/include"     -O2 -Wall  -mfpmath=sse -msse2 -mstackrealign  -c ReadMCMCFiles.cpp -o ReadMCMCFiles.o
g++ -std=gnu++17  -I"C:/Users/biocbuild/bbs-3.20-bioc/R/include" -DNDEBUG  -I'C:/Users/biocbuild/bbs-3.20-bioc/R/library/Rcpp/include' -I'C:/Users/biocbuild/bbs-3.20-bioc/R/library/RcppArmadillo/include'   -I"C:/rtools44/x86_64-w64-mingw32.static.posix/include"     -O2 -Wall  -mfpmath=sse -msse2 -mstackrealign  -c commonFunctions.cc -o commonFunctions.o
commonFunctions.cc: In function 'void random_intSequence(arma::ucolvec&)':
commonFunctions.cc:268:21: warning: comparison of integer expressions of different signedness: 'int' and 'const arma::uword' {aka 'const unsigned int'} [-Wsign-compare]
  268 |   for (int i = 0; i < seq.n_elem; i++)
      |                   ~~^~~~~~~~~~~~
commonFunctions.cc: In function 'void estimateRemainingTime(double&, double&, int, int, clock_t&)':
commonFunctions.cc:315:36: warning: variable 'so_far_clock' set but not used [-Wunused-but-set-variable]
  315 |   clock_t                          so_far_clock, time_now; //so_far_sec,
      |                                    ^~~~~~~~~~~~
commonFunctions.cc: In function 'void processFixedGammas(arma::mat&, int&, int&, arma::umat&, arma::umat&, arma::ucolvec&, arma::umat&, arma::uvec&, arma::uvec&)':
commonFunctions.cc:375:19: warning: comparison of integer expressions of different signedness: 'int' and 'const arma::uword' {aka 'const unsigned int'} [-Wsign-compare]
  375 |   for(int i = 0; i!=Gamma_fixed.n_cols;i++)
      |                  ~^~~~~~~~~~~~~~~~~~~~
commonFunctions.cc:378:21: warning: comparison of integer expressions of different signedness: 'int' and 'const arma::uword' {aka 'const unsigned int'} [-Wsign-compare]
  378 |     for(int j = 0; j!=Gamma_fixed.n_cols;j++)
      |                    ~^~~~~~~~~~~~~~~~~~~~
commonFunctions.cc: In function 'void updateCoefficients_reg(arma::mat&, const int&, const arma::urowvec&, const arma::mat&, const arma::rowvec&, const arma::ucolvec&)':
commonFunctions.cc:438:59: warning: unused variable 'num_on' [-Wunused-variable]
  438 |   unsigned int                                            num_on;
      |                                                           ^~~~~~
commonFunctions.cc: In function 'void updateCoefficients(arma::mat&, const int&, const arma::urowvec&, const arma::mat&, const arma::rowvec&)':
commonFunctions.cc:480:59: warning: unused variable 'num_on' [-Wunused-variable]
  480 |   unsigned int                                            num_on;
      |                                                           ^~~~~~
g++ -std=gnu++17  -I"C:/Users/biocbuild/bbs-3.20-bioc/R/include" -DNDEBUG  -I'C:/Users/biocbuild/bbs-3.20-bioc/R/library/Rcpp/include' -I'C:/Users/biocbuild/bbs-3.20-bioc/R/library/RcppArmadillo/include'   -I"C:/rtools44/x86_64-w64-mingw32.static.posix/include"     -O2 -Wall  -mfpmath=sse -msse2 -mstackrealign  -c functionsErrorModel.cc -o functionsErrorModel.o
g++ -std=gnu++17  -I"C:/Users/biocbuild/bbs-3.20-bioc/R/include" -DNDEBUG  -I'C:/Users/biocbuild/bbs-3.20-bioc/R/library/Rcpp/include' -I'C:/Users/biocbuild/bbs-3.20-bioc/R/library/RcppArmadillo/include'   -I"C:/rtools44/x86_64-w64-mingw32.static.posix/include"     -O2 -Wall  -mfpmath=sse -msse2 -mstackrealign  -c matrixManipulationFunctions.cc -o matrixManipulationFunctions.o
g++ -std=gnu++17  -I"C:/Users/biocbuild/bbs-3.20-bioc/R/include" -DNDEBUG  -I'C:/Users/biocbuild/bbs-3.20-bioc/R/library/Rcpp/include' -I'C:/Users/biocbuild/bbs-3.20-bioc/R/library/RcppArmadillo/include'   -I"C:/rtools44/x86_64-w64-mingw32.static.posix/include"     -O2 -Wall  -mfpmath=sse -msse2 -mstackrealign  -c updateFunctions_AR1.cc -o updateFunctions_AR1.o
updateFunctions_AR1.cc: In function 'void updateCoeffAndGibbsVars(arma::mat&, arma::umat&, const arma::colvec&, const arma::mat&, const arma::mat&, const arma::mat&, const double&, const unsigned int&)':
updateFunctions_AR1.cc:128:34: warning: comparison of integer expressions of different signedness: 'int' and 'const unsigned int' [-Wsign-compare]
  128 |       for(int j_loop = 0; j_loop < genes; j_loop++)
      |                           ~~~~~~~^~~~~~~
updateFunctions_AR1.cc:134:15: warning: comparison of integer expressions of different signedness: 'unsigned int' and 'int' [-Wsign-compare]
  134 |         if (i != j)
      |             ~~^~~~
updateFunctions_AR1.cc: In function 'void updateCoeffAndGibbsVars_reg(arma::mat&, arma::umat&, const arma::colvec&, const arma::mat&, const arma::mat&, double, const double&, const unsigned int&, arma::umat&, arma::ucolvec&, arma::umat&)':
updateFunctions_AR1.cc:186:34: warning: comparison of integer expressions of different signedness: 'int' and 'const arma::uword' {aka 'const unsigned int'} [-Wsign-compare]
  186 |       for(int j_loop = 0; j_loop < seq_rnd.n_elem; j_loop++)
      |                           ~~~~~~~^~~~~~~~~~~~~~~~
updateFunctions_AR1.cc: In function 'void calc_logMVPDF_withLinks(double&, const arma::mat&, const arma::rowvec&, arma::urowvec&)':
updateFunctions_AR1.cc:264:59: warning: unused variable 'num_on' [-Wunused-variable]
  264 |   unsigned int                                            num_on;
      |                                                           ^~~~~~
g++ -std=gnu++17  -I"C:/Users/biocbuild/bbs-3.20-bioc/R/include" -DNDEBUG  -I'C:/Users/biocbuild/bbs-3.20-bioc/R/library/Rcpp/include' -I'C:/Users/biocbuild/bbs-3.20-bioc/R/library/RcppArmadillo/include'   -I"C:/rtools44/x86_64-w64-mingw32.static.posix/include"     -O2 -Wall  -mfpmath=sse -msse2 -mstackrealign  -c updateFunctions_Splines.cc -o updateFunctions_Splines.o
updateFunctions_Splines.cc: In function 'void initBasesOn_rowvec(arma::urowvec&, const arma::urowvec&, int, int)':
updateFunctions_Splines.cc:158:16: warning: variable 'start_indx' set but not used [-Wunused-but-set-variable]
  158 |   int       G, start_indx, end_indx;
      |                ^~~~~~~~~~
updateFunctions_Splines.cc:158:28: warning: variable 'end_indx' set but not used [-Wunused-but-set-variable]
  158 |   int       G, start_indx, end_indx;
      |                            ^~~~~~~~
updateFunctions_Splines.cc: In function 'void initBasesOn(arma::urowvec&, const arma::umat&, int, int)':
updateFunctions_Splines.cc:182:16: warning: variable 'start_indx' set but not used [-Wunused-but-set-variable]
  182 |   int       G, start_indx, end_indx;
      |                ^~~~~~~~~~
updateFunctions_Splines.cc:182:28: warning: variable 'end_indx' set but not used [-Wunused-but-set-variable]
  182 |   int       G, start_indx, end_indx;
      |                            ^~~~~~~~
updateFunctions_Splines.cc: In function 'void updateTaus_reg(arma::mat&, arma::colvec&, const arma::mat&, arma::urowvec&, const arma::mat&, double, double, int, double, double, double, double, int, double, arma::uvec)':
updateFunctions_Splines.cc:296:10: warning: comparison of integer expressions of different signedness: 'int' and 'unsigned int' [-Wsign-compare]
  296 |     if(i == indxReg)
      |        ~~^~~~~~~~~~
updateFunctions_Splines.cc: In function 'void updateGammaAndB_row_i_reg(arma::mat&, arma::umat&, const arma::mat&, const arma::rowvec&, const arma::colvec&, int, int, int, arma::urowvec&, const arma::ucolvec&, const arma::urowvec&, const arma::ucolvec&, const arma::uvec&)':
updateFunctions_Splines.cc:478:30: warning: comparison of integer expressions of different signedness: 'int' and 'const arma::uword' {aka 'const unsigned int'} [-Wsign-compare]
  478 |   for(int j_loop = 0; j_loop < seq_rnd.n_elem; j_loop++)
      |                       ~~~~~~~^~~~~~~~~~~~~~~~
updateFunctions_Splines.cc: In function 'void fixedBasesFromFixedRegs(arma::umat&, arma::umat&, arma::ucolvec&, int)':
updateFunctions_Splines.cc:714:30: warning: comparison of integer expressions of different signedness: 'unsigned int' and 'int' [-Wsign-compare]
  714 |       for(base_k = 0; base_k != M; base_k++)
      |                       ~~~~~~~^~~~
g++ -std=gnu++17 -shared -s -static-libgcc -o GRENITS.dll tmp.def AR1_Gauss_biocond.o AR1_Student_biocond.o AR1_biocond.o PSplines_biocond.o R_C_interface.o ReadMCMCFiles.o commonFunctions.o functionsErrorModel.o matrixManipulationFunctions.o updateFunctions_AR1.o updateFunctions_Splines.o -LC:/Users/biocbuild/bbs-3.20-bioc/R/bin/x64 -lRlapack -LC:/Users/biocbuild/bbs-3.20-bioc/R/bin/x64 -lRblas -lgfortran -lm -lquadmath -LC:/rtools44/x86_64-w64-mingw32.static.posix/lib/x64 -LC:/rtools44/x86_64-w64-mingw32.static.posix/lib -LC:/Users/biocbuild/bbs-3.20-bioc/R/bin/x64 -lR
installing to C:/Users/biocbuild/bbs-3.20-bioc/R/library/00LOCK-GRENITS/00new/GRENITS/libs/x64
** R
** data
** inst
** byte-compile and prepare package for lazy loading
** help
*** installing help indices
** building package indices
** installing vignettes
** testing if installed package can be loaded from temporary location
** testing if installed package can be loaded from final location
** testing if installed package keeps a record of temporary installation path
* DONE (GRENITS)
GRENITS.Rcheck/GRENITS-Ex.timings
| name | user | system | elapsed | |
| analyse.output | 9.63 | 0.16 | 11.00 | |
| defaultParams_gauss | 0 | 0 | 0 | |
| defaultParams_linear | 0.01 | 0.00 | 0.02 | |
| defaultParams_nonLinear | 0.11 | 0.00 | 0.11 | |
| defaultParams_student | 0.03 | 0.00 | 0.03 | |
| function_LinearNet | 8.42 | 0.28 | 8.72 | |
| function_NonLinearNet | 42.36 | 0.20 | 43.55 | |
| function_ReplicatesNet_gauss | 16.63 | 0.25 | 16.93 | |
| function_ReplicatesNet_student | 25.19 | 1.44 | 27.46 | |
| plotPriors | 0.09 | 0.00 | 0.09 | |
| readChains | 4.03 | 0.11 | 5.66 | |