| Back to Multiple platform build/check report for BioC 3.20: simplified long |
|
This page was generated on 2025-04-02 19:35 -0400 (Wed, 02 Apr 2025).
| Hostname | OS | Arch (*) | R version | Installed pkgs |
|---|---|---|---|---|
| nebbiolo2 | Linux (Ubuntu 24.04.1 LTS) | x86_64 | 4.4.3 (2025-02-28) -- "Trophy Case" | 4764 |
| palomino8 | Windows Server 2022 Datacenter | x64 | 4.4.3 (2025-02-28 ucrt) -- "Trophy Case" | 4495 |
| merida1 | macOS 12.7.5 Monterey | x86_64 | 4.4.3 (2025-02-28) -- "Trophy Case" | 4522 |
| kjohnson1 | macOS 13.6.6 Ventura | arm64 | 4.4.3 (2025-02-28) -- "Trophy Case" | 4449 |
| taishan | Linux (openEuler 24.03 LTS) | aarch64 | 4.4.3 (2025-02-28) -- "Trophy Case" | 4426 |
| Click on any hostname to see more info about the system (e.g. compilers) (*) as reported by 'uname -p', except on Windows and Mac OS X | ||||
| Package 886/2289 | Hostname | OS / Arch | INSTALL | BUILD | CHECK | BUILD BIN | ||||||||
| GOSemSim 2.32.0 (landing page) Guangchuang Yu
| nebbiolo2 | Linux (Ubuntu 24.04.1 LTS) / x86_64 | OK | OK | OK | |||||||||
| palomino8 | Windows Server 2022 Datacenter / x64 | OK | OK | OK | OK | |||||||||
| merida1 | macOS 12.7.5 Monterey / x86_64 | OK | OK | OK | OK | |||||||||
| kjohnson1 | macOS 13.6.6 Ventura / arm64 | OK | OK | OK | OK | |||||||||
| taishan | Linux (openEuler 24.03 LTS) / aarch64 | OK | OK | OK | ||||||||||
|
To the developers/maintainers of the GOSemSim package: - Allow up to 24 hours (and sometimes 48 hours) for your latest push to git@git.bioconductor.org:packages/GOSemSim.git to reflect on this report. See Troubleshooting Build Report for more information. - Use the following Renviron settings to reproduce errors and warnings. - If 'R CMD check' started to fail recently on the Linux builder(s) over a missing dependency, add the missing dependency to 'Suggests:' in your DESCRIPTION file. See Renviron.bioc for more information. - See Martin Grigorov's blog post for how to debug Linux ARM64 related issues on a x86_64 host. |
| Package: GOSemSim |
| Version: 2.32.0 |
| Command: /home/biocbuild/R/R/bin/R CMD INSTALL GOSemSim |
| StartedAt: 2025-03-31 20:36:10 -0000 (Mon, 31 Mar 2025) |
| EndedAt: 2025-03-31 20:36:41 -0000 (Mon, 31 Mar 2025) |
| EllapsedTime: 31.9 seconds |
| RetCode: 0 |
| Status: OK |
##############################################################################
##############################################################################
###
### Running command:
###
### /home/biocbuild/R/R/bin/R CMD INSTALL GOSemSim
###
##############################################################################
##############################################################################
* installing to library ‘/home/biocbuild/R/R-4.4.3/site-library’
* installing *source* package ‘GOSemSim’ ...
** using staged installation
** libs
using C++ compiler: ‘aarch64-unknown-linux-gnu-g++ (GCC) 14.2.0’
/opt/ohpc/pub/compiler/gcc/14.2.0/bin/aarch64-unknown-linux-gnu-g++ -std=gnu++17 -I"/home/biocbuild/R/R-4.4.3/include" -DNDEBUG -I'/home/biocbuild/R/R-4.4.3/site-library/Rcpp/include' -I/usr/local/include -fPIC -g -O2 -Wall -c ICmethod.cpp -o ICmethod.o
ICmethod.cpp: In function ‘Rcpp::NumericMatrix infoContentMethod_cpp(Rcpp::StringVector&, Rcpp::StringVector&, Rcpp::List&, Rcpp::NumericVector&, const std::string&, const std::string&)’:
ICmethod.cpp:82:29: warning: comparison of integer expressions of different signedness: ‘std::size_t’ {aka ‘long unsigned int’} and ‘R_xlen_t’ {aka ‘long int’} [-Wsign-compare]
82 | for (std::size_t i=0; i < ic_.size(); i++ ) {
| ~~^~~~~~~~~~~~
ICmethod.cpp:88:29: warning: comparison of integer expressions of different signedness: ‘std::size_t’ {aka ‘long unsigned int’} and ‘R_xlen_t’ {aka ‘long int’} [-Wsign-compare]
88 | for (std::size_t i=0; i < ic_.size(); i++ ) {
| ~~^~~~~~~~~~~~
ICmethod.cpp:118:29: warning: comparison of integer expressions of different signedness: ‘std::size_t’ {aka ‘long unsigned int’} and ‘R_xlen_t’ {aka ‘long int’} [-Wsign-compare]
118 | for (std::size_t i=0; i < anc_.size(); i++ ) {
| ~~^~~~~~~~~~~~~
ICmethod.cpp:131:30: warning: comparison of integer expressions of different signedness: ‘std::size_t’ {aka ‘long unsigned int’} and ‘R_xlen_t’ {aka ‘long int’} [-Wsign-compare]
131 | for ( std::size_t i = 0; i < id1_.size(); i++ ) {
| ~~^~~~~~~~~~~~~
ICmethod.cpp:138:34: warning: comparison of integer expressions of different signedness: ‘std::size_t’ {aka ‘long unsigned int’} and ‘R_xlen_t’ {aka ‘long int’} [-Wsign-compare]
138 | for ( std::size_t j = 0; j < id2_.size(); j++ ) {
| ~~^~~~~~~~~~~~~
ICmethod.cpp:165:34: warning: comparison of integer expressions of different signedness: ‘std::size_t’ {aka ‘long unsigned int’} and ‘R_xlen_t’ {aka ‘long int’} [-Wsign-compare]
165 | for ( std::size_t j = 0; j < id2_.size(); j++ ) {
| ~~^~~~~~~~~~~~~
/opt/ohpc/pub/compiler/gcc/14.2.0/bin/aarch64-unknown-linux-gnu-g++ -std=gnu++17 -I"/home/biocbuild/R/R-4.4.3/include" -DNDEBUG -I'/home/biocbuild/R/R-4.4.3/site-library/Rcpp/include' -I/usr/local/include -fPIC -g -O2 -Wall -c RcppExports.cpp -o RcppExports.o
/opt/ohpc/pub/compiler/gcc/14.2.0/bin/aarch64-unknown-linux-gnu-g++ -std=gnu++17 -shared -L/home/biocbuild/R/R-4.4.3/lib -L/usr/local/lib -o GOSemSim.so ICmethod.o RcppExports.o -L/home/biocbuild/R/R-4.4.3/lib -lR
installing to /home/biocbuild/R/R-4.4.3/site-library/00LOCK-GOSemSim/00new/GOSemSim/libs
** R
** data
** inst
** byte-compile and prepare package for lazy loading
** help
*** installing help indices
** building package indices
** installing vignettes
** testing if installed package can be loaded from temporary location
** checking absolute paths in shared objects and dynamic libraries
** testing if installed package can be loaded from final location
** testing if installed package keeps a record of temporary installation path
* DONE (GOSemSim)