| Back to Multiple platform build/check report for BioC 3.20: simplified long |
|
This page was generated on 2025-04-02 19:32 -0400 (Wed, 02 Apr 2025).
| Hostname | OS | Arch (*) | R version | Installed pkgs |
|---|---|---|---|---|
| nebbiolo2 | Linux (Ubuntu 24.04.1 LTS) | x86_64 | 4.4.3 (2025-02-28) -- "Trophy Case" | 4764 |
| palomino8 | Windows Server 2022 Datacenter | x64 | 4.4.3 (2025-02-28 ucrt) -- "Trophy Case" | 4495 |
| merida1 | macOS 12.7.5 Monterey | x86_64 | 4.4.3 (2025-02-28) -- "Trophy Case" | 4522 |
| kjohnson1 | macOS 13.6.6 Ventura | arm64 | 4.4.3 (2025-02-28) -- "Trophy Case" | 4449 |
| taishan | Linux (openEuler 24.03 LTS) | aarch64 | 4.4.3 (2025-02-28) -- "Trophy Case" | 4426 |
| Click on any hostname to see more info about the system (e.g. compilers) (*) as reported by 'uname -p', except on Windows and Mac OS X | ||||
| Package 753/2289 | Hostname | OS / Arch | INSTALL | BUILD | CHECK | BUILD BIN | ||||||||
| FRASER 2.2.0 (landing page) Christian Mertes
| nebbiolo2 | Linux (Ubuntu 24.04.1 LTS) / x86_64 | OK | OK | OK | |||||||||
| palomino8 | Windows Server 2022 Datacenter / x64 | OK | OK | OK | OK | |||||||||
| merida1 | macOS 12.7.5 Monterey / x86_64 | OK | OK | OK | OK | |||||||||
| kjohnson1 | macOS 13.6.6 Ventura / arm64 | OK | OK | OK | OK | |||||||||
| taishan | Linux (openEuler 24.03 LTS) / aarch64 | OK | OK | OK | ||||||||||
|
To the developers/maintainers of the FRASER package: - Allow up to 24 hours (and sometimes 48 hours) for your latest push to git@git.bioconductor.org:packages/FRASER.git to reflect on this report. See Troubleshooting Build Report for more information. - Use the following Renviron settings to reproduce errors and warnings. - If 'R CMD check' started to fail recently on the Linux builder(s) over a missing dependency, add the missing dependency to 'Suggests:' in your DESCRIPTION file. See Renviron.bioc for more information. |
| Package: FRASER |
| Version: 2.2.0 |
| Command: /Library/Frameworks/R.framework/Resources/bin/R CMD check --install=check:FRASER.install-out.txt --library=/Library/Frameworks/R.framework/Resources/library --no-vignettes --timings FRASER_2.2.0.tar.gz |
| StartedAt: 2025-04-01 03:11:31 -0400 (Tue, 01 Apr 2025) |
| EndedAt: 2025-04-01 03:47:26 -0400 (Tue, 01 Apr 2025) |
| EllapsedTime: 2155.2 seconds |
| RetCode: 0 |
| Status: OK |
| CheckDir: FRASER.Rcheck |
| Warnings: 0 |
##############################################################################
##############################################################################
###
### Running command:
###
### /Library/Frameworks/R.framework/Resources/bin/R CMD check --install=check:FRASER.install-out.txt --library=/Library/Frameworks/R.framework/Resources/library --no-vignettes --timings FRASER_2.2.0.tar.gz
###
##############################################################################
##############################################################################
* using log directory ‘/Users/biocbuild/bbs-3.20-bioc/meat/FRASER.Rcheck’
* using R version 4.4.3 (2025-02-28)
* using platform: x86_64-apple-darwin20
* R was compiled by
Apple clang version 14.0.0 (clang-1400.0.29.202)
GNU Fortran (GCC) 12.2.0
* running under: macOS Monterey 12.7.6
* using session charset: UTF-8
* using option ‘--no-vignettes’
* checking for file ‘FRASER/DESCRIPTION’ ... OK
* checking extension type ... Package
* this is package ‘FRASER’ version ‘2.2.0’
* package encoding: UTF-8
* checking package namespace information ... OK
* checking package dependencies ... OK
* checking if this is a source package ... OK
* checking if there is a namespace ... OK
* checking for hidden files and directories ... OK
* checking for portable file names ... OK
* checking for sufficient/correct file permissions ... OK
* checking whether package ‘FRASER’ can be installed ... OK
* used C++ compiler: ‘Apple clang version 14.0.0 (clang-1400.0.29.202)’
* used SDK: ‘MacOSX11.3.sdk’
* checking installed package size ... OK
* checking package directory ... OK
* checking ‘build’ directory ... OK
* checking DESCRIPTION meta-information ... NOTE
License stub is invalid DCF.
* checking top-level files ... OK
* checking for left-over files ... OK
* checking index information ... OK
* checking package subdirectories ... OK
* checking code files for non-ASCII characters ... OK
* checking R files for syntax errors ... OK
* checking whether the package can be loaded ... OK
* checking whether the package can be loaded with stated dependencies ... OK
* checking whether the package can be unloaded cleanly ... OK
* checking whether the namespace can be loaded with stated dependencies ... OK
* checking whether the namespace can be unloaded cleanly ... OK
* checking whether startup messages can be suppressed ... OK
* checking dependencies in R code ... NOTE
Unexported objects imported by ':::' calls:
'S4Vectors:::selectSome' 'ggbio:::.buildFacetsFromArgs'
See the note in ?`:::` about the use of this operator.
* checking S3 generic/method consistency ... OK
* checking replacement functions ... OK
* checking foreign function calls ... OK
* checking R code for possible problems ... NOTE
annotateRangesWithTxDb: no visible binding for global variable
‘include’
calculatePadjValuesOnSubset : <anonymous>: no visible binding for
global variable ‘gene_rowIdx’
plotVolcano.FRASER: no visible binding for global variable
‘aberrantLabel’
plotVolcano,FraserDataSet: no visible binding for global variable
‘aberrantLabel’
results,FraserDataSet: no visible binding for global variable ‘padjust’
results,FraserDataSet: no visible binding for global variable
‘pValueGene’
results,FraserDataSet: no visible binding for global variable
‘padjustGene’
Undefined global functions or variables:
aberrantLabel gene_rowIdx include pValueGene padjust padjustGene
* checking Rd files ... OK
* checking Rd metadata ... OK
* checking Rd cross-references ... OK
* checking for missing documentation entries ... OK
* checking for code/documentation mismatches ... OK
* checking Rd \usage sections ... OK
* checking Rd contents ... OK
* checking for unstated dependencies in examples ... OK
* checking line endings in C/C++/Fortran sources/headers ... OK
* checking line endings in Makefiles ... OK
* checking compilation flags in Makevars ... OK
* checking for GNU extensions in Makefiles ... OK
* checking for portable use of $(BLAS_LIBS) and $(LAPACK_LIBS) ... OK
* checking use of PKG_*FLAGS in Makefiles ... OK
* checking compiled code ... NOTE
Note: information on .o files is not available
* checking sizes of PDF files under ‘inst/doc’ ... OK
* checking files in ‘vignettes’ ... OK
* checking examples ... OK
Examples with CPU (user + system) or elapsed time > 5s
user system elapsed
plotFunctions 277.538 3.645 296.064
potentialImpactAnnotations 100.435 1.244 109.872
FRASER 85.545 1.311 90.411
injectOutliers 64.142 0.245 66.535
results 51.506 0.431 54.875
optimHyperParams 46.910 0.248 49.221
mergeExternalData 46.680 0.333 49.032
annotateRanges 45.411 0.615 50.389
calculatePSIValues 40.219 0.287 42.337
fds-methods 38.591 0.290 41.832
filtering 38.398 0.264 41.225
counts 36.720 0.231 37.922
subset 36.660 0.206 38.356
getter_setter_functions 36.643 0.221 38.823
createTestFraserDataSet 35.127 0.220 36.837
makeSimulatedFraserDataSet 9.107 0.058 9.308
* checking for unstated dependencies in ‘tests’ ... OK
* checking tests ...
Running ‘testthat.R’
OK
* checking for unstated dependencies in vignettes ... OK
* checking package vignettes ... OK
* checking running R code from vignettes ... SKIPPED
* checking re-building of vignette outputs ... SKIPPED
* checking PDF version of manual ... OK
* DONE
Status: 4 NOTEs
See
‘/Users/biocbuild/bbs-3.20-bioc/meat/FRASER.Rcheck/00check.log’
for details.
FRASER.Rcheck/00install.out
############################################################################## ############################################################################## ### ### Running command: ### ### /Library/Frameworks/R.framework/Resources/bin/R CMD INSTALL FRASER ### ############################################################################## ############################################################################## * installing to library ‘/Library/Frameworks/R.framework/Versions/4.4-x86_64/Resources/library’ * installing *source* package ‘FRASER’ ... ** using staged installation ** libs using C++ compiler: ‘Apple clang version 14.0.0 (clang-1400.0.29.202)’ using SDK: ‘MacOSX11.3.sdk’ clang++ -arch x86_64 -std=gnu++17 -I"/Library/Frameworks/R.framework/Resources/include" -DNDEBUG -I'/Library/Frameworks/R.framework/Versions/4.4-x86_64/Resources/library/RcppArmadillo/include' -I'/Library/Frameworks/R.framework/Versions/4.4-x86_64/Resources/library/Rcpp/include' -I/opt/R/x86_64/include -DARMA_DONT_USE_OPENMP -fPIC -falign-functions=64 -Wall -g -O2 -c RcppExports.cpp -o RcppExports.o clang++ -arch x86_64 -std=gnu++17 -I"/Library/Frameworks/R.framework/Resources/include" -DNDEBUG -I'/Library/Frameworks/R.framework/Versions/4.4-x86_64/Resources/library/RcppArmadillo/include' -I'/Library/Frameworks/R.framework/Versions/4.4-x86_64/Resources/library/Rcpp/include' -I/opt/R/x86_64/include -DARMA_DONT_USE_OPENMP -fPIC -falign-functions=64 -Wall -g -O2 -c loss_n_gradient_functions.cpp -o loss_n_gradient_functions.o clang++ -arch x86_64 -std=gnu++17 -dynamiclib -Wl,-headerpad_max_install_names -undefined dynamic_lookup -L/Library/Frameworks/R.framework/Resources/lib -L/opt/R/x86_64/lib -o FRASER.so RcppExports.o loss_n_gradient_functions.o -L/Library/Frameworks/R.framework/Resources/lib -lRlapack -L/Library/Frameworks/R.framework/Resources/lib -lRblas -L/opt/gfortran/lib/gcc/x86_64-apple-darwin20.0/12.2.0 -L/opt/gfortran/lib -lgfortran -lquadmath -F/Library/Frameworks/R.framework/.. -framework R -Wl,-framework -Wl,CoreFoundation installing to /Library/Frameworks/R.framework/Versions/4.4-x86_64/Resources/library/00LOCK-FRASER/00new/FRASER/libs ** R ** inst ** byte-compile and prepare package for lazy loading ** help *** installing help indices ** building package indices ** installing vignettes ** testing if installed package can be loaded from temporary location ** checking absolute paths in shared objects and dynamic libraries ** testing if installed package can be loaded from final location ** testing if installed package keeps a record of temporary installation path * DONE (FRASER)
FRASER.Rcheck/tests/testthat.Rout
R version 4.4.3 (2025-02-28) -- "Trophy Case"
Copyright (C) 2025 The R Foundation for Statistical Computing
Platform: x86_64-apple-darwin20
R is free software and comes with ABSOLUTELY NO WARRANTY.
You are welcome to redistribute it under certain conditions.
Type 'license()' or 'licence()' for distribution details.
R is a collaborative project with many contributors.
Type 'contributors()' for more information and
'citation()' on how to cite R or R packages in publications.
Type 'demo()' for some demos, 'help()' for on-line help, or
'help.start()' for an HTML browser interface to help.
Type 'q()' to quit R.
> library(testthat)
> library(FRASER)
Loading required package: BiocParallel
Loading required package: data.table
Loading required package: Rsamtools
Loading required package: GenomeInfoDb
Loading required package: BiocGenerics
Attaching package: 'BiocGenerics'
The following objects are masked from 'package:stats':
IQR, mad, sd, var, xtabs
The following objects are masked from 'package:base':
Filter, Find, Map, Position, Reduce, anyDuplicated, aperm, append,
as.data.frame, basename, cbind, colnames, dirname, do.call,
duplicated, eval, evalq, get, grep, grepl, intersect, is.unsorted,
lapply, mapply, match, mget, order, paste, pmax, pmax.int, pmin,
pmin.int, rank, rbind, rownames, sapply, saveRDS, setdiff, table,
tapply, union, unique, unsplit, which.max, which.min
Loading required package: S4Vectors
Loading required package: stats4
Attaching package: 'S4Vectors'
The following objects are masked from 'package:data.table':
first, second
The following object is masked from 'package:utils':
findMatches
The following objects are masked from 'package:base':
I, expand.grid, unname
Loading required package: IRanges
Attaching package: 'IRanges'
The following object is masked from 'package:data.table':
shift
Loading required package: GenomicRanges
Loading required package: Biostrings
Loading required package: XVector
Attaching package: 'Biostrings'
The following object is masked from 'package:base':
strsplit
Loading required package: SummarizedExperiment
Loading required package: MatrixGenerics
Loading required package: matrixStats
Attaching package: 'MatrixGenerics'
The following objects are masked from 'package:matrixStats':
colAlls, colAnyNAs, colAnys, colAvgsPerRowSet, colCollapse,
colCounts, colCummaxs, colCummins, colCumprods, colCumsums,
colDiffs, colIQRDiffs, colIQRs, colLogSumExps, colMadDiffs,
colMads, colMaxs, colMeans2, colMedians, colMins, colOrderStats,
colProds, colQuantiles, colRanges, colRanks, colSdDiffs, colSds,
colSums2, colTabulates, colVarDiffs, colVars, colWeightedMads,
colWeightedMeans, colWeightedMedians, colWeightedSds,
colWeightedVars, rowAlls, rowAnyNAs, rowAnys, rowAvgsPerColSet,
rowCollapse, rowCounts, rowCummaxs, rowCummins, rowCumprods,
rowCumsums, rowDiffs, rowIQRDiffs, rowIQRs, rowLogSumExps,
rowMadDiffs, rowMads, rowMaxs, rowMeans2, rowMedians, rowMins,
rowOrderStats, rowProds, rowQuantiles, rowRanges, rowRanks,
rowSdDiffs, rowSds, rowSums2, rowTabulates, rowVarDiffs, rowVars,
rowWeightedMads, rowWeightedMeans, rowWeightedMedians,
rowWeightedSds, rowWeightedVars
Loading required package: Biobase
Welcome to Bioconductor
Vignettes contain introductory material; view with
'browseVignettes()'. To cite Bioconductor, see
'citation("Biobase")', and for packages 'citation("pkgname")'.
Attaching package: 'Biobase'
The following object is masked from 'package:MatrixGenerics':
rowMedians
The following objects are masked from 'package:matrixStats':
anyMissing, rowMedians
Attaching package: 'FRASER'
The following object is masked from 'package:Biobase':
samples
The following object is masked from 'package:GenomeInfoDb':
mapSeqlevels
>
> # to speed up the testing on windows do it in serial mode
> if(.Platform$OS.type != "unix") {
+ register(SerialParam())
+ }
>
> test_check("FRASER")
[ FAIL 0 | WARN 523 | SKIP 0 | PASS 97 ]
[ FAIL 0 | WARN 523 | SKIP 0 | PASS 97 ]
>
> proc.time()
user system elapsed
423.764 75.860 399.414
FRASER.Rcheck/FRASER-Ex.timings
| name | user | system | elapsed | |
| FRASER | 85.545 | 1.311 | 90.411 | |
| FraserDataSet | 0.801 | 0.029 | 0.860 | |
| annotateRanges | 45.411 | 0.615 | 50.389 | |
| calculatePSIValues | 40.219 | 0.287 | 42.337 | |
| countRNA | 2.046 | 0.039 | 2.197 | |
| counts | 36.720 | 0.231 | 37.922 | |
| createTestFraserDataSet | 35.127 | 0.220 | 36.837 | |
| fds-methods | 38.591 | 0.290 | 41.832 | |
| filtering | 38.398 | 0.264 | 41.225 | |
| getter_setter_functions | 36.643 | 0.221 | 38.823 | |
| injectOutliers | 64.142 | 0.245 | 66.535 | |
| loadFraserDataSet | 0.826 | 0.009 | 0.840 | |
| makeSimulatedFraserDataSet | 9.107 | 0.058 | 9.308 | |
| mergeExternalData | 46.680 | 0.333 | 49.032 | |
| optimHyperParams | 46.910 | 0.248 | 49.221 | |
| plotFunctions | 277.538 | 3.645 | 296.064 | |
| potentialImpactAnnotations | 100.435 | 1.244 | 109.872 | |
| psiTypes | 0.000 | 0.000 | 0.001 | |
| results | 51.506 | 0.431 | 54.875 | |
| subset | 36.660 | 0.206 | 38.356 | |