| Back to Multiple platform build/check report for BioC 3.20: simplified long | 
 | 
This page was generated on 2024-11-20 12:02 -0500 (Wed, 20 Nov 2024).
| Hostname | OS | Arch (*) | R version | Installed pkgs | 
|---|---|---|---|---|
| teran2 | Linux (Ubuntu 24.04.1 LTS) | x86_64 | 4.4.2 (2024-10-31) -- "Pile of Leaves" | 4481 | 
| nebbiolo2 | Linux (Ubuntu 24.04.1 LTS) | x86_64 | 4.4.2 (2024-10-31) -- "Pile of Leaves" | 4479 | 
| palomino8 | Windows Server 2022 Datacenter | x64 | 4.4.2 (2024-10-31 ucrt) -- "Pile of Leaves" | 4359 | 
| lconway | macOS 12.7.1 Monterey | x86_64 | 4.4.1 (2024-06-14) -- "Race for Your Life" | 4539 | 
| kunpeng2 | Linux (openEuler 22.03 LTS-SP1) | aarch64 | 4.4.1 (2024-06-14) -- "Race for Your Life" | 4493 | 
| Click on any hostname to see more info about the system (e.g. compilers) (*) as reported by 'uname -p', except on Windows and Mac OS X | ||||
| Package 594/2289 | Hostname | OS / Arch | INSTALL | BUILD | CHECK | BUILD BIN | ||||||||
| DNAcopy 1.80.0  (landing page) Venkatraman E. Seshan 
 | teran2 | Linux (Ubuntu 24.04.1 LTS) / x86_64 | OK | OK | OK |  | ||||||||
| nebbiolo2 | Linux (Ubuntu 24.04.1 LTS) / x86_64 | OK | OK | OK | ||||||||||
| palomino8 | Windows Server 2022 Datacenter / x64 | OK | OK | OK | OK |  | ||||||||
| lconway | macOS 12.7.1 Monterey / x86_64 | OK | OK | OK | OK |  | ||||||||
| kunpeng2 | Linux (openEuler 22.03 LTS-SP1) / aarch64 | OK | OK | OK | ||||||||||
| To the developers/maintainers of the DNAcopy package: - Allow up to 24 hours (and sometimes 48 hours) for your latest push to git@git.bioconductor.org:packages/DNAcopy.git to reflect on this report. See Troubleshooting Build Report for more information. - Use the following Renviron settings to reproduce errors and warnings. - If 'R CMD check' started to fail recently on the Linux builder(s) over a missing dependency, add the missing dependency to 'Suggests:' in your DESCRIPTION file. See Renviron.bioc for more information. | 
| Package: DNAcopy | 
| Version: 1.80.0 | 
| Command: /home/biocbuild/bbs-3.20-bioc/R/bin/R CMD INSTALL DNAcopy | 
| StartedAt: 2024-11-19 15:01:34 -0500 (Tue, 19 Nov 2024) | 
| EndedAt: 2024-11-19 15:01:39 -0500 (Tue, 19 Nov 2024) | 
| EllapsedTime: 5.2 seconds | 
| RetCode: 0 | 
| Status: OK | 
##############################################################################
##############################################################################
###
### Running command:
###
###   /home/biocbuild/bbs-3.20-bioc/R/bin/R CMD INSTALL DNAcopy
###
##############################################################################
##############################################################################
* installing to library ‘/media/volume/teran2_disk/biocbuild/bbs-3.20-bioc/R/site-library’
* installing *source* package ‘DNAcopy’ ...
** using staged installation
** libs
using C compiler: ‘gcc (Ubuntu 13.2.0-23ubuntu4) 13.2.0’
using Fortran compiler: ‘GNU Fortran (Ubuntu 13.2.0-23ubuntu4) 13.2.0’
gfortran  -fpic  -g -O2  -Wall -c cbsWtstats.f -o cbsWtstats.o
cbsWtstats.f:282:72:
  282 |       iseg(1) = tmaxi
      |                                                                        ^
Warning: ‘tmaxi’ may be used uninitialized [-Wmaybe-uninitialized]
cbsWtstats.f:17:16:
   17 |      2     tmaxi, tmaxj, nal0
      |                ^
note: ‘tmaxi’ was declared here
cbsWtstats.f:283:72:
  283 |       iseg(2) = tmaxj
      |                                                                        ^
Warning: ‘tmaxj’ may be used uninitialized [-Wmaybe-uninitialized]
cbsWtstats.f:17:23:
   17 |      2     tmaxi, tmaxj, nal0
      |                       ^
note: ‘tmaxj’ was declared here
gfortran  -fpic  -g -O2  -Wall -c cbststats.f -o cbststats.o
cbststats.f:258:72:
  258 |                      tmaxj = sxmxi + i2j
      |                                                                        ^
Warning: ‘sxmxi’ may be used uninitialized [-Wmaybe-uninitialized]
cbststats.f:11:63:
   11 |      1     nb2, bi, bj, ilo, ihi, jlo, jhi, alenmax, i2j, sxmxi,
      |                                                               ^
note: ‘sxmxi’ was declared here
gfortran  -fpic  -g -O2  -Wall -c changepoints-wtd.f -o changepoints-wtd.o
gfortran  -fpic  -g -O2  -Wall -c changepoints.f -o changepoints.o
gfortran  -fpic  -g -O2  -Wall -c esegment.f -o esegment.o
gcc -I"/home/biocbuild/bbs-3.20-bioc/R/include" -DNDEBUG   -I/usr/local/include    -fpic  -g -O2  -Wall -c flchoose.c -o flchoose.o
gcc -I"/home/biocbuild/bbs-3.20-bioc/R/include" -DNDEBUG   -I/usr/local/include    -fpic  -g -O2  -Wall -c fphyper.c -o fphyper.o
gcc -I"/home/biocbuild/bbs-3.20-bioc/R/include" -DNDEBUG   -I/usr/local/include    -fpic  -g -O2  -Wall -c fpnorm.c -o fpnorm.o
gfortran  -fpic  -g -O2  -Wall -c getbdry.f -o getbdry.o
gcc -I"/home/biocbuild/bbs-3.20-bioc/R/include" -DNDEBUG   -I/usr/local/include    -fpic  -g -O2  -Wall -c init.c -o init.o
gfortran  -fpic  -g -O2  -Wall -c prune.f -o prune.o
gcc -I"/home/biocbuild/bbs-3.20-bioc/R/include" -DNDEBUG   -I/usr/local/include    -fpic  -g -O2  -Wall -c rshared.c -o rshared.o
gfortran  -fpic  -g -O2  -Wall -c segmentp.f -o segmentp.o
gfortran  -fpic  -g -O2  -Wall -c smoothCNA.f -o smoothCNA.o
gfortran  -fpic  -g -O2  -Wall -c tailprobs.f -o tailprobs.o
gcc -shared -L/home/biocbuild/bbs-3.20-bioc/R/lib -L/usr/local/lib -o DNAcopy.so cbsWtstats.o cbststats.o changepoints-wtd.o changepoints.o esegment.o flchoose.o fphyper.o fpnorm.o getbdry.o init.o prune.o rshared.o segmentp.o smoothCNA.o tailprobs.o -lgfortran -lm -lquadmath -L/home/biocbuild/bbs-3.20-bioc/R/lib -lR
installing to /media/volume/teran2_disk/biocbuild/bbs-3.20-bioc/R/site-library/00LOCK-DNAcopy/00new/DNAcopy/libs
** R
** data
*** moving datasets to lazyload DB
** demo
** inst
** byte-compile and prepare package for lazy loading
** help
*** installing help indices
** building package indices
** installing vignettes
** testing if installed package can be loaded from temporary location
** checking absolute paths in shared objects and dynamic libraries
** testing if installed package can be loaded from final location
** testing if installed package keeps a record of temporary installation path
* DONE (DNAcopy)