| Back to Multiple platform build/check report for BioC 3.20: simplified long | 
 | 
This page was generated on 2024-11-20 12:02 -0500 (Wed, 20 Nov 2024).
| Hostname | OS | Arch (*) | R version | Installed pkgs | 
|---|---|---|---|---|
| teran2 | Linux (Ubuntu 24.04.1 LTS) | x86_64 | 4.4.2 (2024-10-31) -- "Pile of Leaves" | 4481 | 
| nebbiolo2 | Linux (Ubuntu 24.04.1 LTS) | x86_64 | 4.4.2 (2024-10-31) -- "Pile of Leaves" | 4479 | 
| palomino8 | Windows Server 2022 Datacenter | x64 | 4.4.2 (2024-10-31 ucrt) -- "Pile of Leaves" | 4359 | 
| lconway | macOS 12.7.1 Monterey | x86_64 | 4.4.1 (2024-06-14) -- "Race for Your Life" | 4539 | 
| kunpeng2 | Linux (openEuler 22.03 LTS-SP1) | aarch64 | 4.4.1 (2024-06-14) -- "Race for Your Life" | 4493 | 
| Click on any hostname to see more info about the system (e.g. compilers) (*) as reported by 'uname -p', except on Windows and Mac OS X | ||||
| Package 592/2289 | Hostname | OS / Arch | INSTALL | BUILD | CHECK | BUILD BIN | ||||||||
| DNABarcodeCompatibility 1.22.0  (landing page) Céline Trébeau 
 | teran2 | Linux (Ubuntu 24.04.1 LTS) / x86_64 | OK | OK | OK |  | ||||||||
| nebbiolo2 | Linux (Ubuntu 24.04.1 LTS) / x86_64 | OK | OK | OK | ||||||||||
| palomino8 | Windows Server 2022 Datacenter / x64 | OK | OK | OK | OK |  | ||||||||
| lconway | macOS 12.7.1 Monterey / x86_64 | OK | OK | OK | OK |  | ||||||||
| kunpeng2 | Linux (openEuler 22.03 LTS-SP1) / aarch64 | OK | OK | OK | ||||||||||
| To the developers/maintainers of the DNABarcodeCompatibility package: - Allow up to 24 hours (and sometimes 48 hours) for your latest push to git@git.bioconductor.org:packages/DNABarcodeCompatibility.git to reflect on this report. See Troubleshooting Build Report for more information. - Use the following Renviron settings to reproduce errors and warnings. - If 'R CMD check' started to fail recently on the Linux builder(s) over a missing dependency, add the missing dependency to 'Suggests:' in your DESCRIPTION file. See Renviron.bioc for more information. | 
| Package: DNABarcodeCompatibility | 
| Version: 1.22.0 | 
| Command: /home/biocbuild/bbs-3.20-bioc/R/bin/R CMD check --install=check:DNABarcodeCompatibility.install-out.txt --library=/home/biocbuild/bbs-3.20-bioc/R/site-library --timings DNABarcodeCompatibility_1.22.0.tar.gz | 
| StartedAt: 2024-11-20 02:03:50 -0500 (Wed, 20 Nov 2024) | 
| EndedAt: 2024-11-20 02:05:09 -0500 (Wed, 20 Nov 2024) | 
| EllapsedTime: 78.4 seconds | 
| RetCode: 0 | 
| Status: OK | 
| CheckDir: DNABarcodeCompatibility.Rcheck | 
| Warnings: 0 | 
##############################################################################
##############################################################################
###
### Running command:
###
###   /home/biocbuild/bbs-3.20-bioc/R/bin/R CMD check --install=check:DNABarcodeCompatibility.install-out.txt --library=/home/biocbuild/bbs-3.20-bioc/R/site-library --timings DNABarcodeCompatibility_1.22.0.tar.gz
###
##############################################################################
##############################################################################
* using log directory ‘/media/volume/teran2_disk/biocbuild/bbs-3.20-bioc/meat/DNABarcodeCompatibility.Rcheck’
* using R version 4.4.2 (2024-10-31)
* using platform: x86_64-pc-linux-gnu
* R was compiled by
    gcc (Ubuntu 13.2.0-23ubuntu4) 13.2.0
    GNU Fortran (Ubuntu 13.2.0-23ubuntu4) 13.2.0
* running under: Ubuntu 24.04.1 LTS
* using session charset: UTF-8
* checking for file ‘DNABarcodeCompatibility/DESCRIPTION’ ... OK
* checking extension type ... Package
* this is package ‘DNABarcodeCompatibility’ version ‘1.22.0’
* package encoding: UTF-8
* checking package namespace information ... OK
* checking package dependencies ... OK
* checking if this is a source package ... OK
* checking if there is a namespace ... OK
* checking for hidden files and directories ... OK
* checking for portable file names ... OK
* checking for sufficient/correct file permissions ... OK
* checking whether package ‘DNABarcodeCompatibility’ can be installed ... OK
* used C compiler: ‘gcc (Ubuntu 13.2.0-23ubuntu4) 13.2.0’
* used C++ compiler: ‘g++ (Ubuntu 13.2.0-23ubuntu4) 13.2.0’
* checking installed package size ... OK
* checking package directory ... OK
* checking ‘build’ directory ... OK
* checking DESCRIPTION meta-information ... OK
* checking top-level files ... OK
* checking for left-over files ... OK
* checking index information ... OK
* checking package subdirectories ... OK
* checking code files for non-ASCII characters ... OK
* checking R files for syntax errors ... OK
* checking whether the package can be loaded ... OK
* checking whether the package can be loaded with stated dependencies ... OK
* checking whether the package can be unloaded cleanly ... OK
* checking whether the namespace can be loaded with stated dependencies ... OK
* checking whether the namespace can be unloaded cleanly ... OK
* checking loading without being on the library search path ... OK
* checking dependencies in R code ... NOTE
Namespace in Imports field not imported from: ‘BH’
  All declared Imports should be used.
* checking S3 generic/method consistency ... OK
* checking replacement functions ... OK
* checking foreign function calls ... OK
* checking R code for possible problems ... OK
* checking Rd files ... OK
* checking Rd metadata ... OK
* checking Rd cross-references ... OK
* checking for missing documentation entries ... OK
* checking for code/documentation mismatches ... OK
* checking Rd \usage sections ... OK
* checking Rd contents ... OK
* checking for unstated dependencies in examples ... OK
* checking contents of ‘data’ directory ... OK
* checking data for non-ASCII characters ... OK
* checking LazyData ... OK
* checking data for ASCII and uncompressed saves ... OK
* checking line endings in C/C++/Fortran sources/headers ... OK
* checking compiled code ... NOTE
Note: information on .o files is not available
* checking files in ‘vignettes’ ... OK
* checking examples ... OK
* checking for unstated dependencies in ‘tests’ ... OK
* checking tests ...
  Running ‘testthat.R’
 OK
* checking for unstated dependencies in vignettes ... OK
* checking package vignettes ... OK
* checking re-building of vignette outputs ... OK
* checking PDF version of manual ... OK
* DONE
Status: 2 NOTEs
See
  ‘/media/volume/teran2_disk/biocbuild/bbs-3.20-bioc/meat/DNABarcodeCompatibility.Rcheck/00check.log’
for details.
DNABarcodeCompatibility.Rcheck/00install.out
##############################################################################
##############################################################################
###
### Running command:
###
###   /home/biocbuild/bbs-3.20-bioc/R/bin/R CMD INSTALL DNABarcodeCompatibility
###
##############################################################################
##############################################################################
* installing to library ‘/media/volume/teran2_disk/biocbuild/bbs-3.20-bioc/R/site-library’
* installing *source* package ‘DNABarcodeCompatibility’ ...
** using staged installation
** libs
using C compiler: ‘gcc (Ubuntu 13.2.0-23ubuntu4) 13.2.0’
using C++ compiler: ‘g++ (Ubuntu 13.2.0-23ubuntu4) 13.2.0’
gcc -I"/home/biocbuild/bbs-3.20-bioc/R/include" -DNDEBUG  -I'/media/volume/teran2_disk/biocbuild/bbs-3.20-bioc/R/site-library/Rcpp/include' -I'/media/volume/teran2_disk/biocbuild/bbs-3.20-bioc/R/site-library/BH/include' -I/usr/local/include    -fpic  -g -O2  -Wall -c DNABarcodes_init.c -o DNABarcodes_init.o
g++ -std=gnu++17 -I"/home/biocbuild/bbs-3.20-bioc/R/include" -DNDEBUG  -I'/media/volume/teran2_disk/biocbuild/bbs-3.20-bioc/R/site-library/Rcpp/include' -I'/media/volume/teran2_disk/biocbuild/bbs-3.20-bioc/R/site-library/BH/include' -I/usr/local/include    -fpic  -g -O2  -Wall  -c RcppExports.cpp -o RcppExports.o
g++ -std=gnu++17 -I"/home/biocbuild/bbs-3.20-bioc/R/include" -DNDEBUG  -I'/media/volume/teran2_disk/biocbuild/bbs-3.20-bioc/R/site-library/Rcpp/include' -I'/media/volume/teran2_disk/biocbuild/bbs-3.20-bioc/R/site-library/BH/include' -I/usr/local/include    -fpic  -g -O2  -Wall  -c cachedistance.cpp -o cachedistance.o
cachedistance.cpp:51: warning: ignoring ‘#pragma omp critical’ [-Wunknown-pragmas]
   51 | #pragma omp critical
      | 
cachedistance.cpp:66: warning: ignoring ‘#pragma omp critical’ [-Wunknown-pragmas]
   66 | #pragma omp critical
      | 
In file included from /media/volume/teran2_disk/biocbuild/bbs-3.20-bioc/R/site-library/BH/include/boost/smart_ptr/shared_ptr.hpp:18,
                 from /media/volume/teran2_disk/biocbuild/bbs-3.20-bioc/R/site-library/BH/include/boost/shared_ptr.hpp:17,
                 from sequence.h:19,
                 from cachedistance.cpp:7:
/media/volume/teran2_disk/biocbuild/bbs-3.20-bioc/R/site-library/BH/include/boost/smart_ptr/detail/shared_count.hpp:361:33: warning: ‘template<class> class std::auto_ptr’ is deprecated: use 'std::unique_ptr' instead [-Wdeprecated-declarations]
  361 |     explicit shared_count( std::auto_ptr<Y> & r ): pi_( new sp_counted_impl_p<Y>( r.get() ) )
      |                                 ^~~~~~~~
In file included from /usr/include/c++/13/memory:78,
                 from sequence.h:13:
/usr/include/c++/13/bits/unique_ptr.h:65:28: note: declared here
   65 |   template<typename> class auto_ptr;
      |                            ^~~~~~~~
/media/volume/teran2_disk/biocbuild/bbs-3.20-bioc/R/site-library/BH/include/boost/smart_ptr/shared_ptr.hpp:251:65: warning: ‘template<class> class std::auto_ptr’ is deprecated: use 'std::unique_ptr' instead [-Wdeprecated-declarations]
  251 | template< class T, class R > struct sp_enable_if_auto_ptr< std::auto_ptr< T >, R >
      |                                                                 ^~~~~~~~
/usr/include/c++/13/bits/unique_ptr.h:65:28: note: declared here
   65 |   template<typename> class auto_ptr;
      |                            ^~~~~~~~
/media/volume/teran2_disk/biocbuild/bbs-3.20-bioc/R/site-library/BH/include/boost/smart_ptr/shared_ptr.hpp:508:31: warning: ‘template<class> class std::auto_ptr’ is deprecated: use 'std::unique_ptr' instead [-Wdeprecated-declarations]
  508 |     explicit shared_ptr( std::auto_ptr<Y> & r ): px(r.get()), pn()
      |                               ^~~~~~~~
/usr/include/c++/13/bits/unique_ptr.h:65:28: note: declared here
   65 |   template<typename> class auto_ptr;
      |                            ^~~~~~~~
/media/volume/teran2_disk/biocbuild/bbs-3.20-bioc/R/site-library/BH/include/boost/smart_ptr/shared_ptr.hpp:521:22: warning: ‘template<class> class std::auto_ptr’ is deprecated: use 'std::unique_ptr' instead [-Wdeprecated-declarations]
  521 |     shared_ptr( std::auto_ptr<Y> && r ): px(r.get()), pn()
      |                      ^~~~~~~~
/usr/include/c++/13/bits/unique_ptr.h:65:28: note: declared here
   65 |   template<typename> class auto_ptr;
      |                            ^~~~~~~~
/media/volume/teran2_disk/biocbuild/bbs-3.20-bioc/R/site-library/BH/include/boost/smart_ptr/shared_ptr.hpp:604:34: warning: ‘template<class> class std::auto_ptr’ is deprecated: use 'std::unique_ptr' instead [-Wdeprecated-declarations]
  604 |     shared_ptr & operator=( std::auto_ptr<Y> & r )
      |                                  ^~~~~~~~
/usr/include/c++/13/bits/unique_ptr.h:65:28: note: declared here
   65 |   template<typename> class auto_ptr;
      |                            ^~~~~~~~
/media/volume/teran2_disk/biocbuild/bbs-3.20-bioc/R/site-library/BH/include/boost/smart_ptr/shared_ptr.hpp:613:34: warning: ‘template<class> class std::auto_ptr’ is deprecated: use 'std::unique_ptr' instead [-Wdeprecated-declarations]
  613 |     shared_ptr & operator=( std::auto_ptr<Y> && r )
      |                                  ^~~~~~~~
/usr/include/c++/13/bits/unique_ptr.h:65:28: note: declared here
   65 |   template<typename> class auto_ptr;
      |                            ^~~~~~~~
/media/volume/teran2_disk/biocbuild/bbs-3.20-bioc/R/site-library/BH/include/boost/smart_ptr/shared_ptr.hpp: In member function ‘boost::shared_ptr<T>& boost::shared_ptr<T>::operator=(std::auto_ptr<_Up>&&)’:
/media/volume/teran2_disk/biocbuild/bbs-3.20-bioc/R/site-library/BH/include/boost/smart_ptr/shared_ptr.hpp:615:38: warning: ‘template<class> class std::auto_ptr’ is deprecated: use 'std::unique_ptr' instead [-Wdeprecated-declarations]
  615 |         this_type( static_cast< std::auto_ptr<Y> && >( r ) ).swap( *this );
      |                                      ^~~~~~~~
/usr/include/c++/13/bits/unique_ptr.h:65:28: note: declared here
   65 |   template<typename> class auto_ptr;
      |                            ^~~~~~~~
In file included from /media/volume/teran2_disk/biocbuild/bbs-3.20-bioc/R/site-library/BH/include/boost/mpl/aux_/na_assert.hpp:23,
                 from /media/volume/teran2_disk/biocbuild/bbs-3.20-bioc/R/site-library/BH/include/boost/mpl/arg.hpp:25,
                 from /media/volume/teran2_disk/biocbuild/bbs-3.20-bioc/R/site-library/BH/include/boost/mpl/placeholders.hpp:24,
                 from /media/volume/teran2_disk/biocbuild/bbs-3.20-bioc/R/site-library/BH/include/boost/mpl/apply.hpp:24,
                 from /media/volume/teran2_disk/biocbuild/bbs-3.20-bioc/R/site-library/BH/include/boost/serialization/array_optimization.hpp:18,
                 from /media/volume/teran2_disk/biocbuild/bbs-3.20-bioc/R/site-library/BH/include/boost/serialization/array_wrapper.hpp:21,
                 from /media/volume/teran2_disk/biocbuild/bbs-3.20-bioc/R/site-library/BH/include/boost/serialization/array.hpp:26,
                 from /media/volume/teran2_disk/biocbuild/bbs-3.20-bioc/R/site-library/BH/include/boost/numeric/ublas/storage.hpp:22,
                 from /media/volume/teran2_disk/biocbuild/bbs-3.20-bioc/R/site-library/BH/include/boost/numeric/ublas/vector.hpp:21,
                 from /media/volume/teran2_disk/biocbuild/bbs-3.20-bioc/R/site-library/BH/include/boost/numeric/ublas/matrix.hpp:18,
                 from /media/volume/teran2_disk/biocbuild/bbs-3.20-bioc/R/site-library/BH/include/boost/numeric/ublas/symmetric.hpp:16,
                 from cachedistance.h:16,
                 from cachedistance.cpp:8:
/media/volume/teran2_disk/biocbuild/bbs-3.20-bioc/R/site-library/BH/include/boost/mpl/assert.hpp: At global scope:
/media/volume/teran2_disk/biocbuild/bbs-3.20-bioc/R/site-library/BH/include/boost/mpl/assert.hpp:194:21: warning: unnecessary parentheses in declaration of ‘assert_arg’ [-Wparentheses]
  194 | failed ************ (Pred::************
      |                     ^~~~~~~~~~~~~~~~~~~
  195 |       assert_arg( void (*)(Pred), typename assert_arg_pred<Pred>::type )
      |       ~~~~~~~~~~~~~~~~~~~~~~~~~~~~~~~~~~~~~~~~~~~~~~~~~~~~~~~~~~~~~~~~~~
  196 |     );
      |     ~                
/media/volume/teran2_disk/biocbuild/bbs-3.20-bioc/R/site-library/BH/include/boost/mpl/assert.hpp:194:21: note: remove parentheses
  194 | failed ************ (Pred::************
      |                     ^~~~~~~~~~~~~~~~~~~
      |                     -
  195 |       assert_arg( void (*)(Pred), typename assert_arg_pred<Pred>::type )
      |       ~~~~~~~~~~~~~~~~~~~~~~~~~~~~~~~~~~~~~~~~~~~~~~~~~~~~~~~~~~~~~~~~~~
  196 |     );
      |     ~                
      |     -
/media/volume/teran2_disk/biocbuild/bbs-3.20-bioc/R/site-library/BH/include/boost/mpl/assert.hpp:199:21: warning: unnecessary parentheses in declaration of ‘assert_not_arg’ [-Wparentheses]
  199 | failed ************ (boost::mpl::not_<Pred>::************
      |                     ^~~~~~~~~~~~~~~~~~~~~~~~~~~~~~~~~~~~~
  200 |       assert_not_arg( void (*)(Pred), typename assert_arg_pred_not<Pred>::type )
      |       ~~~~~~~~~~~~~~~~~~~~~~~~~~~~~~~~~~~~~~~~~~~~~~~~~~~~~~~~~~~~~~~~~~~~~~~~~~
  201 |     );
      |     ~                
/media/volume/teran2_disk/biocbuild/bbs-3.20-bioc/R/site-library/BH/include/boost/mpl/assert.hpp:199:21: note: remove parentheses
  199 | failed ************ (boost::mpl::not_<Pred>::************
      |                     ^~~~~~~~~~~~~~~~~~~~~~~~~~~~~~~~~~~~~
      |                     -
  200 |       assert_not_arg( void (*)(Pred), typename assert_arg_pred_not<Pred>::type )
      |       ~~~~~~~~~~~~~~~~~~~~~~~~~~~~~~~~~~~~~~~~~~~~~~~~~~~~~~~~~~~~~~~~~~~~~~~~~~
  201 |     );
      |     ~                
      |     -
In file included from /media/volume/teran2_disk/biocbuild/bbs-3.20-bioc/R/site-library/BH/include/boost/numeric/ublas/traits.hpp:21,
                 from /media/volume/teran2_disk/biocbuild/bbs-3.20-bioc/R/site-library/BH/include/boost/numeric/ublas/storage.hpp:27:
/media/volume/teran2_disk/biocbuild/bbs-3.20-bioc/R/site-library/BH/include/boost/numeric/ublas/detail/iterator.hpp:111:21: warning: ‘template<class _Category, class _Tp, class _Distance, class _Pointer, class _Reference> struct std::iterator’ is deprecated [-Wdeprecated-declarations]
  111 |         public std::iterator<IC, T> {
      |                     ^~~~~~~~
In file included from /usr/include/c++/13/bits/stl_algobase.h:65,
                 from /usr/include/c++/13/bits/specfun.h:43,
                 from /usr/include/c++/13/cmath:3699,
                 from /media/volume/teran2_disk/biocbuild/bbs-3.20-bioc/R/site-library/Rcpp/include/Rcpp/platform/compiler.h:100,
                 from /media/volume/teran2_disk/biocbuild/bbs-3.20-bioc/R/site-library/Rcpp/include/Rcpp/r/headers.h:66,
                 from /media/volume/teran2_disk/biocbuild/bbs-3.20-bioc/R/site-library/Rcpp/include/RcppCommon.h:30,
                 from /media/volume/teran2_disk/biocbuild/bbs-3.20-bioc/R/site-library/Rcpp/include/Rcpp.h:27,
                 from cachedistance.cpp:4:
/usr/include/c++/13/bits/stl_iterator_base_types.h:127:34: note: declared here
  127 |     struct _GLIBCXX17_DEPRECATED iterator
      |                                  ^~~~~~~~
/media/volume/teran2_disk/biocbuild/bbs-3.20-bioc/R/site-library/BH/include/boost/numeric/ublas/detail/iterator.hpp:149:21: warning: ‘template<class _Category, class _Tp, class _Distance, class _Pointer, class _Reference> struct std::iterator’ is deprecated [-Wdeprecated-declarations]
  149 |         public std::iterator<IC, T> {
      |                     ^~~~~~~~
/usr/include/c++/13/bits/stl_iterator_base_types.h:127:34: note: declared here
  127 |     struct _GLIBCXX17_DEPRECATED iterator
      |                                  ^~~~~~~~
/media/volume/teran2_disk/biocbuild/bbs-3.20-bioc/R/site-library/BH/include/boost/numeric/ublas/detail/iterator.hpp:204:21: warning: ‘template<class _Category, class _Tp, class _Distance, class _Pointer, class _Reference> struct std::iterator’ is deprecated [-Wdeprecated-declarations]
  204 |         public std::iterator<IC, T> {
      |                     ^~~~~~~~
/usr/include/c++/13/bits/stl_iterator_base_types.h:127:34: note: declared here
  127 |     struct _GLIBCXX17_DEPRECATED iterator
      |                                  ^~~~~~~~
g++ -std=gnu++17 -I"/home/biocbuild/bbs-3.20-bioc/R/include" -DNDEBUG  -I'/media/volume/teran2_disk/biocbuild/bbs-3.20-bioc/R/site-library/Rcpp/include' -I'/media/volume/teran2_disk/biocbuild/bbs-3.20-bioc/R/site-library/BH/include' -I/usr/local/include    -fpic  -g -O2  -Wall  -c create_distance_func.cpp -o create_distance_func.o
In file included from /media/volume/teran2_disk/biocbuild/bbs-3.20-bioc/R/site-library/BH/include/boost/smart_ptr/shared_ptr.hpp:18,
                 from /media/volume/teran2_disk/biocbuild/bbs-3.20-bioc/R/site-library/BH/include/boost/shared_ptr.hpp:17,
                 from sequence.h:19,
                 from distance.h:14,
                 from create_distance_func.cpp:5:
/media/volume/teran2_disk/biocbuild/bbs-3.20-bioc/R/site-library/BH/include/boost/smart_ptr/detail/shared_count.hpp:361:33: warning: ‘template<class> class std::auto_ptr’ is deprecated: use 'std::unique_ptr' instead [-Wdeprecated-declarations]
  361 |     explicit shared_count( std::auto_ptr<Y> & r ): pi_( new sp_counted_impl_p<Y>( r.get() ) )
      |                                 ^~~~~~~~
In file included from /usr/include/c++/13/memory:78,
                 from distance.h:11:
/usr/include/c++/13/bits/unique_ptr.h:65:28: note: declared here
   65 |   template<typename> class auto_ptr;
      |                            ^~~~~~~~
/media/volume/teran2_disk/biocbuild/bbs-3.20-bioc/R/site-library/BH/include/boost/smart_ptr/shared_ptr.hpp:251:65: warning: ‘template<class> class std::auto_ptr’ is deprecated: use 'std::unique_ptr' instead [-Wdeprecated-declarations]
  251 | template< class T, class R > struct sp_enable_if_auto_ptr< std::auto_ptr< T >, R >
      |                                                                 ^~~~~~~~
/usr/include/c++/13/bits/unique_ptr.h:65:28: note: declared here
   65 |   template<typename> class auto_ptr;
      |                            ^~~~~~~~
/media/volume/teran2_disk/biocbuild/bbs-3.20-bioc/R/site-library/BH/include/boost/smart_ptr/shared_ptr.hpp:508:31: warning: ‘template<class> class std::auto_ptr’ is deprecated: use 'std::unique_ptr' instead [-Wdeprecated-declarations]
  508 |     explicit shared_ptr( std::auto_ptr<Y> & r ): px(r.get()), pn()
      |                               ^~~~~~~~
/usr/include/c++/13/bits/unique_ptr.h:65:28: note: declared here
   65 |   template<typename> class auto_ptr;
      |                            ^~~~~~~~
/media/volume/teran2_disk/biocbuild/bbs-3.20-bioc/R/site-library/BH/include/boost/smart_ptr/shared_ptr.hpp:521:22: warning: ‘template<class> class std::auto_ptr’ is deprecated: use 'std::unique_ptr' instead [-Wdeprecated-declarations]
  521 |     shared_ptr( std::auto_ptr<Y> && r ): px(r.get()), pn()
      |                      ^~~~~~~~
/usr/include/c++/13/bits/unique_ptr.h:65:28: note: declared here
   65 |   template<typename> class auto_ptr;
      |                            ^~~~~~~~
/media/volume/teran2_disk/biocbuild/bbs-3.20-bioc/R/site-library/BH/include/boost/smart_ptr/shared_ptr.hpp:604:34: warning: ‘template<class> class std::auto_ptr’ is deprecated: use 'std::unique_ptr' instead [-Wdeprecated-declarations]
  604 |     shared_ptr & operator=( std::auto_ptr<Y> & r )
      |                                  ^~~~~~~~
/usr/include/c++/13/bits/unique_ptr.h:65:28: note: declared here
   65 |   template<typename> class auto_ptr;
      |                            ^~~~~~~~
/media/volume/teran2_disk/biocbuild/bbs-3.20-bioc/R/site-library/BH/include/boost/smart_ptr/shared_ptr.hpp:613:34: warning: ‘template<class> class std::auto_ptr’ is deprecated: use 'std::unique_ptr' instead [-Wdeprecated-declarations]
  613 |     shared_ptr & operator=( std::auto_ptr<Y> && r )
      |                                  ^~~~~~~~
/usr/include/c++/13/bits/unique_ptr.h:65:28: note: declared here
   65 |   template<typename> class auto_ptr;
      |                            ^~~~~~~~
/media/volume/teran2_disk/biocbuild/bbs-3.20-bioc/R/site-library/BH/include/boost/smart_ptr/shared_ptr.hpp: In member function ‘boost::shared_ptr<T>& boost::shared_ptr<T>::operator=(std::auto_ptr<_Up>&&)’:
/media/volume/teran2_disk/biocbuild/bbs-3.20-bioc/R/site-library/BH/include/boost/smart_ptr/shared_ptr.hpp:615:38: warning: ‘template<class> class std::auto_ptr’ is deprecated: use 'std::unique_ptr' instead [-Wdeprecated-declarations]
  615 |         this_type( static_cast< std::auto_ptr<Y> && >( r ) ).swap( *this );
      |                                      ^~~~~~~~
/usr/include/c++/13/bits/unique_ptr.h:65:28: note: declared here
   65 |   template<typename> class auto_ptr;
      |                            ^~~~~~~~
In file included from /media/volume/teran2_disk/biocbuild/bbs-3.20-bioc/R/site-library/BH/include/boost/mpl/aux_/na_assert.hpp:23,
                 from /media/volume/teran2_disk/biocbuild/bbs-3.20-bioc/R/site-library/BH/include/boost/mpl/arg.hpp:25,
                 from /media/volume/teran2_disk/biocbuild/bbs-3.20-bioc/R/site-library/BH/include/boost/mpl/placeholders.hpp:24,
                 from /media/volume/teran2_disk/biocbuild/bbs-3.20-bioc/R/site-library/BH/include/boost/mpl/apply.hpp:24,
                 from /media/volume/teran2_disk/biocbuild/bbs-3.20-bioc/R/site-library/BH/include/boost/serialization/array_optimization.hpp:18,
                 from /media/volume/teran2_disk/biocbuild/bbs-3.20-bioc/R/site-library/BH/include/boost/serialization/array_wrapper.hpp:21,
                 from /media/volume/teran2_disk/biocbuild/bbs-3.20-bioc/R/site-library/BH/include/boost/serialization/array.hpp:26,
                 from /media/volume/teran2_disk/biocbuild/bbs-3.20-bioc/R/site-library/BH/include/boost/numeric/ublas/storage.hpp:22,
                 from /media/volume/teran2_disk/biocbuild/bbs-3.20-bioc/R/site-library/BH/include/boost/numeric/ublas/vector.hpp:21,
                 from /media/volume/teran2_disk/biocbuild/bbs-3.20-bioc/R/site-library/BH/include/boost/numeric/ublas/matrix.hpp:18,
                 from /media/volume/teran2_disk/biocbuild/bbs-3.20-bioc/R/site-library/BH/include/boost/numeric/ublas/symmetric.hpp:16,
                 from cachedistance.h:16,
                 from create_distance_func.cpp:9:
/media/volume/teran2_disk/biocbuild/bbs-3.20-bioc/R/site-library/BH/include/boost/mpl/assert.hpp: At global scope:
/media/volume/teran2_disk/biocbuild/bbs-3.20-bioc/R/site-library/BH/include/boost/mpl/assert.hpp:194:21: warning: unnecessary parentheses in declaration of ‘assert_arg’ [-Wparentheses]
  194 | failed ************ (Pred::************
      |                     ^~~~~~~~~~~~~~~~~~~
  195 |       assert_arg( void (*)(Pred), typename assert_arg_pred<Pred>::type )
      |       ~~~~~~~~~~~~~~~~~~~~~~~~~~~~~~~~~~~~~~~~~~~~~~~~~~~~~~~~~~~~~~~~~~
  196 |     );
      |     ~                
/media/volume/teran2_disk/biocbuild/bbs-3.20-bioc/R/site-library/BH/include/boost/mpl/assert.hpp:194:21: note: remove parentheses
  194 | failed ************ (Pred::************
      |                     ^~~~~~~~~~~~~~~~~~~
      |                     -
  195 |       assert_arg( void (*)(Pred), typename assert_arg_pred<Pred>::type )
      |       ~~~~~~~~~~~~~~~~~~~~~~~~~~~~~~~~~~~~~~~~~~~~~~~~~~~~~~~~~~~~~~~~~~
  196 |     );
      |     ~                
      |     -
/media/volume/teran2_disk/biocbuild/bbs-3.20-bioc/R/site-library/BH/include/boost/mpl/assert.hpp:199:21: warning: unnecessary parentheses in declaration of ‘assert_not_arg’ [-Wparentheses]
  199 | failed ************ (boost::mpl::not_<Pred>::************
      |                     ^~~~~~~~~~~~~~~~~~~~~~~~~~~~~~~~~~~~~
  200 |       assert_not_arg( void (*)(Pred), typename assert_arg_pred_not<Pred>::type )
      |       ~~~~~~~~~~~~~~~~~~~~~~~~~~~~~~~~~~~~~~~~~~~~~~~~~~~~~~~~~~~~~~~~~~~~~~~~~~
  201 |     );
      |     ~                
/media/volume/teran2_disk/biocbuild/bbs-3.20-bioc/R/site-library/BH/include/boost/mpl/assert.hpp:199:21: note: remove parentheses
  199 | failed ************ (boost::mpl::not_<Pred>::************
      |                     ^~~~~~~~~~~~~~~~~~~~~~~~~~~~~~~~~~~~~
      |                     -
  200 |       assert_not_arg( void (*)(Pred), typename assert_arg_pred_not<Pred>::type )
      |       ~~~~~~~~~~~~~~~~~~~~~~~~~~~~~~~~~~~~~~~~~~~~~~~~~~~~~~~~~~~~~~~~~~~~~~~~~~
  201 |     );
      |     ~                
      |     -
In file included from /media/volume/teran2_disk/biocbuild/bbs-3.20-bioc/R/site-library/BH/include/boost/numeric/ublas/traits.hpp:21,
                 from /media/volume/teran2_disk/biocbuild/bbs-3.20-bioc/R/site-library/BH/include/boost/numeric/ublas/storage.hpp:27:
/media/volume/teran2_disk/biocbuild/bbs-3.20-bioc/R/site-library/BH/include/boost/numeric/ublas/detail/iterator.hpp:111:21: warning: ‘template<class _Category, class _Tp, class _Distance, class _Pointer, class _Reference> struct std::iterator’ is deprecated [-Wdeprecated-declarations]
  111 |         public std::iterator<IC, T> {
      |                     ^~~~~~~~
In file included from /usr/include/c++/13/bits/stl_algobase.h:65,
                 from /usr/include/c++/13/bits/specfun.h:43,
                 from /usr/include/c++/13/cmath:3699,
                 from /media/volume/teran2_disk/biocbuild/bbs-3.20-bioc/R/site-library/Rcpp/include/Rcpp/platform/compiler.h:100,
                 from /media/volume/teran2_disk/biocbuild/bbs-3.20-bioc/R/site-library/Rcpp/include/Rcpp/r/headers.h:66,
                 from /media/volume/teran2_disk/biocbuild/bbs-3.20-bioc/R/site-library/Rcpp/include/RcppCommon.h:30,
                 from /media/volume/teran2_disk/biocbuild/bbs-3.20-bioc/R/site-library/Rcpp/include/Rcpp.h:27,
                 from create_distance_func.cpp:3:
/usr/include/c++/13/bits/stl_iterator_base_types.h:127:34: note: declared here
  127 |     struct _GLIBCXX17_DEPRECATED iterator
      |                                  ^~~~~~~~
/media/volume/teran2_disk/biocbuild/bbs-3.20-bioc/R/site-library/BH/include/boost/numeric/ublas/detail/iterator.hpp:149:21: warning: ‘template<class _Category, class _Tp, class _Distance, class _Pointer, class _Reference> struct std::iterator’ is deprecated [-Wdeprecated-declarations]
  149 |         public std::iterator<IC, T> {
      |                     ^~~~~~~~
/usr/include/c++/13/bits/stl_iterator_base_types.h:127:34: note: declared here
  127 |     struct _GLIBCXX17_DEPRECATED iterator
      |                                  ^~~~~~~~
/media/volume/teran2_disk/biocbuild/bbs-3.20-bioc/R/site-library/BH/include/boost/numeric/ublas/detail/iterator.hpp:204:21: warning: ‘template<class _Category, class _Tp, class _Distance, class _Pointer, class _Reference> struct std::iterator’ is deprecated [-Wdeprecated-declarations]
  204 |         public std::iterator<IC, T> {
      |                     ^~~~~~~~
/usr/include/c++/13/bits/stl_iterator_base_types.h:127:34: note: declared here
  127 |     struct _GLIBCXX17_DEPRECATED iterator
      |                                  ^~~~~~~~
g++ -std=gnu++17 -I"/home/biocbuild/bbs-3.20-bioc/R/include" -DNDEBUG  -I'/media/volume/teran2_disk/biocbuild/bbs-3.20-bioc/R/site-library/Rcpp/include' -I'/media/volume/teran2_disk/biocbuild/bbs-3.20-bioc/R/site-library/BH/include' -I/usr/local/include    -fpic  -g -O2  -Wall  -c distance_for_R.cpp -o distance_for_R.o
In file included from /media/volume/teran2_disk/biocbuild/bbs-3.20-bioc/R/site-library/BH/include/boost/smart_ptr/shared_ptr.hpp:18,
                 from /media/volume/teran2_disk/biocbuild/bbs-3.20-bioc/R/site-library/BH/include/boost/shared_ptr.hpp:17,
                 from sequence.h:19,
                 from distance.h:14,
                 from distance_for_R.cpp:9:
/media/volume/teran2_disk/biocbuild/bbs-3.20-bioc/R/site-library/BH/include/boost/smart_ptr/detail/shared_count.hpp:361:33: warning: ‘template<class> class std::auto_ptr’ is deprecated: use 'std::unique_ptr' instead [-Wdeprecated-declarations]
  361 |     explicit shared_count( std::auto_ptr<Y> & r ): pi_( new sp_counted_impl_p<Y>( r.get() ) )
      |                                 ^~~~~~~~
In file included from /usr/include/c++/13/memory:78,
                 from distance.h:11:
/usr/include/c++/13/bits/unique_ptr.h:65:28: note: declared here
   65 |   template<typename> class auto_ptr;
      |                            ^~~~~~~~
/media/volume/teran2_disk/biocbuild/bbs-3.20-bioc/R/site-library/BH/include/boost/smart_ptr/shared_ptr.hpp:251:65: warning: ‘template<class> class std::auto_ptr’ is deprecated: use 'std::unique_ptr' instead [-Wdeprecated-declarations]
  251 | template< class T, class R > struct sp_enable_if_auto_ptr< std::auto_ptr< T >, R >
      |                                                                 ^~~~~~~~
/usr/include/c++/13/bits/unique_ptr.h:65:28: note: declared here
   65 |   template<typename> class auto_ptr;
      |                            ^~~~~~~~
/media/volume/teran2_disk/biocbuild/bbs-3.20-bioc/R/site-library/BH/include/boost/smart_ptr/shared_ptr.hpp:508:31: warning: ‘template<class> class std::auto_ptr’ is deprecated: use 'std::unique_ptr' instead [-Wdeprecated-declarations]
  508 |     explicit shared_ptr( std::auto_ptr<Y> & r ): px(r.get()), pn()
      |                               ^~~~~~~~
/usr/include/c++/13/bits/unique_ptr.h:65:28: note: declared here
   65 |   template<typename> class auto_ptr;
      |                            ^~~~~~~~
/media/volume/teran2_disk/biocbuild/bbs-3.20-bioc/R/site-library/BH/include/boost/smart_ptr/shared_ptr.hpp:521:22: warning: ‘template<class> class std::auto_ptr’ is deprecated: use 'std::unique_ptr' instead [-Wdeprecated-declarations]
  521 |     shared_ptr( std::auto_ptr<Y> && r ): px(r.get()), pn()
      |                      ^~~~~~~~
/usr/include/c++/13/bits/unique_ptr.h:65:28: note: declared here
   65 |   template<typename> class auto_ptr;
      |                            ^~~~~~~~
/media/volume/teran2_disk/biocbuild/bbs-3.20-bioc/R/site-library/BH/include/boost/smart_ptr/shared_ptr.hpp:604:34: warning: ‘template<class> class std::auto_ptr’ is deprecated: use 'std::unique_ptr' instead [-Wdeprecated-declarations]
  604 |     shared_ptr & operator=( std::auto_ptr<Y> & r )
      |                                  ^~~~~~~~
/usr/include/c++/13/bits/unique_ptr.h:65:28: note: declared here
   65 |   template<typename> class auto_ptr;
      |                            ^~~~~~~~
/media/volume/teran2_disk/biocbuild/bbs-3.20-bioc/R/site-library/BH/include/boost/smart_ptr/shared_ptr.hpp:613:34: warning: ‘template<class> class std::auto_ptr’ is deprecated: use 'std::unique_ptr' instead [-Wdeprecated-declarations]
  613 |     shared_ptr & operator=( std::auto_ptr<Y> && r )
      |                                  ^~~~~~~~
/usr/include/c++/13/bits/unique_ptr.h:65:28: note: declared here
   65 |   template<typename> class auto_ptr;
      |                            ^~~~~~~~
/media/volume/teran2_disk/biocbuild/bbs-3.20-bioc/R/site-library/BH/include/boost/smart_ptr/shared_ptr.hpp: In member function ‘boost::shared_ptr<T>& boost::shared_ptr<T>::operator=(std::auto_ptr<_Up>&&)’:
/media/volume/teran2_disk/biocbuild/bbs-3.20-bioc/R/site-library/BH/include/boost/smart_ptr/shared_ptr.hpp:615:38: warning: ‘template<class> class std::auto_ptr’ is deprecated: use 'std::unique_ptr' instead [-Wdeprecated-declarations]
  615 |         this_type( static_cast< std::auto_ptr<Y> && >( r ) ).swap( *this );
      |                                      ^~~~~~~~
/usr/include/c++/13/bits/unique_ptr.h:65:28: note: declared here
   65 |   template<typename> class auto_ptr;
      |                            ^~~~~~~~
g++ -std=gnu++17 -I"/home/biocbuild/bbs-3.20-bioc/R/include" -DNDEBUG  -I'/media/volume/teran2_disk/biocbuild/bbs-3.20-bioc/R/site-library/Rcpp/include' -I'/media/volume/teran2_disk/biocbuild/bbs-3.20-bioc/R/site-library/BH/include' -I/usr/local/include    -fpic  -g -O2  -Wall  -c hammingdistance.cpp -o hammingdistance.o
In file included from /media/volume/teran2_disk/biocbuild/bbs-3.20-bioc/R/site-library/BH/include/boost/smart_ptr/shared_ptr.hpp:18,
                 from /media/volume/teran2_disk/biocbuild/bbs-3.20-bioc/R/site-library/BH/include/boost/shared_ptr.hpp:17,
                 from sequence.h:19,
                 from hammingdistance.cpp:7:
/media/volume/teran2_disk/biocbuild/bbs-3.20-bioc/R/site-library/BH/include/boost/smart_ptr/detail/shared_count.hpp:361:33: warning: ‘template<class> class std::auto_ptr’ is deprecated: use 'std::unique_ptr' instead [-Wdeprecated-declarations]
  361 |     explicit shared_count( std::auto_ptr<Y> & r ): pi_( new sp_counted_impl_p<Y>( r.get() ) )
      |                                 ^~~~~~~~
In file included from /usr/include/c++/13/memory:78,
                 from sequence.h:13:
/usr/include/c++/13/bits/unique_ptr.h:65:28: note: declared here
   65 |   template<typename> class auto_ptr;
      |                            ^~~~~~~~
/media/volume/teran2_disk/biocbuild/bbs-3.20-bioc/R/site-library/BH/include/boost/smart_ptr/shared_ptr.hpp:251:65: warning: ‘template<class> class std::auto_ptr’ is deprecated: use 'std::unique_ptr' instead [-Wdeprecated-declarations]
  251 | template< class T, class R > struct sp_enable_if_auto_ptr< std::auto_ptr< T >, R >
      |                                                                 ^~~~~~~~
/usr/include/c++/13/bits/unique_ptr.h:65:28: note: declared here
   65 |   template<typename> class auto_ptr;
      |                            ^~~~~~~~
/media/volume/teran2_disk/biocbuild/bbs-3.20-bioc/R/site-library/BH/include/boost/smart_ptr/shared_ptr.hpp:508:31: warning: ‘template<class> class std::auto_ptr’ is deprecated: use 'std::unique_ptr' instead [-Wdeprecated-declarations]
  508 |     explicit shared_ptr( std::auto_ptr<Y> & r ): px(r.get()), pn()
      |                               ^~~~~~~~
/usr/include/c++/13/bits/unique_ptr.h:65:28: note: declared here
   65 |   template<typename> class auto_ptr;
      |                            ^~~~~~~~
/media/volume/teran2_disk/biocbuild/bbs-3.20-bioc/R/site-library/BH/include/boost/smart_ptr/shared_ptr.hpp:521:22: warning: ‘template<class> class std::auto_ptr’ is deprecated: use 'std::unique_ptr' instead [-Wdeprecated-declarations]
  521 |     shared_ptr( std::auto_ptr<Y> && r ): px(r.get()), pn()
      |                      ^~~~~~~~
/usr/include/c++/13/bits/unique_ptr.h:65:28: note: declared here
   65 |   template<typename> class auto_ptr;
      |                            ^~~~~~~~
/media/volume/teran2_disk/biocbuild/bbs-3.20-bioc/R/site-library/BH/include/boost/smart_ptr/shared_ptr.hpp:604:34: warning: ‘template<class> class std::auto_ptr’ is deprecated: use 'std::unique_ptr' instead [-Wdeprecated-declarations]
  604 |     shared_ptr & operator=( std::auto_ptr<Y> & r )
      |                                  ^~~~~~~~
/usr/include/c++/13/bits/unique_ptr.h:65:28: note: declared here
   65 |   template<typename> class auto_ptr;
      |                            ^~~~~~~~
/media/volume/teran2_disk/biocbuild/bbs-3.20-bioc/R/site-library/BH/include/boost/smart_ptr/shared_ptr.hpp:613:34: warning: ‘template<class> class std::auto_ptr’ is deprecated: use 'std::unique_ptr' instead [-Wdeprecated-declarations]
  613 |     shared_ptr & operator=( std::auto_ptr<Y> && r )
      |                                  ^~~~~~~~
/usr/include/c++/13/bits/unique_ptr.h:65:28: note: declared here
   65 |   template<typename> class auto_ptr;
      |                            ^~~~~~~~
/media/volume/teran2_disk/biocbuild/bbs-3.20-bioc/R/site-library/BH/include/boost/smart_ptr/shared_ptr.hpp: In member function ‘boost::shared_ptr<T>& boost::shared_ptr<T>::operator=(std::auto_ptr<_Up>&&)’:
/media/volume/teran2_disk/biocbuild/bbs-3.20-bioc/R/site-library/BH/include/boost/smart_ptr/shared_ptr.hpp:615:38: warning: ‘template<class> class std::auto_ptr’ is deprecated: use 'std::unique_ptr' instead [-Wdeprecated-declarations]
  615 |         this_type( static_cast< std::auto_ptr<Y> && >( r ) ).swap( *this );
      |                                      ^~~~~~~~
/usr/include/c++/13/bits/unique_ptr.h:65:28: note: declared here
   65 |   template<typename> class auto_ptr;
      |                            ^~~~~~~~
g++ -std=gnu++17 -I"/home/biocbuild/bbs-3.20-bioc/R/include" -DNDEBUG  -I'/media/volume/teran2_disk/biocbuild/bbs-3.20-bioc/R/site-library/Rcpp/include' -I'/media/volume/teran2_disk/biocbuild/bbs-3.20-bioc/R/site-library/BH/include' -I/usr/local/include    -fpic  -g -O2  -Wall  -c levenshteindistance.cpp -o levenshteindistance.o
In file included from /media/volume/teran2_disk/biocbuild/bbs-3.20-bioc/R/site-library/BH/include/boost/smart_ptr/shared_ptr.hpp:18,
                 from /media/volume/teran2_disk/biocbuild/bbs-3.20-bioc/R/site-library/BH/include/boost/shared_ptr.hpp:17,
                 from sequence.h:19,
                 from levenshteindistance.cpp:7:
/media/volume/teran2_disk/biocbuild/bbs-3.20-bioc/R/site-library/BH/include/boost/smart_ptr/detail/shared_count.hpp:361:33: warning: ‘template<class> class std::auto_ptr’ is deprecated: use 'std::unique_ptr' instead [-Wdeprecated-declarations]
  361 |     explicit shared_count( std::auto_ptr<Y> & r ): pi_( new sp_counted_impl_p<Y>( r.get() ) )
      |                                 ^~~~~~~~
In file included from /usr/include/c++/13/memory:78,
                 from sequence.h:13:
/usr/include/c++/13/bits/unique_ptr.h:65:28: note: declared here
   65 |   template<typename> class auto_ptr;
      |                            ^~~~~~~~
/media/volume/teran2_disk/biocbuild/bbs-3.20-bioc/R/site-library/BH/include/boost/smart_ptr/shared_ptr.hpp:251:65: warning: ‘template<class> class std::auto_ptr’ is deprecated: use 'std::unique_ptr' instead [-Wdeprecated-declarations]
  251 | template< class T, class R > struct sp_enable_if_auto_ptr< std::auto_ptr< T >, R >
      |                                                                 ^~~~~~~~
/usr/include/c++/13/bits/unique_ptr.h:65:28: note: declared here
   65 |   template<typename> class auto_ptr;
      |                            ^~~~~~~~
/media/volume/teran2_disk/biocbuild/bbs-3.20-bioc/R/site-library/BH/include/boost/smart_ptr/shared_ptr.hpp:508:31: warning: ‘template<class> class std::auto_ptr’ is deprecated: use 'std::unique_ptr' instead [-Wdeprecated-declarations]
  508 |     explicit shared_ptr( std::auto_ptr<Y> & r ): px(r.get()), pn()
      |                               ^~~~~~~~
/usr/include/c++/13/bits/unique_ptr.h:65:28: note: declared here
   65 |   template<typename> class auto_ptr;
      |                            ^~~~~~~~
/media/volume/teran2_disk/biocbuild/bbs-3.20-bioc/R/site-library/BH/include/boost/smart_ptr/shared_ptr.hpp:521:22: warning: ‘template<class> class std::auto_ptr’ is deprecated: use 'std::unique_ptr' instead [-Wdeprecated-declarations]
  521 |     shared_ptr( std::auto_ptr<Y> && r ): px(r.get()), pn()
      |                      ^~~~~~~~
/usr/include/c++/13/bits/unique_ptr.h:65:28: note: declared here
   65 |   template<typename> class auto_ptr;
      |                            ^~~~~~~~
/media/volume/teran2_disk/biocbuild/bbs-3.20-bioc/R/site-library/BH/include/boost/smart_ptr/shared_ptr.hpp:604:34: warning: ‘template<class> class std::auto_ptr’ is deprecated: use 'std::unique_ptr' instead [-Wdeprecated-declarations]
  604 |     shared_ptr & operator=( std::auto_ptr<Y> & r )
      |                                  ^~~~~~~~
/usr/include/c++/13/bits/unique_ptr.h:65:28: note: declared here
   65 |   template<typename> class auto_ptr;
      |                            ^~~~~~~~
/media/volume/teran2_disk/biocbuild/bbs-3.20-bioc/R/site-library/BH/include/boost/smart_ptr/shared_ptr.hpp:613:34: warning: ‘template<class> class std::auto_ptr’ is deprecated: use 'std::unique_ptr' instead [-Wdeprecated-declarations]
  613 |     shared_ptr & operator=( std::auto_ptr<Y> && r )
      |                                  ^~~~~~~~
/usr/include/c++/13/bits/unique_ptr.h:65:28: note: declared here
   65 |   template<typename> class auto_ptr;
      |                            ^~~~~~~~
/media/volume/teran2_disk/biocbuild/bbs-3.20-bioc/R/site-library/BH/include/boost/smart_ptr/shared_ptr.hpp: In member function ‘boost::shared_ptr<T>& boost::shared_ptr<T>::operator=(std::auto_ptr<_Up>&&)’:
/media/volume/teran2_disk/biocbuild/bbs-3.20-bioc/R/site-library/BH/include/boost/smart_ptr/shared_ptr.hpp:615:38: warning: ‘template<class> class std::auto_ptr’ is deprecated: use 'std::unique_ptr' instead [-Wdeprecated-declarations]
  615 |         this_type( static_cast< std::auto_ptr<Y> && >( r ) ).swap( *this );
      |                                      ^~~~~~~~
/usr/include/c++/13/bits/unique_ptr.h:65:28: note: declared here
   65 |   template<typename> class auto_ptr;
      |                            ^~~~~~~~
g++ -std=gnu++17 -I"/home/biocbuild/bbs-3.20-bioc/R/include" -DNDEBUG  -I'/media/volume/teran2_disk/biocbuild/bbs-3.20-bioc/R/site-library/Rcpp/include' -I'/media/volume/teran2_disk/biocbuild/bbs-3.20-bioc/R/site-library/BH/include' -I/usr/local/include    -fpic  -g -O2  -Wall  -c phaseshiftdist.cpp -o phaseshiftdist.o
In file included from /media/volume/teran2_disk/biocbuild/bbs-3.20-bioc/R/site-library/BH/include/boost/smart_ptr/shared_ptr.hpp:18,
                 from /media/volume/teran2_disk/biocbuild/bbs-3.20-bioc/R/site-library/BH/include/boost/shared_ptr.hpp:17,
                 from sequence.h:19,
                 from phaseshiftdist.cpp:10:
/media/volume/teran2_disk/biocbuild/bbs-3.20-bioc/R/site-library/BH/include/boost/smart_ptr/detail/shared_count.hpp:361:33: warning: ‘template<class> class std::auto_ptr’ is deprecated: use 'std::unique_ptr' instead [-Wdeprecated-declarations]
  361 |     explicit shared_count( std::auto_ptr<Y> & r ): pi_( new sp_counted_impl_p<Y>( r.get() ) )
      |                                 ^~~~~~~~
In file included from /usr/include/c++/13/memory:78,
                 from sequence.h:13:
/usr/include/c++/13/bits/unique_ptr.h:65:28: note: declared here
   65 |   template<typename> class auto_ptr;
      |                            ^~~~~~~~
/media/volume/teran2_disk/biocbuild/bbs-3.20-bioc/R/site-library/BH/include/boost/smart_ptr/shared_ptr.hpp:251:65: warning: ‘template<class> class std::auto_ptr’ is deprecated: use 'std::unique_ptr' instead [-Wdeprecated-declarations]
  251 | template< class T, class R > struct sp_enable_if_auto_ptr< std::auto_ptr< T >, R >
      |                                                                 ^~~~~~~~
/usr/include/c++/13/bits/unique_ptr.h:65:28: note: declared here
   65 |   template<typename> class auto_ptr;
      |                            ^~~~~~~~
/media/volume/teran2_disk/biocbuild/bbs-3.20-bioc/R/site-library/BH/include/boost/smart_ptr/shared_ptr.hpp:508:31: warning: ‘template<class> class std::auto_ptr’ is deprecated: use 'std::unique_ptr' instead [-Wdeprecated-declarations]
  508 |     explicit shared_ptr( std::auto_ptr<Y> & r ): px(r.get()), pn()
      |                               ^~~~~~~~
/usr/include/c++/13/bits/unique_ptr.h:65:28: note: declared here
   65 |   template<typename> class auto_ptr;
      |                            ^~~~~~~~
/media/volume/teran2_disk/biocbuild/bbs-3.20-bioc/R/site-library/BH/include/boost/smart_ptr/shared_ptr.hpp:521:22: warning: ‘template<class> class std::auto_ptr’ is deprecated: use 'std::unique_ptr' instead [-Wdeprecated-declarations]
  521 |     shared_ptr( std::auto_ptr<Y> && r ): px(r.get()), pn()
      |                      ^~~~~~~~
/usr/include/c++/13/bits/unique_ptr.h:65:28: note: declared here
   65 |   template<typename> class auto_ptr;
      |                            ^~~~~~~~
/media/volume/teran2_disk/biocbuild/bbs-3.20-bioc/R/site-library/BH/include/boost/smart_ptr/shared_ptr.hpp:604:34: warning: ‘template<class> class std::auto_ptr’ is deprecated: use 'std::unique_ptr' instead [-Wdeprecated-declarations]
  604 |     shared_ptr & operator=( std::auto_ptr<Y> & r )
      |                                  ^~~~~~~~
/usr/include/c++/13/bits/unique_ptr.h:65:28: note: declared here
   65 |   template<typename> class auto_ptr;
      |                            ^~~~~~~~
/media/volume/teran2_disk/biocbuild/bbs-3.20-bioc/R/site-library/BH/include/boost/smart_ptr/shared_ptr.hpp:613:34: warning: ‘template<class> class std::auto_ptr’ is deprecated: use 'std::unique_ptr' instead [-Wdeprecated-declarations]
  613 |     shared_ptr & operator=( std::auto_ptr<Y> && r )
      |                                  ^~~~~~~~
/usr/include/c++/13/bits/unique_ptr.h:65:28: note: declared here
   65 |   template<typename> class auto_ptr;
      |                            ^~~~~~~~
/media/volume/teran2_disk/biocbuild/bbs-3.20-bioc/R/site-library/BH/include/boost/smart_ptr/shared_ptr.hpp: In member function ‘boost::shared_ptr<T>& boost::shared_ptr<T>::operator=(std::auto_ptr<_Up>&&)’:
/media/volume/teran2_disk/biocbuild/bbs-3.20-bioc/R/site-library/BH/include/boost/smart_ptr/shared_ptr.hpp:615:38: warning: ‘template<class> class std::auto_ptr’ is deprecated: use 'std::unique_ptr' instead [-Wdeprecated-declarations]
  615 |         this_type( static_cast< std::auto_ptr<Y> && >( r ) ).swap( *this );
      |                                      ^~~~~~~~
/usr/include/c++/13/bits/unique_ptr.h:65:28: note: declared here
   65 |   template<typename> class auto_ptr;
      |                            ^~~~~~~~
In file included from /media/volume/teran2_disk/biocbuild/bbs-3.20-bioc/R/site-library/BH/include/boost/foreach.hpp:76,
                 from phaseshiftdist.cpp:23:
/media/volume/teran2_disk/biocbuild/bbs-3.20-bioc/R/site-library/BH/include/boost/mpl/assert.hpp: At global scope:
/media/volume/teran2_disk/biocbuild/bbs-3.20-bioc/R/site-library/BH/include/boost/mpl/assert.hpp:194:21: warning: unnecessary parentheses in declaration of ‘assert_arg’ [-Wparentheses]
  194 | failed ************ (Pred::************
      |                     ^~~~~~~~~~~~~~~~~~~
  195 |       assert_arg( void (*)(Pred), typename assert_arg_pred<Pred>::type )
      |       ~~~~~~~~~~~~~~~~~~~~~~~~~~~~~~~~~~~~~~~~~~~~~~~~~~~~~~~~~~~~~~~~~~
  196 |     );
      |     ~                
/media/volume/teran2_disk/biocbuild/bbs-3.20-bioc/R/site-library/BH/include/boost/mpl/assert.hpp:194:21: note: remove parentheses
  194 | failed ************ (Pred::************
      |                     ^~~~~~~~~~~~~~~~~~~
      |                     -
  195 |       assert_arg( void (*)(Pred), typename assert_arg_pred<Pred>::type )
      |       ~~~~~~~~~~~~~~~~~~~~~~~~~~~~~~~~~~~~~~~~~~~~~~~~~~~~~~~~~~~~~~~~~~
  196 |     );
      |     ~                
      |     -
/media/volume/teran2_disk/biocbuild/bbs-3.20-bioc/R/site-library/BH/include/boost/mpl/assert.hpp:199:21: warning: unnecessary parentheses in declaration of ‘assert_not_arg’ [-Wparentheses]
  199 | failed ************ (boost::mpl::not_<Pred>::************
      |                     ^~~~~~~~~~~~~~~~~~~~~~~~~~~~~~~~~~~~~
  200 |       assert_not_arg( void (*)(Pred), typename assert_arg_pred_not<Pred>::type )
      |       ~~~~~~~~~~~~~~~~~~~~~~~~~~~~~~~~~~~~~~~~~~~~~~~~~~~~~~~~~~~~~~~~~~~~~~~~~~
  201 |     );
      |     ~                
/media/volume/teran2_disk/biocbuild/bbs-3.20-bioc/R/site-library/BH/include/boost/mpl/assert.hpp:199:21: note: remove parentheses
  199 | failed ************ (boost::mpl::not_<Pred>::************
      |                     ^~~~~~~~~~~~~~~~~~~~~~~~~~~~~~~~~~~~~
      |                     -
  200 |       assert_not_arg( void (*)(Pred), typename assert_arg_pred_not<Pred>::type )
      |       ~~~~~~~~~~~~~~~~~~~~~~~~~~~~~~~~~~~~~~~~~~~~~~~~~~~~~~~~~~~~~~~~~~~~~~~~~~
  201 |     );
      |     ~                
      |     -
g++ -std=gnu++17 -I"/home/biocbuild/bbs-3.20-bioc/R/include" -DNDEBUG  -I'/media/volume/teran2_disk/biocbuild/bbs-3.20-bioc/R/site-library/Rcpp/include' -I'/media/volume/teran2_disk/biocbuild/bbs-3.20-bioc/R/site-library/BH/include' -I/usr/local/include    -fpic  -g -O2  -Wall  -c sequence.cpp -o sequence.o
In file included from /media/volume/teran2_disk/biocbuild/bbs-3.20-bioc/R/site-library/BH/include/boost/foreach.hpp:76,
                 from sequence.cpp:3:
/media/volume/teran2_disk/biocbuild/bbs-3.20-bioc/R/site-library/BH/include/boost/mpl/assert.hpp:194:21: warning: unnecessary parentheses in declaration of ‘assert_arg’ [-Wparentheses]
  194 | failed ************ (Pred::************
      |                     ^~~~~~~~~~~~~~~~~~~
  195 |       assert_arg( void (*)(Pred), typename assert_arg_pred<Pred>::type )
      |       ~~~~~~~~~~~~~~~~~~~~~~~~~~~~~~~~~~~~~~~~~~~~~~~~~~~~~~~~~~~~~~~~~~
  196 |     );
      |     ~                
/media/volume/teran2_disk/biocbuild/bbs-3.20-bioc/R/site-library/BH/include/boost/mpl/assert.hpp:194:21: note: remove parentheses
  194 | failed ************ (Pred::************
      |                     ^~~~~~~~~~~~~~~~~~~
      |                     -
  195 |       assert_arg( void (*)(Pred), typename assert_arg_pred<Pred>::type )
      |       ~~~~~~~~~~~~~~~~~~~~~~~~~~~~~~~~~~~~~~~~~~~~~~~~~~~~~~~~~~~~~~~~~~
  196 |     );
      |     ~                
      |     -
/media/volume/teran2_disk/biocbuild/bbs-3.20-bioc/R/site-library/BH/include/boost/mpl/assert.hpp:199:21: warning: unnecessary parentheses in declaration of ‘assert_not_arg’ [-Wparentheses]
  199 | failed ************ (boost::mpl::not_<Pred>::************
      |                     ^~~~~~~~~~~~~~~~~~~~~~~~~~~~~~~~~~~~~
  200 |       assert_not_arg( void (*)(Pred), typename assert_arg_pred_not<Pred>::type )
      |       ~~~~~~~~~~~~~~~~~~~~~~~~~~~~~~~~~~~~~~~~~~~~~~~~~~~~~~~~~~~~~~~~~~~~~~~~~~
  201 |     );
      |     ~                
/media/volume/teran2_disk/biocbuild/bbs-3.20-bioc/R/site-library/BH/include/boost/mpl/assert.hpp:199:21: note: remove parentheses
  199 | failed ************ (boost::mpl::not_<Pred>::************
      |                     ^~~~~~~~~~~~~~~~~~~~~~~~~~~~~~~~~~~~~
      |                     -
  200 |       assert_not_arg( void (*)(Pred), typename assert_arg_pred_not<Pred>::type )
      |       ~~~~~~~~~~~~~~~~~~~~~~~~~~~~~~~~~~~~~~~~~~~~~~~~~~~~~~~~~~~~~~~~~~~~~~~~~~
  201 |     );
      |     ~                
      |     -
In file included from /media/volume/teran2_disk/biocbuild/bbs-3.20-bioc/R/site-library/BH/include/boost/smart_ptr/shared_ptr.hpp:18,
                 from /media/volume/teran2_disk/biocbuild/bbs-3.20-bioc/R/site-library/BH/include/boost/shared_ptr.hpp:17,
                 from sequence.h:19,
                 from sequence.cpp:13:
/media/volume/teran2_disk/biocbuild/bbs-3.20-bioc/R/site-library/BH/include/boost/smart_ptr/detail/shared_count.hpp:361:33: warning: ‘template<class> class std::auto_ptr’ is deprecated: use 'std::unique_ptr' instead [-Wdeprecated-declarations]
  361 |     explicit shared_count( std::auto_ptr<Y> & r ): pi_( new sp_counted_impl_p<Y>( r.get() ) )
      |                                 ^~~~~~~~
In file included from /usr/include/c++/13/memory:78,
                 from sequence.cpp:10:
/usr/include/c++/13/bits/unique_ptr.h:65:28: note: declared here
   65 |   template<typename> class auto_ptr;
      |                            ^~~~~~~~
/media/volume/teran2_disk/biocbuild/bbs-3.20-bioc/R/site-library/BH/include/boost/smart_ptr/shared_ptr.hpp:251:65: warning: ‘template<class> class std::auto_ptr’ is deprecated: use 'std::unique_ptr' instead [-Wdeprecated-declarations]
  251 | template< class T, class R > struct sp_enable_if_auto_ptr< std::auto_ptr< T >, R >
      |                                                                 ^~~~~~~~
/usr/include/c++/13/bits/unique_ptr.h:65:28: note: declared here
   65 |   template<typename> class auto_ptr;
      |                            ^~~~~~~~
/media/volume/teran2_disk/biocbuild/bbs-3.20-bioc/R/site-library/BH/include/boost/smart_ptr/shared_ptr.hpp:508:31: warning: ‘template<class> class std::auto_ptr’ is deprecated: use 'std::unique_ptr' instead [-Wdeprecated-declarations]
  508 |     explicit shared_ptr( std::auto_ptr<Y> & r ): px(r.get()), pn()
      |                               ^~~~~~~~
/usr/include/c++/13/bits/unique_ptr.h:65:28: note: declared here
   65 |   template<typename> class auto_ptr;
      |                            ^~~~~~~~
/media/volume/teran2_disk/biocbuild/bbs-3.20-bioc/R/site-library/BH/include/boost/smart_ptr/shared_ptr.hpp:521:22: warning: ‘template<class> class std::auto_ptr’ is deprecated: use 'std::unique_ptr' instead [-Wdeprecated-declarations]
  521 |     shared_ptr( std::auto_ptr<Y> && r ): px(r.get()), pn()
      |                      ^~~~~~~~
/usr/include/c++/13/bits/unique_ptr.h:65:28: note: declared here
   65 |   template<typename> class auto_ptr;
      |                            ^~~~~~~~
/media/volume/teran2_disk/biocbuild/bbs-3.20-bioc/R/site-library/BH/include/boost/smart_ptr/shared_ptr.hpp:604:34: warning: ‘template<class> class std::auto_ptr’ is deprecated: use 'std::unique_ptr' instead [-Wdeprecated-declarations]
  604 |     shared_ptr & operator=( std::auto_ptr<Y> & r )
      |                                  ^~~~~~~~
/usr/include/c++/13/bits/unique_ptr.h:65:28: note: declared here
   65 |   template<typename> class auto_ptr;
      |                            ^~~~~~~~
/media/volume/teran2_disk/biocbuild/bbs-3.20-bioc/R/site-library/BH/include/boost/smart_ptr/shared_ptr.hpp:613:34: warning: ‘template<class> class std::auto_ptr’ is deprecated: use 'std::unique_ptr' instead [-Wdeprecated-declarations]
  613 |     shared_ptr & operator=( std::auto_ptr<Y> && r )
      |                                  ^~~~~~~~
/usr/include/c++/13/bits/unique_ptr.h:65:28: note: declared here
   65 |   template<typename> class auto_ptr;
      |                            ^~~~~~~~
/media/volume/teran2_disk/biocbuild/bbs-3.20-bioc/R/site-library/BH/include/boost/smart_ptr/shared_ptr.hpp: In member function ‘boost::shared_ptr<T>& boost::shared_ptr<T>::operator=(std::auto_ptr<_Up>&&)’:
/media/volume/teran2_disk/biocbuild/bbs-3.20-bioc/R/site-library/BH/include/boost/smart_ptr/shared_ptr.hpp:615:38: warning: ‘template<class> class std::auto_ptr’ is deprecated: use 'std::unique_ptr' instead [-Wdeprecated-declarations]
  615 |         this_type( static_cast< std::auto_ptr<Y> && >( r ) ).swap( *this );
      |                                      ^~~~~~~~
/usr/include/c++/13/bits/unique_ptr.h:65:28: note: declared here
   65 |   template<typename> class auto_ptr;
      |                            ^~~~~~~~
g++ -std=gnu++17 -I"/home/biocbuild/bbs-3.20-bioc/R/include" -DNDEBUG  -I'/media/volume/teran2_disk/biocbuild/bbs-3.20-bioc/R/site-library/Rcpp/include' -I'/media/volume/teran2_disk/biocbuild/bbs-3.20-bioc/R/site-library/BH/include' -I/usr/local/include    -fpic  -g -O2  -Wall  -c sequencelevenshteindistance.cpp -o sequencelevenshteindistance.o
In file included from /media/volume/teran2_disk/biocbuild/bbs-3.20-bioc/R/site-library/BH/include/boost/smart_ptr/shared_ptr.hpp:18,
                 from /media/volume/teran2_disk/biocbuild/bbs-3.20-bioc/R/site-library/BH/include/boost/shared_ptr.hpp:17,
                 from sequence.h:19,
                 from sequencelevenshteindistance.cpp:3:
/media/volume/teran2_disk/biocbuild/bbs-3.20-bioc/R/site-library/BH/include/boost/smart_ptr/detail/shared_count.hpp:361:33: warning: ‘template<class> class std::auto_ptr’ is deprecated: use 'std::unique_ptr' instead [-Wdeprecated-declarations]
  361 |     explicit shared_count( std::auto_ptr<Y> & r ): pi_( new sp_counted_impl_p<Y>( r.get() ) )
      |                                 ^~~~~~~~
In file included from /usr/include/c++/13/memory:78,
                 from sequence.h:13:
/usr/include/c++/13/bits/unique_ptr.h:65:28: note: declared here
   65 |   template<typename> class auto_ptr;
      |                            ^~~~~~~~
/media/volume/teran2_disk/biocbuild/bbs-3.20-bioc/R/site-library/BH/include/boost/smart_ptr/shared_ptr.hpp:251:65: warning: ‘template<class> class std::auto_ptr’ is deprecated: use 'std::unique_ptr' instead [-Wdeprecated-declarations]
  251 | template< class T, class R > struct sp_enable_if_auto_ptr< std::auto_ptr< T >, R >
      |                                                                 ^~~~~~~~
/usr/include/c++/13/bits/unique_ptr.h:65:28: note: declared here
   65 |   template<typename> class auto_ptr;
      |                            ^~~~~~~~
/media/volume/teran2_disk/biocbuild/bbs-3.20-bioc/R/site-library/BH/include/boost/smart_ptr/shared_ptr.hpp:508:31: warning: ‘template<class> class std::auto_ptr’ is deprecated: use 'std::unique_ptr' instead [-Wdeprecated-declarations]
  508 |     explicit shared_ptr( std::auto_ptr<Y> & r ): px(r.get()), pn()
      |                               ^~~~~~~~
/usr/include/c++/13/bits/unique_ptr.h:65:28: note: declared here
   65 |   template<typename> class auto_ptr;
      |                            ^~~~~~~~
/media/volume/teran2_disk/biocbuild/bbs-3.20-bioc/R/site-library/BH/include/boost/smart_ptr/shared_ptr.hpp:521:22: warning: ‘template<class> class std::auto_ptr’ is deprecated: use 'std::unique_ptr' instead [-Wdeprecated-declarations]
  521 |     shared_ptr( std::auto_ptr<Y> && r ): px(r.get()), pn()
      |                      ^~~~~~~~
/usr/include/c++/13/bits/unique_ptr.h:65:28: note: declared here
   65 |   template<typename> class auto_ptr;
      |                            ^~~~~~~~
/media/volume/teran2_disk/biocbuild/bbs-3.20-bioc/R/site-library/BH/include/boost/smart_ptr/shared_ptr.hpp:604:34: warning: ‘template<class> class std::auto_ptr’ is deprecated: use 'std::unique_ptr' instead [-Wdeprecated-declarations]
  604 |     shared_ptr & operator=( std::auto_ptr<Y> & r )
      |                                  ^~~~~~~~
/usr/include/c++/13/bits/unique_ptr.h:65:28: note: declared here
   65 |   template<typename> class auto_ptr;
      |                            ^~~~~~~~
/media/volume/teran2_disk/biocbuild/bbs-3.20-bioc/R/site-library/BH/include/boost/smart_ptr/shared_ptr.hpp:613:34: warning: ‘template<class> class std::auto_ptr’ is deprecated: use 'std::unique_ptr' instead [-Wdeprecated-declarations]
  613 |     shared_ptr & operator=( std::auto_ptr<Y> && r )
      |                                  ^~~~~~~~
/usr/include/c++/13/bits/unique_ptr.h:65:28: note: declared here
   65 |   template<typename> class auto_ptr;
      |                            ^~~~~~~~
/media/volume/teran2_disk/biocbuild/bbs-3.20-bioc/R/site-library/BH/include/boost/smart_ptr/shared_ptr.hpp: In member function ‘boost::shared_ptr<T>& boost::shared_ptr<T>::operator=(std::auto_ptr<_Up>&&)’:
/media/volume/teran2_disk/biocbuild/bbs-3.20-bioc/R/site-library/BH/include/boost/smart_ptr/shared_ptr.hpp:615:38: warning: ‘template<class> class std::auto_ptr’ is deprecated: use 'std::unique_ptr' instead [-Wdeprecated-declarations]
  615 |         this_type( static_cast< std::auto_ptr<Y> && >( r ) ).swap( *this );
      |                                      ^~~~~~~~
/usr/include/c++/13/bits/unique_ptr.h:65:28: note: declared here
   65 |   template<typename> class auto_ptr;
      |                            ^~~~~~~~
g++ -std=gnu++17 -shared -L/home/biocbuild/bbs-3.20-bioc/R/lib -L/usr/local/lib -o DNABarcodeCompatibility.so DNABarcodes_init.o RcppExports.o cachedistance.o create_distance_func.o distance_for_R.o hammingdistance.o levenshteindistance.o phaseshiftdist.o sequence.o sequencelevenshteindistance.o -L/home/biocbuild/bbs-3.20-bioc/R/lib -lR
installing to /media/volume/teran2_disk/biocbuild/bbs-3.20-bioc/R/site-library/00LOCK-DNABarcodeCompatibility/00new/DNABarcodeCompatibility/libs
** R
** data
*** moving datasets to lazyload DB
** inst
** byte-compile and prepare package for lazy loading
** help
*** installing help indices
** building package indices
** installing vignettes
** testing if installed package can be loaded from temporary location
** checking absolute paths in shared objects and dynamic libraries
** testing if installed package can be loaded from final location
** testing if installed package keeps a record of temporary installation path
* DONE (DNABarcodeCompatibility)
DNABarcodeCompatibility.Rcheck/tests/testthat.Rout
R version 4.4.2 (2024-10-31) -- "Pile of Leaves"
Copyright (C) 2024 The R Foundation for Statistical Computing
Platform: x86_64-pc-linux-gnu
R is free software and comes with ABSOLUTELY NO WARRANTY.
You are welcome to redistribute it under certain conditions.
Type 'license()' or 'licence()' for distribution details.
R is a collaborative project with many contributors.
Type 'contributors()' for more information and
'citation()' on how to cite R or R packages in publications.
Type 'demo()' for some demos, 'help()' for on-line help, or
'help.start()' for an HTML browser interface to help.
Type 'q()' to quit R.
> library(testthat)
> library(DNABarcodeCompatibility)
> 
> test_check("DNABarcodeCompatibility")
[ FAIL 0 | WARN 0 | SKIP 0 | PASS 1 ]
> 
> proc.time()
   user  system elapsed 
  0.639   0.102   0.820 
DNABarcodeCompatibility.Rcheck/DNABarcodeCompatibility-Ex.timings
| name | user | system | elapsed | |
| distance | 0.000 | 0.001 | 0.005 | |
| distance_filter | 0.579 | 0.017 | 0.662 | |
| experiment_design | 0.687 | 0.001 | 1.352 | |
| file_loading_and_checking | 0.008 | 0.001 | 0.019 | |
| get_all_combinations | 0.282 | 0.001 | 0.560 | |
| get_random_combinations | 0.436 | 0.001 | 0.437 | |
| optimize_combinations | 2.384 | 0.242 | 3.954 | |