| Back to Multiple platform build/check report for BioC 3.20: simplified long |
|
This page was generated on 2025-04-02 19:31 -0400 (Wed, 02 Apr 2025).
| Hostname | OS | Arch (*) | R version | Installed pkgs |
|---|---|---|---|---|
| nebbiolo2 | Linux (Ubuntu 24.04.1 LTS) | x86_64 | 4.4.3 (2025-02-28) -- "Trophy Case" | 4764 |
| palomino8 | Windows Server 2022 Datacenter | x64 | 4.4.3 (2025-02-28 ucrt) -- "Trophy Case" | 4495 |
| merida1 | macOS 12.7.5 Monterey | x86_64 | 4.4.3 (2025-02-28) -- "Trophy Case" | 4522 |
| kjohnson1 | macOS 13.6.6 Ventura | arm64 | 4.4.3 (2025-02-28) -- "Trophy Case" | 4449 |
| taishan | Linux (openEuler 24.03 LTS) | aarch64 | 4.4.3 (2025-02-28) -- "Trophy Case" | 4426 |
| Click on any hostname to see more info about the system (e.g. compilers) (*) as reported by 'uname -p', except on Windows and Mac OS X | ||||
| Package 564/2289 | Hostname | OS / Arch | INSTALL | BUILD | CHECK | BUILD BIN | ||||||||
| DIAlignR 2.14.0 (landing page) Shubham Gupta
| nebbiolo2 | Linux (Ubuntu 24.04.1 LTS) / x86_64 | OK | OK | ERROR | |||||||||
| palomino8 | Windows Server 2022 Datacenter / x64 | OK | OK | ERROR | OK | |||||||||
| merida1 | macOS 12.7.5 Monterey / x86_64 | OK | OK | ERROR | OK | |||||||||
| kjohnson1 | macOS 13.6.6 Ventura / arm64 | OK | OK | ERROR | OK | |||||||||
| taishan | Linux (openEuler 24.03 LTS) / aarch64 | OK | OK | ERROR | ||||||||||
|
To the developers/maintainers of the DIAlignR package: - Allow up to 24 hours (and sometimes 48 hours) for your latest push to git@git.bioconductor.org:packages/DIAlignR.git to reflect on this report. See Troubleshooting Build Report for more information. - Use the following Renviron settings to reproduce errors and warnings. - If 'R CMD check' started to fail recently on the Linux builder(s) over a missing dependency, add the missing dependency to 'Suggests:' in your DESCRIPTION file. See Renviron.bioc for more information. |
| Package: DIAlignR |
| Version: 2.14.0 |
| Command: /Library/Frameworks/R.framework/Resources/bin/R CMD check --install=check:DIAlignR.install-out.txt --library=/Library/Frameworks/R.framework/Resources/library --no-vignettes --timings DIAlignR_2.14.0.tar.gz |
| StartedAt: 2025-04-01 02:06:37 -0400 (Tue, 01 Apr 2025) |
| EndedAt: 2025-04-01 02:13:04 -0400 (Tue, 01 Apr 2025) |
| EllapsedTime: 386.7 seconds |
| RetCode: 1 |
| Status: ERROR |
| CheckDir: DIAlignR.Rcheck |
| Warnings: NA |
##############################################################################
##############################################################################
###
### Running command:
###
### /Library/Frameworks/R.framework/Resources/bin/R CMD check --install=check:DIAlignR.install-out.txt --library=/Library/Frameworks/R.framework/Resources/library --no-vignettes --timings DIAlignR_2.14.0.tar.gz
###
##############################################################################
##############################################################################
* using log directory ‘/Users/biocbuild/bbs-3.20-bioc/meat/DIAlignR.Rcheck’
* using R version 4.4.3 (2025-02-28)
* using platform: x86_64-apple-darwin20
* R was compiled by
Apple clang version 14.0.0 (clang-1400.0.29.202)
GNU Fortran (GCC) 12.2.0
* running under: macOS Monterey 12.7.6
* using session charset: UTF-8
* using option ‘--no-vignettes’
* checking for file ‘DIAlignR/DESCRIPTION’ ... OK
* checking extension type ... Package
* this is package ‘DIAlignR’ version ‘2.14.0’
* package encoding: UTF-8
* checking package namespace information ... OK
* checking package dependencies ... OK
* checking if this is a source package ... OK
* checking if there is a namespace ... OK
* checking for hidden files and directories ... OK
* checking for portable file names ... OK
* checking for sufficient/correct file permissions ... OK
* checking whether package ‘DIAlignR’ can be installed ... OK
* used C++ compiler: ‘Apple clang version 14.0.0 (clang-1400.0.29.202)’
* used SDK: ‘MacOSX11.3.sdk’
* checking C++ specification ... NOTE
Specified C++14: please drop specification unless essential
* checking installed package size ... NOTE
installed size is 11.5Mb
sub-directories of 1Mb or more:
extdata 4.0Mb
metabo 4.1Mb
ptms 1.5Mb
* checking package directory ... OK
* checking DESCRIPTION meta-information ... OK
* checking top-level files ... OK
* checking for left-over files ... OK
* checking index information ... OK
* checking package subdirectories ... OK
* checking code files for non-ASCII characters ... OK
* checking R files for syntax errors ... OK
* checking whether the package can be loaded ... OK
* checking whether the package can be loaded with stated dependencies ... OK
* checking whether the package can be unloaded cleanly ... OK
* checking whether the namespace can be loaded with stated dependencies ... OK
* checking whether the namespace can be unloaded cleanly ... OK
* checking dependencies in R code ... OK
* checking S3 generic/method consistency ... OK
* checking replacement functions ... OK
* checking foreign function calls ... OK
* checking R code for possible problems ... NOTE
alignTargetedRuns: no visible binding for global variable ‘peptide_id’
alignTargetedRuns : <anonymous>: no visible global function definition
for ‘.’
alignTargetedRuns: no visible binding for global variable ‘intensity’
alignToRoot4: no visible binding for global variable ‘trees’
alignToRoot4: no visible binding for global variable ‘precursors’
alignToRoot4: no visible binding for global variable ‘intensity’
childXICs: possible error in cummax(v = cummax(ifelse(is.na(x), -Inf,
x))): unused argument (v = cummax(ifelse(is.na(x), -Inf, x)))
distMat.rSqrd : <anonymous> : <anonymous>: no visible binding for
global variable ‘RT.ref’
distMat.rSqrd : <anonymous> : <anonymous>: no visible binding for
global variable ‘RT.eXp’
fetchPrecursorsInfo: no visible binding for global variable
‘transition_id’
fetchPrecursorsInfo: no visible global function definition for ‘.’
fetchPrecursorsInfo: no visible binding for global variable
‘transition_group_id’
fetchTransitionsFromRun: no visible binding for global variable
‘intensity’
fetchTransitionsFromRun: no visible global function definition for ‘.’
fetchTransitionsFromRun: no visible binding for global variable
‘transition_group_id’
fetchTransitionsFromRun: no visible binding for global variable
‘peak_group_rank’
fetchTransitionsFromRun: no visible global function definition for
‘head’
getNativeIDs: no visible binding for global variable ‘peptide_id’
getPeptideScores: no visible binding for global variable ‘col2’
getPeptideScores: no visible binding for global variable ‘run’
getQuery: no visible binding for global variable
‘identifying.transitionPEPfilter’
getRTdf: no visible binding for global variable ‘peak_group_rank’
getRTdf: no visible binding for global variable ‘m_score’
getRTdf: no visible global function definition for ‘.’
getRTdf: no visible binding for global variable ‘transition_group_id’
getRTdf: no visible binding for global variable ‘RT’
getRefRun : <anonymous>: no visible binding for global variable
‘pvalue’
ipfReassignFDR: no visible binding for global variable ‘ref_run’
ipfReassignFDR: no visible binding for global variable ‘run’
ipfReassignFDR: no visible global function definition for ‘.’
ipfReassignFDR: no visible binding for global variable ‘i.to’
ipfReassignFDR: no visible binding for global variable ‘m_score_new’
ipfReassignFDR: no visible binding for global variable ‘ms2_m_score’
ipfReassignFDR: no visible binding for global variable ‘m_score’
mstAlignRuns: no visible binding for global variable ‘ropenms’
mstAlignRuns: no visible binding for global variable ‘peptide_id’
mstAlignRuns : <anonymous>: no visible global function definition for
‘.’
mstAlignRuns: no visible binding for global variable ‘intensity’
mstScript1: no visible binding for global variable ‘ropenms’
mstScript2: no visible binding for global variable ‘fileInfo’
mstScript2: no visible binding for global variable ‘peptide_id’
mstScript2: no visible binding for global variable ‘features’
mstScript2 : <anonymous>: no visible global function definition for ‘.’
mstScript2 : <anonymous>: no visible binding for global variable
‘features’
mstScript2: no visible binding for global variable ‘intensity’
populateReferenceExperimentFeatureAlignmentMap: no visible binding for
global variable ‘run’
populateReferenceExperimentFeatureAlignmentMap: no visible binding for
global variable ‘transition_group_id’
populateReferenceExperimentFeatureAlignmentMap: no visible binding for
global variable ‘feature_id’
progAlignRuns: no visible binding for global variable ‘peptide_id’
progAlignRuns : <anonymous>: no visible global function definition for
‘.’
progAlignRuns: no visible binding for global variable ‘intensity’
progComb3: no visible binding for global variable ‘precursors’
progComb3: no visible binding for global variable ‘ropenms’
progSplit2: no visible binding for global variable ‘trees’
progSplit2: no visible binding for global variable ‘scoreFile’
progSplit2: no visible binding for global variable ‘precursors’
progSplit2 : <anonymous>: no visible global function definition for ‘.’
progSplit2: no visible binding for global variable ‘ropenms’
progSplit4: no visible binding for global variable ‘precursors’
progSplit4 : <anonymous>: no visible global function definition for ‘.’
progSplit4: no visible binding for global variable ‘intensity’
progTree1: no visible binding for global variable ‘ropenms’
progTree1: no visible binding for global variable ‘peptide_id’
reIntensity: no visible binding for global variable ‘run’
reIntensity: no visible binding for global variable ‘alignment_rank’
recalculateIntensity: no visible binding for global variable
‘peptide_id’
recalculateIntensity: no visible binding for global variable
‘chromatogramIndex’
script2: no visible binding for global variable ‘fileInfo’
script2: no visible binding for global variable ‘peptide_id’
script2 : <anonymous>: no visible global function definition for ‘.’
script2: no visible binding for global variable ‘features’
script2: no visible binding for global variable ‘globalFits’
script2: no visible binding for global variable ‘RSE’
script2: no visible binding for global variable ‘intensity’
setRootRank : <anonymous>: no visible global function definition for
‘.’
writeOutFeatureAlignmentMap: no visible binding for global variable
‘reference_feature_id’
writeOutFeatureAlignmentMap: no visible binding for global variable
‘experiment_feature_id’
writeOutFeatureAlignmentMap: no visible binding for global variable
‘ALIGNMENT_GROUP_ID’
writeOutFeatureAlignmentMap: no visible binding for global variable
‘REFERENCE’
writeOutFeatureAlignmentMap: no visible global function definition for
‘.’
writeOutFeatureAlignmentMap: no visible binding for global variable
‘i.to’
writeTables: no visible binding for global variable ‘peptide_id’
writeTables: no visible binding for global variable ‘run’
writeTables: no visible binding for global variable ‘precursor’
Undefined global functions or variables:
. ALIGNMENT_GROUP_ID REFERENCE RSE RT RT.eXp RT.ref alignment_rank
chromatogramIndex col2 experiment_feature_id feature_id features
fileInfo globalFits head i.to identifying.transitionPEPfilter
intensity m_score m_score_new ms2_m_score peak_group_rank peptide_id
precursor precursors pvalue ref_run reference_feature_id ropenms run
scoreFile transition_group_id transition_id trees
Consider adding
importFrom("datasets", "trees")
importFrom("utils", "head")
to your NAMESPACE file.
* checking Rd files ... OK
* checking Rd metadata ... OK
* checking Rd cross-references ... OK
* checking for missing documentation entries ... OK
* checking for code/documentation mismatches ... OK
* checking Rd \usage sections ... NOTE
Documented arguments not in \usage in Rd file 'alignToRef.Rd':
‘feature_alignment_mapping’
Documented arguments not in \usage in Rd file 'blobXICs.Rd':
‘nativeId’
Documented arguments not in \usage in Rd file 'extractXIC_group2.Rd':
‘mz’
Documented arguments not in \usage in Rd file 'getOswAnalytes.Rd':
‘dataPath’ ‘filenames’
Documented arguments not in \usage in Rd file 'getOswFiles.Rd':
‘dataPath’ ‘filenames’
Documented arguments not in \usage in Rd file 'perBatch.Rd':
‘rownum’
Documented arguments not in \usage in Rd file 'readSqMassHeader.Rd':
‘mzmlName’
Documented arguments not in \usage in Rd file 'setAlignmentRank.Rd':
‘XICs.eXp’
Documented arguments not in \usage in Rd file 'traverseDown.Rd':
‘analytes’
Documented arguments not in \usage in Rd file 'writeTables.Rd':
‘filename’
Functions with \usage entries need to have the appropriate \alias
entries, and all their arguments documented.
The \usage entries must correspond to syntactically valid R code.
See chapter ‘Writing R documentation files’ in the ‘Writing R
Extensions’ manual.
* checking Rd contents ... OK
* checking for unstated dependencies in examples ... OK
* checking contents of ‘data’ directory ... OK
* checking data for non-ASCII characters ... OK
* checking data for ASCII and uncompressed saves ... OK
* checking line endings in C/C++/Fortran sources/headers ... OK
* checking compiled code ... NOTE
Note: information on .o files is not available
File ‘/Library/Frameworks/R.framework/Versions/4.4-x86_64/Resources/library/DIAlignR/libs/DIAlignR.so’:
Found ‘__ZNSt3__14coutE’, possibly from ‘std::cout’ (C++)
Compiled code should not call entry points which might terminate R nor
write to stdout/stderr instead of to the console, nor use Fortran I/O
nor system RNGs nor [v]sprintf. The detected symbols are linked into
the code but might come from libraries and not actually be called.
See ‘Writing portable packages’ in the ‘Writing R Extensions’ manual.
* checking files in ‘vignettes’ ... OK
* checking examples ... OK
Examples with CPU (user + system) or elapsed time > 5s
user system elapsed
alignTargetedRuns 20.728 18.700 14.067
script2 5.263 1.839 6.087
mstScript2 4.473 0.776 4.867
* checking for unstated dependencies in ‘tests’ ... OK
* checking tests ...
Running ‘testthat.R’
ERROR
Running the tests in ‘tests/testthat.R’ failed.
Last 13 lines of output:
Backtrace:
▆
1. └─testthat::expect_equal(outData[[1]], expData, tolerance = 1e-04) at test_utils.R:76:13
2. ├─testthat::compare(act$val, exp$val, ..., tolerance = tolerance)
3. └─testthat:::compare.default(act$val, exp$val, ..., tolerance = tolerance)
4. ├─base::all.equal(x, y, ...)
5. └─data.table:::all.equal.data.table(x, y, ...)
6. ├─base::all.equal(x, y, tolerance = tolerance, ..., check.attributes = check.attributes)
7. └─bit64::all.equal.integer64(...)
8. ├─base::is.na(current)
9. └─bit64::is.na.integer64(current)
[ FAIL 1 | WARN 0 | SKIP 8 | PASS 631 ]
Error: Test failures
Execution halted
* checking for unstated dependencies in vignettes ... OK
* checking package vignettes ... OK
* checking running R code from vignettes ... SKIPPED
* checking re-building of vignette outputs ... SKIPPED
* checking PDF version of manual ... OK
* DONE
Status: 1 ERROR, 5 NOTEs
See
‘/Users/biocbuild/bbs-3.20-bioc/meat/DIAlignR.Rcheck/00check.log’
for details.
DIAlignR.Rcheck/00install.out
##############################################################################
##############################################################################
###
### Running command:
###
### /Library/Frameworks/R.framework/Resources/bin/R CMD INSTALL DIAlignR
###
##############################################################################
##############################################################################
* installing to library ‘/Library/Frameworks/R.framework/Versions/4.4-x86_64/Resources/library’
* installing *source* package ‘DIAlignR’ ...
** using staged installation
** libs
using C++ compiler: ‘Apple clang version 14.0.0 (clang-1400.0.29.202)’
using C++14
using SDK: ‘MacOSX11.3.sdk’
clang++ -arch x86_64 -std=gnu++14 -I"/Library/Frameworks/R.framework/Resources/include" -DNDEBUG -I'/Library/Frameworks/R.framework/Versions/4.4-x86_64/Resources/library/Rcpp/include' -I'/Library/Frameworks/R.framework/Versions/4.4-x86_64/Resources/library/RcppEigen/include' -I/opt/R/x86_64/include -fPIC -falign-functions=64 -Wall -g -O2 -c ChromatogramPeak.cpp -o ChromatogramPeak.o
clang++ -arch x86_64 -std=gnu++14 -I"/Library/Frameworks/R.framework/Resources/include" -DNDEBUG -I'/Library/Frameworks/R.framework/Versions/4.4-x86_64/Resources/library/Rcpp/include' -I'/Library/Frameworks/R.framework/Versions/4.4-x86_64/Resources/library/RcppEigen/include' -I/opt/R/x86_64/include -fPIC -falign-functions=64 -Wall -g -O2 -c DPosition.cpp -o DPosition.o
clang++ -arch x86_64 -std=gnu++14 -I"/Library/Frameworks/R.framework/Resources/include" -DNDEBUG -I'/Library/Frameworks/R.framework/Versions/4.4-x86_64/Resources/library/Rcpp/include' -I'/Library/Frameworks/R.framework/Versions/4.4-x86_64/Resources/library/RcppEigen/include' -I/opt/R/x86_64/include -fPIC -falign-functions=64 -Wall -g -O2 -c MSChromatogram.cpp -o MSChromatogram.o
clang++ -arch x86_64 -std=gnu++14 -I"/Library/Frameworks/R.framework/Resources/include" -DNDEBUG -I'/Library/Frameworks/R.framework/Versions/4.4-x86_64/Resources/library/Rcpp/include' -I'/Library/Frameworks/R.framework/Versions/4.4-x86_64/Resources/library/RcppEigen/include' -I/opt/R/x86_64/include -fPIC -falign-functions=64 -Wall -g -O2 -c PeakIntegrator.cpp -o PeakIntegrator.o
clang++ -arch x86_64 -std=gnu++14 -I"/Library/Frameworks/R.framework/Resources/include" -DNDEBUG -I'/Library/Frameworks/R.framework/Versions/4.4-x86_64/Resources/library/Rcpp/include' -I'/Library/Frameworks/R.framework/Versions/4.4-x86_64/Resources/library/RcppEigen/include' -I/opt/R/x86_64/include -fPIC -falign-functions=64 -Wall -g -O2 -c RcppExports.cpp -o RcppExports.o
clang++ -arch x86_64 -std=gnu++14 -I"/Library/Frameworks/R.framework/Resources/include" -DNDEBUG -I'/Library/Frameworks/R.framework/Versions/4.4-x86_64/Resources/library/Rcpp/include' -I'/Library/Frameworks/R.framework/Versions/4.4-x86_64/Resources/library/RcppEigen/include' -I/opt/R/x86_64/include -fPIC -falign-functions=64 -Wall -g -O2 -c Rmain.cpp -o Rmain.o
In file included from Rmain.cpp:19:
./miscell.h:14:19: warning: unused function 'detect_end_na' [-Wunused-function]
static bool const detect_end_na(double a, double b);
^
./miscell.h:16:19: warning: unused function 'detect_start_na' [-Wunused-function]
static bool const detect_start_na(double a, double b);
^
./miscell.h:18:19: warning: unused function 'lessZero' [-Wunused-function]
static bool const lessZero(double a);
^
3 warnings generated.
clang++ -arch x86_64 -std=gnu++14 -I"/Library/Frameworks/R.framework/Resources/include" -DNDEBUG -I'/Library/Frameworks/R.framework/Versions/4.4-x86_64/Resources/library/Rcpp/include' -I'/Library/Frameworks/R.framework/Versions/4.4-x86_64/Resources/library/RcppEigen/include' -I/opt/R/x86_64/include -fPIC -falign-functions=64 -Wall -g -O2 -c SavitzkyGolayFilter.cpp -o SavitzkyGolayFilter.o
clang++ -arch x86_64 -std=gnu++14 -I"/Library/Frameworks/R.framework/Resources/include" -DNDEBUG -I'/Library/Frameworks/R.framework/Versions/4.4-x86_64/Resources/library/Rcpp/include' -I'/Library/Frameworks/R.framework/Versions/4.4-x86_64/Resources/library/RcppEigen/include' -I/opt/R/x86_64/include -fPIC -falign-functions=64 -Wall -g -O2 -c affinealignment.cpp -o affinealignment.o
clang++ -arch x86_64 -std=gnu++14 -I"/Library/Frameworks/R.framework/Resources/include" -DNDEBUG -I'/Library/Frameworks/R.framework/Versions/4.4-x86_64/Resources/library/Rcpp/include' -I'/Library/Frameworks/R.framework/Versions/4.4-x86_64/Resources/library/RcppEigen/include' -I/opt/R/x86_64/include -fPIC -falign-functions=64 -Wall -g -O2 -c affinealignobj.cpp -o affinealignobj.o
clang++ -arch x86_64 -std=gnu++14 -I"/Library/Frameworks/R.framework/Resources/include" -DNDEBUG -I'/Library/Frameworks/R.framework/Versions/4.4-x86_64/Resources/library/Rcpp/include' -I'/Library/Frameworks/R.framework/Versions/4.4-x86_64/Resources/library/RcppEigen/include' -I/opt/R/x86_64/include -fPIC -falign-functions=64 -Wall -g -O2 -c alignment.cpp -o alignment.o
clang++ -arch x86_64 -std=gnu++14 -I"/Library/Frameworks/R.framework/Resources/include" -DNDEBUG -I'/Library/Frameworks/R.framework/Versions/4.4-x86_64/Resources/library/Rcpp/include' -I'/Library/Frameworks/R.framework/Versions/4.4-x86_64/Resources/library/RcppEigen/include' -I/opt/R/x86_64/include -fPIC -falign-functions=64 -Wall -g -O2 -c chromSimMatrix.cpp -o chromSimMatrix.o
clang++ -arch x86_64 -std=gnu++14 -I"/Library/Frameworks/R.framework/Resources/include" -DNDEBUG -I'/Library/Frameworks/R.framework/Versions/4.4-x86_64/Resources/library/Rcpp/include' -I'/Library/Frameworks/R.framework/Versions/4.4-x86_64/Resources/library/RcppEigen/include' -I/opt/R/x86_64/include -fPIC -falign-functions=64 -Wall -g -O2 -c constrainMat.cpp -o constrainMat.o
constrainMat.cpp:78:10: warning: unused variable 'mapped' [-Wunused-variable]
double mapped = 0.0;
^
1 warning generated.
clang++ -arch x86_64 -std=gnu++14 -I"/Library/Frameworks/R.framework/Resources/include" -DNDEBUG -I'/Library/Frameworks/R.framework/Versions/4.4-x86_64/Resources/library/Rcpp/include' -I'/Library/Frameworks/R.framework/Versions/4.4-x86_64/Resources/library/RcppEigen/include' -I/opt/R/x86_64/include -fPIC -falign-functions=64 -Wall -g -O2 -c gapPenalty.cpp -o gapPenalty.o
clang++ -arch x86_64 -std=gnu++14 -I"/Library/Frameworks/R.framework/Resources/include" -DNDEBUG -I'/Library/Frameworks/R.framework/Versions/4.4-x86_64/Resources/library/Rcpp/include' -I'/Library/Frameworks/R.framework/Versions/4.4-x86_64/Resources/library/RcppEigen/include' -I/opt/R/x86_64/include -fPIC -falign-functions=64 -Wall -g -O2 -c integrateArea.cpp -o integrateArea.o
clang++ -arch x86_64 -std=gnu++14 -I"/Library/Frameworks/R.framework/Resources/include" -DNDEBUG -I'/Library/Frameworks/R.framework/Versions/4.4-x86_64/Resources/library/Rcpp/include' -I'/Library/Frameworks/R.framework/Versions/4.4-x86_64/Resources/library/RcppEigen/include' -I/opt/R/x86_64/include -fPIC -falign-functions=64 -Wall -g -O2 -c interface.cpp -o interface.o
clang++ -arch x86_64 -std=gnu++14 -I"/Library/Frameworks/R.framework/Resources/include" -DNDEBUG -I'/Library/Frameworks/R.framework/Versions/4.4-x86_64/Resources/library/Rcpp/include' -I'/Library/Frameworks/R.framework/Versions/4.4-x86_64/Resources/library/RcppEigen/include' -I/opt/R/x86_64/include -fPIC -falign-functions=64 -Wall -g -O2 -c miscell.cpp -o miscell.o
miscell.cpp:53:19: warning: unused function 'lessZero' [-Wunused-function]
static bool const lessZero(double a){
^
1 warning generated.
clang++ -arch x86_64 -std=gnu++14 -I"/Library/Frameworks/R.framework/Resources/include" -DNDEBUG -I'/Library/Frameworks/R.framework/Versions/4.4-x86_64/Resources/library/Rcpp/include' -I'/Library/Frameworks/R.framework/Versions/4.4-x86_64/Resources/library/RcppEigen/include' -I/opt/R/x86_64/include -fPIC -falign-functions=64 -Wall -g -O2 -c run_alignment.cpp -o run_alignment.o
clang++ -arch x86_64 -std=gnu++14 -I"/Library/Frameworks/R.framework/Resources/include" -DNDEBUG -I'/Library/Frameworks/R.framework/Versions/4.4-x86_64/Resources/library/Rcpp/include' -I'/Library/Frameworks/R.framework/Versions/4.4-x86_64/Resources/library/RcppEigen/include' -I/opt/R/x86_64/include -fPIC -falign-functions=64 -Wall -g -O2 -c simpleFcn.cpp -o simpleFcn.o
clang++ -arch x86_64 -std=gnu++14 -I"/Library/Frameworks/R.framework/Resources/include" -DNDEBUG -I'/Library/Frameworks/R.framework/Versions/4.4-x86_64/Resources/library/Rcpp/include' -I'/Library/Frameworks/R.framework/Versions/4.4-x86_64/Resources/library/RcppEigen/include' -I/opt/R/x86_64/include -fPIC -falign-functions=64 -Wall -g -O2 -c spline.cpp -o spline.o
clang++ -arch x86_64 -std=gnu++14 -I"/Library/Frameworks/R.framework/Resources/include" -DNDEBUG -I'/Library/Frameworks/R.framework/Versions/4.4-x86_64/Resources/library/Rcpp/include' -I'/Library/Frameworks/R.framework/Versions/4.4-x86_64/Resources/library/RcppEigen/include' -I/opt/R/x86_64/include -fPIC -falign-functions=64 -Wall -g -O2 -c utils.cpp -o utils.o
utils.cpp:48:9: warning: unused variable 'idx' [-Wunused-variable]
int idx = n*(1-p);
^
1 warning generated.
clang++ -arch x86_64 -std=gnu++14 -dynamiclib -Wl,-headerpad_max_install_names -undefined dynamic_lookup -L/Library/Frameworks/R.framework/Resources/lib -L/opt/R/x86_64/lib -o DIAlignR.so ChromatogramPeak.o DPosition.o MSChromatogram.o PeakIntegrator.o RcppExports.o Rmain.o SavitzkyGolayFilter.o affinealignment.o affinealignobj.o alignment.o chromSimMatrix.o constrainMat.o gapPenalty.o integrateArea.o interface.o miscell.o run_alignment.o simpleFcn.o spline.o utils.o -F/Library/Frameworks/R.framework/.. -framework R -Wl,-framework -Wl,CoreFoundation
installing to /Library/Frameworks/R.framework/Versions/4.4-x86_64/Resources/library/00LOCK-DIAlignR/00new/DIAlignR/libs
** R
** data
** inst
** byte-compile and prepare package for lazy loading
** help
*** installing help indices
** building package indices
** installing vignettes
** testing if installed package can be loaded from temporary location
** checking absolute paths in shared objects and dynamic libraries
** testing if installed package can be loaded from final location
** testing if installed package keeps a record of temporary installation path
* DONE (DIAlignR)
DIAlignR.Rcheck/tests/testthat.Rout.fail
R version 4.4.3 (2025-02-28) -- "Trophy Case"
Copyright (C) 2025 The R Foundation for Statistical Computing
Platform: x86_64-apple-darwin20
R is free software and comes with ABSOLUTELY NO WARRANTY.
You are welcome to redistribute it under certain conditions.
Type 'license()' or 'licence()' for distribution details.
R is a collaborative project with many contributors.
Type 'contributors()' for more information and
'citation()' on how to cite R or R packages in publications.
Type 'demo()' for some demos, 'help()' for on-line help, or
'help.start()' for an HTML browser interface to help.
Type 'q()' to quit R.
> library(testthat)
> library(DIAlignR)
>
> test_check("DIAlignR")
[1] "hroest_K120808_Strep10%PlasmaBiolRepl1_R03_SW_filt"
[2] "hroest_K120809_Strep0%PlasmaBiolRepl2_R04_SW_filt"
[3] "hroest_K120809_Strep10%PlasmaBiolRepl2_R04_SW_filt"
Time difference of 0.1032832 secs
Time difference of 0.4835782 secs
Time difference of 0.329886 secs
Time difference of 0.05026889 secs
Time difference of 0.02227998 secs
Time difference of 0.1905351 secs
Time difference of 3.149159 secs
Time difference of 0.05442905 secs
Time difference of 0.8009341 secs
[1] "hroest_K120808_Strep10%PlasmaBiolRepl1_R03_SW_filt"
[2] "hroest_K120809_Strep0%PlasmaBiolRepl2_R04_SW_filt"
Time difference of 0.03371191 secs
Time difference of 0.4310911 secs
Time difference of 0.258116 secs
Time difference of 0.03203106 secs
Time difference of 0.011729 secs
Time difference of 0.1168492 secs
Time difference of 1.878517 secs
Time difference of 0.01758909 secs
Time difference of 1.752124 secs
[1] "hroest_K120808_Strep10%PlasmaBiolRepl1_R03_SW_filt"
[2] "hroest_K120809_Strep0%PlasmaBiolRepl2_R04_SW_filt"
[3] "hroest_K120809_Strep10%PlasmaBiolRepl2_R04_SW_filt"
Time difference of 0.03756094 secs
Time difference of 0.5573089 secs
Time difference of 0.3668389 secs
Time difference of 0.1955762 secs
Time difference of 0.01684093 secs
Time difference of 0.1490881 secs
Time difference of 2.68635 secs
Time difference of 0.04723406 secs
Time difference of 0.661453 secs
[1] "hroest_K120808_Strep10%PlasmaBiolRepl1_R03_SW_filt"
[2] "hroest_K120809_Strep0%PlasmaBiolRepl2_R04_SW_filt"
[3] "hroest_K120809_Strep10%PlasmaBiolRepl2_R04_SW_filt"
Time difference of 0.03286386 secs
Time difference of 0.04856896 secs
Time difference of 0.001125813 secs
Time difference of 0.1950691 secs
Time difference of 0.02041793 secs
Time difference of 0.1142509 secs
Time difference of 0.03685403 secs
Time difference of 0.01998496 secs
Time difference of 0.1958802 secs
[1] "hroest_K120809_Strep0%PlasmaBiolRepl2_R04_SW_filt"
[2] "hroest_K120809_Strep10%PlasmaBiolRepl2_R04_SW_filt"
[1] "PestMix1_8Step1Plasma1SWATH20-50" "PestMix1_8Step8Plasma1SWATH20-50"
Time difference of 0.131089 secs
Time difference of 0.066185 secs
Time difference of 0.0278759 secs
Time difference of 0.02593493 secs
Time difference of 0.01319599 secs
Time difference of 0.08019018 secs
Time difference of 0.184407 secs
Time difference of 0.01855302 secs
Time difference of 0.375493 secs
[1] "chludwig_K150309_004b_SW_1_16" "chludwig_K150309_008_SW_1_4"
[3] "chludwig_K150309_013_SW_0"
Time difference of 0.04763818 secs
Time difference of 0.02239084 secs
Time difference of 0.002547979 secs
Time difference of 0.03221488 secs
Time difference of 0.02016592 secs
Time difference of 0.09748411 secs
Time difference of 0.0315659 secs
Time difference of 0.04877901 secs
Time difference of 0.471308 secs
<simpleWarning in simpleLoess(y, x, w, span, degree = degree, parametric = parametric, drop.square = drop.square, normalize = normalize, statistics = control$statistics, surface = control$surface, cell = control$cell, iterations = iterations, iterTrace = control$iterTrace, trace.hat = control$trace.hat): span too small. fewer data values than degrees of freedom.>
<simpleWarning in simpleLoess(y, x, w, span, degree = degree, parametric = parametric, drop.square = drop.square, normalize = normalize, statistics = control$statistics, surface = control$surface, cell = control$cell, iterations = iterations, iterTrace = control$iterTrace, trace.hat = control$trace.hat): span too small. fewer data values than degrees of freedom.>
<simpleWarning in sqrt(sum.squares/one.delta): NaNs produced>
<simpleError in simpleLoess(y, x, w, span, degree = degree, parametric = parametric, drop.square = drop.square, normalize = normalize, statistics = control$statistics, surface = control$surface, cell = control$cell, iterations = iterations, iterTrace = control$iterTrace, trace.hat = control$trace.hat): span is too small>
runName
run0 hroest_K120808_Strep10%PlasmaBiolRepl1_R03_SW_filt
run1 hroest_K120809_Strep0%PlasmaBiolRepl2_R04_SW_filt
run2 hroest_K120809_Strep10%PlasmaBiolRepl2_R04_SW_filt
Time difference of 0.217051 secs
Time difference of 0.03162909 secs
Time difference of 0.005308151 secs
Time difference of 0.01772785 secs
Time difference of 0.09742522 secs
Time difference of 0.03341389 secs
Time difference of 0.03484082 secs
Time difference of 0.1876328 secs
runName
run0 hroest_K120808_Strep10%PlasmaBiolRepl1_R03_SW_filt
run1 hroest_K120809_Strep0%PlasmaBiolRepl2_R04_SW_filt
run2 hroest_K120809_Strep10%PlasmaBiolRepl2_R04_SW_filt
Time difference of 0.05459499 secs
[1] "run0 run1\nrun2 run2"
Time difference of 0.460062 secs
Time difference of 0.2584829 secs
Time difference of 0.01760197 secs
Time difference of 0.201462 secs
Time difference of 2.693577 secs
Time difference of 0.0372889 secs
Time difference of 0.6766541 secs
runName
run0 hroest_K120808_Strep10%PlasmaBiolRepl1_R03_SW_filt
run1 hroest_K120809_Strep0%PlasmaBiolRepl2_R04_SW_filt
run2 hroest_K120809_Strep10%PlasmaBiolRepl2_R04_SW_filt
Time difference of 0.2725542 secs
Time difference of 1.857306 secs
Time difference of 12.86135 secs
Time difference of 0.9770761 secs
runName
run0 hroest_K120808_Strep10%PlasmaBiolRepl1_R03_SW_filt
run1 hroest_K120809_Strep0%PlasmaBiolRepl2_R04_SW_filt
run2 hroest_K120809_Strep10%PlasmaBiolRepl2_R04_SW_filt
Time difference of 0.197335 secs
[1] "Written /Library/Frameworks/R.framework/Versions/4.4-x86_64/Resources/library/DIAlignR/extdata/temp_prog1.RData"
[1] "Written /Library/Frameworks/R.framework/Versions/4.4-x86_64/Resources/library/DIAlignR/extdata/temp_0_2.rds"
[1] "progTree1 is done."
Time difference of 2.531422 secs
Time difference of 0.6800978 secs
[1] "Written /Library/Frameworks/R.framework/Versions/4.4-x86_64/Resources/library/DIAlignR/extdata/temp_1_2.rds"
Time difference of 1.18386 secs
[1] "Written /Library/Frameworks/R.framework/Versions/4.4-x86_64/Resources/library/DIAlignR/extdata/temp_2_2.rds"
Time difference of 0.6929371 secs
Time difference of 0.428308 secs
[1] "Written /Library/Frameworks/R.framework/Versions/4.4-x86_64/Resources/library/DIAlignR/extdata/temp_all_2.rds"
Time difference of 0.4657841 secs
runName
run0 hroest_K120808_Strep10%PlasmaBiolRepl1_R03_SW_filt
run1 hroest_K120809_Strep0%PlasmaBiolRepl2_R04_SW_filt
run2 hroest_K120809_Strep10%PlasmaBiolRepl2_R04_SW_filt
Time difference of 0.1983829 secs
[1] "Written /Library/Frameworks/R.framework/Versions/4.4-x86_64/Resources/library/DIAlignR/extdata/temp_prog1.RData"
[1] "Written /Library/Frameworks/R.framework/Versions/4.4-x86_64/Resources/library/DIAlignR/extdata/temp_0_2.rds"
[1] "progTree1 is done."
Time difference of 2.409328 secs
Time difference of 0.6633499 secs
[1] "Written /Library/Frameworks/R.framework/Versions/4.4-x86_64/Resources/library/DIAlignR/extdata/temp_1_2.rds"
Time difference of 1.072959 secs
[1] "Written /Library/Frameworks/R.framework/Versions/4.4-x86_64/Resources/library/DIAlignR/extdata/temp_2_2.rds"
Time difference of 0.6738801 secs
Time difference of 0.07939196 secs
[1] "Written /Library/Frameworks/R.framework/Versions/4.4-x86_64/Resources/library/DIAlignR/extdata/temp_all_2.rds"
Error in reticulate::use_condaenv(condaEnv, required = TRUE) :
Unable to locate conda environment 'TricEnvr'.
Error in reticulate::use_condaenv(condaEnv, required = TRUE) :
Unable to locate conda environment 'TricEnvr'.
Error in reticulate::use_condaenv(condaEnv, required = TRUE) :
Unable to locate conda environment 'TricEnvr'.
[ FAIL 1 | WARN 0 | SKIP 8 | PASS 631 ]
══ Skipped tests (8) ═══════════════════════════════════════════════════════════
• empty test (5): 'test_get_filenames.R:77:1', 'test_get_filenames.R:82:1',
'test_utils.R:200:1', 'test_utils.R:203:1', 'test_utils.R:206:1'
• ropenms not available for testing. A conda environment with name TricEnvr is
MUST for testing. (3): 'test_pyopenms.R:4:3', 'test_pyopenms.R:8:3',
'test_pyopenms.R:27:3'
══ Failed tests ════════════════════════════════════════════════════════════════
── Error ('test_utils.R:76:13'): test_getRefExpFeatureMap ──────────────────────
Error in `is.na.integer64(current)`: REAL() can only be applied to a 'numeric', not a 'integer'
Backtrace:
▆
1. └─testthat::expect_equal(outData[[1]], expData, tolerance = 1e-04) at test_utils.R:76:13
2. ├─testthat::compare(act$val, exp$val, ..., tolerance = tolerance)
3. └─testthat:::compare.default(act$val, exp$val, ..., tolerance = tolerance)
4. ├─base::all.equal(x, y, ...)
5. └─data.table:::all.equal.data.table(x, y, ...)
6. ├─base::all.equal(x, y, tolerance = tolerance, ..., check.attributes = check.attributes)
7. └─bit64::all.equal.integer64(...)
8. ├─base::is.na(current)
9. └─bit64::is.na.integer64(current)
[ FAIL 1 | WARN 0 | SKIP 8 | PASS 631 ]
Error: Test failures
Execution halted
DIAlignR.Rcheck/DIAlignR-Ex.timings
| name | user | system | elapsed | |
| MSTperBatch | 0.002 | 0.001 | 0.003 | |
| addFlankToLeft | 0.003 | 0.001 | 0.004 | |
| addFlankToRight | 0.002 | 0.001 | 0.003 | |
| addXIC | 0.001 | 0.000 | 0.001 | |
| alignChromatogramsCpp | 0.040 | 0.012 | 0.053 | |
| alignTargetedRuns | 20.728 | 18.700 | 14.067 | |
| alignToMaster | 3.381 | 0.103 | 3.668 | |
| alignToRef | 0.002 | 0.001 | 0.003 | |
| alignToRefMST | 0.002 | 0.001 | 0.005 | |
| alignedXIC | 0.141 | 0.020 | 0.167 | |
| analytesFromFeatures | 0.072 | 0.009 | 0.085 | |
| approxFill | 0.002 | 0.001 | 0.003 | |
| areaIntegrator | 0.005 | 0.008 | 0.013 | |
| blobXICs | 0.003 | 0.009 | 0.012 | |
| calculateIntensity | 0.004 | 0.008 | 0.012 | |
| checkOverlap | 0.001 | 0.001 | 0.001 | |
| checkParams | 0.000 | 0.001 | 0.001 | |
| childXIC | 0.136 | 0.017 | 0.164 | |
| childXICs | 1.086 | 0.041 | 1.184 | |
| constrainSimCpp | 0.001 | 0.002 | 0.003 | |
| createMZML | 0.005 | 0.009 | 0.014 | |
| createSqMass | 0.003 | 0.008 | 0.010 | |
| dialignrLoess | 0.001 | 0.000 | 0.002 | |
| doAffineAlignmentCpp | 0.003 | 0.002 | 0.004 | |
| doAlignmentCpp | 0.002 | 0.003 | 0.005 | |
| extractXIC_group | 1.651 | 0.057 | 1.804 | |
| extractXIC_group2 | 0.002 | 0.001 | 0.003 | |
| fetchAnalytesInfo | 0.017 | 0.003 | 0.026 | |
| fetchFeaturesFromRun | 0.014 | 0.003 | 0.018 | |
| fetchPeptidesInfo | 0.014 | 0.002 | 0.018 | |
| fetchPeptidesInfo2 | 0.014 | 0.003 | 0.017 | |
| fetchPrecursorsInfo | 0.002 | 0.001 | 0.003 | |
| fetchTransitionsFromRun | 0.014 | 0.002 | 0.017 | |
| filenamesFromMZML | 0.002 | 0.001 | 0.003 | |
| filenamesFromOSW | 0.002 | 0.001 | 0.002 | |
| getAlignObj | 0.037 | 0.017 | 0.056 | |
| getAlignObjs | 2.313 | 0.047 | 2.499 | |
| getAlignedFigs | 0.242 | 0.011 | 0.269 | |
| getAlignedIndices | 0.017 | 0.015 | 0.033 | |
| getAlignedTimes | 0.034 | 0.022 | 0.060 | |
| getAlignedTimesCpp | 0.009 | 0.008 | 0.018 | |
| getAlignedTimesFast | 0.024 | 0.022 | 0.048 | |
| getBaseGapPenaltyCpp | 0.001 | 0.001 | 0.001 | |
| getChildFeature | 0.087 | 0.015 | 0.111 | |
| getChildXICpp | 0.011 | 0.009 | 0.019 | |
| getChildXICs | 1.408 | 0.041 | 1.525 | |
| getChromSimMatCpp | 0.004 | 0.006 | 0.011 | |
| getChromatogramIndices | 0.205 | 0.006 | 0.220 | |
| getFeatures | 0.069 | 0.008 | 0.091 | |
| getGlobalAlignMaskCpp | 0.002 | 0.003 | 0.005 | |
| getGlobalAlignment | 0.011 | 0.007 | 0.019 | |
| getGlobalFits | 0.790 | 0.011 | 0.827 | |
| getLOESSfit | 0.005 | 0.008 | 0.012 | |
| getLinearfit | 0.004 | 0.008 | 0.014 | |
| getMST | 0.001 | 0.001 | 0.002 | |
| getMZMLpointers | 0.030 | 0.004 | 0.035 | |
| getMappedRT | 0.018 | 0.016 | 0.035 | |
| getMultipeptide | 2.906 | 0.078 | 3.127 | |
| getNativeIDs | 0.036 | 0.003 | 0.039 | |
| getNodeIDs | 0.000 | 0.001 | 0.002 | |
| getNodeRun | 0.849 | 0.017 | 0.909 | |
| getOswAnalytes | 0.013 | 0.002 | 0.016 | |
| getOswFiles | 0.014 | 0.002 | 0.017 | |
| getPeptideScores | 0.063 | 0.004 | 0.071 | |
| getPrecursorByID | 0.026 | 0.003 | 0.030 | |
| getPrecursorIndices | 0.086 | 0.006 | 0.096 | |
| getPrecursors | 0.046 | 0.004 | 0.055 | |
| getRSE | 0.005 | 0.008 | 0.012 | |
| getRTdf | 0.011 | 0.007 | 0.019 | |
| getRefExpFeatureMap | 0.595 | 0.014 | 0.648 | |
| getRefRun | 0.676 | 0.014 | 0.724 | |
| getRunNames | 0.017 | 0.003 | 0.019 | |
| getSeqSimMatCpp | 0.001 | 0.002 | 0.003 | |
| getTransitions | 0.270 | 0.013 | 0.292 | |
| getTree | 0.055 | 0.005 | 0.063 | |
| getXICs | 0.486 | 0.010 | 0.519 | |
| getXICs4AlignObj | 0.108 | 0.005 | 0.117 | |
| get_ropenms | 0.000 | 0.001 | 0.001 | |
| imputeChromatogram | 0.027 | 0.003 | 0.029 | |
| ipfReassignFDR | 0.001 | 0.000 | 0.001 | |
| mapIdxToTime | 0.000 | 0.001 | 0.001 | |
| mappedRTfromAlignObj | 0.005 | 0.008 | 0.012 | |
| mergeXIC | 0.004 | 0.007 | 0.016 | |
| mstAlignRuns | 3.753 | 0.076 | 4.372 | |
| mstScript1 | 0.713 | 0.514 | 0.822 | |
| mstScript2 | 4.473 | 0.776 | 4.867 | |
| nrDesc | 0.000 | 0.001 | 0.001 | |
| otherChildXICpp | 0.012 | 0.005 | 0.016 | |
| paramsDIAlignR | 0.001 | 0.000 | 0.001 | |
| perBatch | 0.002 | 0.001 | 0.003 | |
| pickNearestFeature | 0.006 | 0.004 | 0.010 | |
| plotAlignedAnalytes | 1.176 | 0.032 | 1.245 | |
| plotAlignmentPath | 0.744 | 0.058 | 0.840 | |
| plotAnalyteXICs | 0.812 | 0.024 | 0.876 | |
| plotXICgroup | 0.728 | 0.017 | 0.793 | |
| populateReferenceExperimentFeatureAlignmentMap | 0.021 | 0.006 | 0.027 | |
| progAlignRuns | 0.002 | 0.001 | 0.003 | |
| readMzMLHeader | 0.002 | 0.001 | 0.003 | |
| readSqMassHeader | 0.002 | 0.001 | 0.003 | |
| recalculateIntensity | 0.505 | 0.014 | 0.536 | |
| reduceXICs | 0.159 | 0.008 | 0.176 | |
| script1 | 1.423 | 1.439 | 1.660 | |
| script2 | 5.263 | 1.839 | 6.087 | |
| setAlignmentRank | 0.021 | 0.011 | 0.034 | |
| sgolayCpp | 0.004 | 0.005 | 0.009 | |
| sgolayFill | 0.002 | 0.001 | 0.003 | |
| smoothSingleXIC | 0.003 | 0.006 | 0.009 | |
| smoothXICs | 0.014 | 0.006 | 0.024 | |
| splineFill | 0.001 | 0.001 | 0.003 | |
| splineFillCpp | 0.007 | 0.001 | 0.007 | |
| traverseDown | 3.488 | 0.108 | 3.792 | |
| traverseMST | 0.000 | 0.000 | 0.001 | |
| traverseUp | 3.103 | 0.033 | 3.270 | |
| trfrParentFeature | 0.073 | 0.013 | 0.089 | |
| trimXICs | 0.003 | 0.006 | 0.009 | |
| uncompressVec | 0.008 | 0.002 | 0.010 | |
| updateFileInfo | 0.016 | 0.002 | 0.018 | |
| writeOutFeatureAlignmentMap | 0.006 | 0.005 | 0.011 | |
| writeTables | 0.004 | 0.004 | 0.010 | |