| Back to Multiple platform build/check report for BioC 3.20: simplified long | 
 | 
This page was generated on 2025-04-02 19:31 -0400 (Wed, 02 Apr 2025).
| Hostname | OS | Arch (*) | R version | Installed pkgs | 
|---|---|---|---|---|
| nebbiolo2 | Linux (Ubuntu 24.04.1 LTS) | x86_64 | 4.4.3 (2025-02-28) -- "Trophy Case" | 4764 | 
| palomino8 | Windows Server 2022 Datacenter | x64 | 4.4.3 (2025-02-28 ucrt) -- "Trophy Case" | 4495 | 
| merida1 | macOS 12.7.5 Monterey | x86_64 | 4.4.3 (2025-02-28) -- "Trophy Case" | 4522 | 
| kjohnson1 | macOS 13.6.6 Ventura | arm64 | 4.4.3 (2025-02-28) -- "Trophy Case" | 4449 | 
| taishan | Linux (openEuler 24.03 LTS) | aarch64 | 4.4.3 (2025-02-28) -- "Trophy Case" | 4426 | 
| Click on any hostname to see more info about the system (e.g. compilers) (*) as reported by 'uname -p', except on Windows and Mac OS X | ||||
| Package 504/2289 | Hostname | OS / Arch | INSTALL | BUILD | CHECK | BUILD BIN | ||||||||
| DAPAR 1.38.0  (landing page) Samuel Wieczorek 
 | nebbiolo2 | Linux (Ubuntu 24.04.1 LTS) / x86_64 | OK | OK | OK |  | ||||||||
| palomino8 | Windows Server 2022 Datacenter / x64 | OK | OK | OK | OK |  | ||||||||
| merida1 | macOS 12.7.5 Monterey / x86_64 | OK | OK | OK | OK |  | ||||||||
| kjohnson1 | macOS 13.6.6 Ventura / arm64 | OK | OK | OK | OK |  | ||||||||
| taishan | Linux (openEuler 24.03 LTS) / aarch64 | OK | OK | OK | ||||||||||
| To the developers/maintainers of the DAPAR package: - Allow up to 24 hours (and sometimes 48 hours) for your latest push to git@git.bioconductor.org:packages/DAPAR.git to reflect on this report. See Troubleshooting Build Report for more information. - Use the following Renviron settings to reproduce errors and warnings. - If 'R CMD check' started to fail recently on the Linux builder(s) over a missing dependency, add the missing dependency to 'Suggests:' in your DESCRIPTION file. See Renviron.bioc for more information. | 
| Package: DAPAR | 
| Version: 1.38.0 | 
| Command: /Library/Frameworks/R.framework/Resources/bin/R CMD check --install=check:DAPAR.install-out.txt --library=/Library/Frameworks/R.framework/Resources/library --no-vignettes --timings DAPAR_1.38.0.tar.gz | 
| StartedAt: 2025-04-01 01:40:42 -0400 (Tue, 01 Apr 2025) | 
| EndedAt: 2025-04-01 02:00:35 -0400 (Tue, 01 Apr 2025) | 
| EllapsedTime: 1193.1 seconds | 
| RetCode: 0 | 
| Status: OK | 
| CheckDir: DAPAR.Rcheck | 
| Warnings: 0 | 
##############################################################################
##############################################################################
###
### Running command:
###
###   /Library/Frameworks/R.framework/Resources/bin/R CMD check --install=check:DAPAR.install-out.txt --library=/Library/Frameworks/R.framework/Resources/library --no-vignettes --timings DAPAR_1.38.0.tar.gz
###
##############################################################################
##############################################################################
* using log directory ‘/Users/biocbuild/bbs-3.20-bioc/meat/DAPAR.Rcheck’
* using R version 4.4.3 (2025-02-28)
* using platform: x86_64-apple-darwin20
* R was compiled by
    Apple clang version 14.0.0 (clang-1400.0.29.202)
    GNU Fortran (GCC) 12.2.0
* running under: macOS Monterey 12.7.6
* using session charset: UTF-8
* using option ‘--no-vignettes’
* checking for file ‘DAPAR/DESCRIPTION’ ... OK
* checking extension type ... Package
* this is package ‘DAPAR’ version ‘1.38.0’
* package encoding: UTF-8
* checking package namespace information ... OK
* checking package dependencies ... NOTE
Vignette dependency required without any vignettes:: ‘knitr’
* checking if this is a source package ... OK
* checking if there is a namespace ... OK
* checking for hidden files and directories ... OK
* checking for portable file names ... OK
* checking for sufficient/correct file permissions ... OK
* checking whether package ‘DAPAR’ can be installed ... OK
* checking installed package size ... OK
* checking package directory ... OK
* checking DESCRIPTION meta-information ... OK
* checking top-level files ... OK
* checking for left-over files ... OK
* checking index information ... OK
* checking package subdirectories ... OK
* checking code files for non-ASCII characters ... OK
* checking R files for syntax errors ... OK
* checking whether the package can be loaded ... OK
* checking whether the package can be loaded with stated dependencies ... OK
* checking whether the package can be unloaded cleanly ... OK
* checking whether the namespace can be loaded with stated dependencies ... OK
* checking whether the namespace can be unloaded cleanly ... OK
* checking whether startup messages can be suppressed ... OK
* checking dependencies in R code ... OK
* checking S3 generic/method consistency ... OK
* checking replacement functions ... OK
* checking foreign function calls ... OK
* checking R code for possible problems ... NOTE
Check_Dataset_Validity: no visible global function definition for
  ‘exprs’
OWAnova: no visible global function definition for ‘aov’
aggregateIterParallel: no visible binding for global variable ‘cond’
averageIntensities: no visible binding for global variable ‘condition’
averageIntensities: no visible binding for global variable ‘feature’
averageIntensities: no visible binding for global variable ‘intensity’
createMSnset: no visible global function definition for
  ‘installed.packages’
createMSnset: no visible binding for global variable ‘Prostar.loc’
createMSnset2: no visible global function definition for
  ‘installed.packages’
createMSnset2: no visible binding for global variable ‘Prostar.loc’
diffAnaVolcanoplot_rCharts: no visible binding for global variable ‘x’
diffAnaVolcanoplot_rCharts: no visible binding for global variable ‘y’
diffAnaVolcanoplot_rCharts: no visible binding for global variable ‘g’
display.CC.visNet: no visible binding for global variable
  ‘layout_nicely’
getTextForGOAnalysis: no visible binding for global variable
  ‘textGOParams’
getTextForGOAnalysis: no visible binding for global variable ‘input’
globalAdjPval: no visible global function definition for ‘stack’
heatmapForMissingValues: no visible binding for global variable ‘par’
limmaCompleteTest: no visible binding for global variable ‘A’
limmaCompleteTest: no visible binding for global variable ‘B’
limmaCompleteTest: no visible binding for global variable ‘P.Value’
pepa.test: no visible global function definition for ‘nodes<-’
testAnovaModels : <anonymous>: no visible global function definition
  for ‘TukeyHSD’
visualizeClusters: no visible binding for global variable
  ‘adjusted_pvalues’
visualizeClusters: no visible binding for global variable ‘Condition’
visualizeClusters: no visible binding for global variable ‘Intensity’
visualizeClusters: no visible binding for global variable
  ‘FDR_threshold’
visualizeClusters: no visible binding for global variable ‘feature’
wrapperClassic1wayAnova: no visible binding for global variable
  ‘Pr(>F)1’
wrapperRunClustering: no visible global function definition for ‘str_c’
Undefined global functions or variables:
  A B Condition FDR_threshold Intensity P.Value Pr(>F)1 Prostar.loc
  TukeyHSD adjusted_pvalues aov cond condition exprs feature g input
  installed.packages intensity layout_nicely nodes<- par stack str_c
  textGOParams x y
Consider adding
  importFrom("graphics", "par")
  importFrom("stats", "TukeyHSD", "aov")
  importFrom("utils", "installed.packages", "stack")
to your NAMESPACE file.
* checking Rd files ... OK
* checking Rd metadata ... OK
* checking Rd cross-references ... OK
* checking for missing documentation entries ... OK
* checking for code/documentation mismatches ... OK
* checking Rd \usage sections ... OK
* checking Rd contents ... OK
* checking for unstated dependencies in examples ... OK
* checking examples ... OK
Examples with CPU (user + system) or elapsed time > 5s
                                    user system elapsed
wrapper.compareNormalizationD_HC 110.379 45.080 180.763
wrapper.dapar.impute.mi           33.484  1.858  41.595
barplotEnrichGO_HC                15.250  3.225  22.876
checkClusterability                7.172  3.683  12.553
barplotGroupGO_HC                  9.254  1.240  12.736
scatterplotEnrichGO_HC             8.803  1.249  11.792
group_GO                           8.843  1.055  12.175
enrich_GO                          8.560  1.092  12.251
densityPlotD_HC                    6.324  2.415  10.311
CVDistD_HC                         6.349  0.339   7.495
wrapper.CVDistD_HC                 4.531  1.805   7.434
mvImage                            5.654  0.339   7.356
wrapperRunClustering               4.781  0.787   6.638
* checking for unstated dependencies in ‘tests’ ... OK
* checking tests ...
  Running ‘testthat.R’
 OK
* checking PDF version of manual ... OK
* DONE
Status: 2 NOTEs
See
  ‘/Users/biocbuild/bbs-3.20-bioc/meat/DAPAR.Rcheck/00check.log’
for details.
DAPAR.Rcheck/00install.out
############################################################################## ############################################################################## ### ### Running command: ### ### /Library/Frameworks/R.framework/Resources/bin/R CMD INSTALL DAPAR ### ############################################################################## ############################################################################## * installing to library ‘/Library/Frameworks/R.framework/Versions/4.4-x86_64/Resources/library’ * installing *source* package ‘DAPAR’ ... ** using staged installation ** R ** inst ** byte-compile and prepare package for lazy loading ** help *** installing help indices ** building package indices ** testing if installed package can be loaded from temporary location ** testing if installed package can be loaded from final location ** testing if installed package keeps a record of temporary installation path * DONE (DAPAR)
DAPAR.Rcheck/tests/testthat.Rout
R version 4.4.3 (2025-02-28) -- "Trophy Case"
Copyright (C) 2025 The R Foundation for Statistical Computing
Platform: x86_64-apple-darwin20
R is free software and comes with ABSOLUTELY NO WARRANTY.
You are welcome to redistribute it under certain conditions.
Type 'license()' or 'licence()' for distribution details.
R is a collaborative project with many contributors.
Type 'contributors()' for more information and
'citation()' on how to cite R or R packages in publications.
Type 'demo()' for some demos, 'help()' for on-line help, or
'help.start()' for an HTML browser interface to help.
Type 'q()' to quit R.
> library(testthat)
> library(DAPAR)
This is the 'DAPAR' version 1.38.0.
  To get started, visit
    http://www.prostar-proteomics.org/
> 
> test_check("DAPAR")
 Iterations: 
 1 / 1  - Imputation MNAR OK - 
Imputation MCAR in progress - 
3 % - 6 % - 9 % - 12 % - 15 % - 18 % - 21 % - 24 % - 27 % - 30 % - 33 % - 36 % - 39 % - 42 % - 45 % - 48 % - 51 % - 54 % - 57 % - 60 % - 63 % - 66 % - 69 % - 72 % - 75 % - 78 % - 81 % - 84 % - 87 % - 90 % - 93 % - 96 % - 99 % - 
 Iterations: 
 1 / 1  - Imputation MNAR OK - 
Imputation MCAR in progress - 
3 % - 6 % - 9 % - 12 % - 15 % - 18 % - 21 % - 24 % - 27 % - 30 % - 33 % - 36 % - 39 % - 42 % - 45 % - 48 % - 51 % - 54 % - 57 % - 60 % - 63 % - 66 % - 69 % - 72 % - 75 % - 78 % - 81 % - 84 % - 87 % - 90 % - 93 % - 96 % - 99 % - 
 Imputation in condition  1 ...
 In progress: 10 % - 20 % - 30 % - 40 % - 50 % - 60 % - 70 % - 80 % - 90 % - 100 % - 
 Imputation in condition  2 ...
 In progress: 10 % - 20 % - 30 % - 40 % - 50 % - 60 % - 70 % - 80 % - 90 % - 100 % - [ FAIL 0 | WARN 17 | SKIP 0 | PASS 66 ]
[ FAIL 0 | WARN 17 | SKIP 0 | PASS 66 ]
> 
> proc.time()
   user  system elapsed 
 62.689   2.559  79.484 
DAPAR.Rcheck/DAPAR-Ex.timings
| name | user | system | elapsed | |
| AggregateMetacell | 0.726 | 0.018 | 0.816 | |
| BuildAdjacencyMatrix | 0.566 | 0.011 | 0.628 | |
| BuildColumnToProteinDataset | 0.701 | 0.013 | 0.764 | |
| BuildMetaCell | 1.011 | 0.038 | 1.123 | |
| CVDistD_HC | 6.349 | 0.339 | 7.495 | |
| Children | 0.959 | 0.005 | 1.044 | |
| CountPep | 0.560 | 0.012 | 0.629 | |
| ExtendPalette | 0.064 | 0.004 | 0.078 | |
| GOAnalysisSave | 0 | 0 | 0 | |
| GetCC | 2.927 | 0.033 | 3.218 | |
| GetColorsForConditions | 0.474 | 0.005 | 0.514 | |
| GetDetailedNbPeptides | 0.524 | 0.005 | 0.580 | |
| GetDetailedNbPeptidesUsed | 0.000 | 0.001 | 0.001 | |
| GetIndices_BasedOnConditions | 0.506 | 0.007 | 0.559 | |
| GetIndices_MetacellFiltering | 0.528 | 0.007 | 0.583 | |
| GetIndices_WholeLine | 0.513 | 0.008 | 0.566 | |
| GetIndices_WholeMatrix | 0.516 | 0.009 | 0.568 | |
| GetKeyId | 0.480 | 0.008 | 0.527 | |
| GetMatAdj | 0.601 | 0.010 | 0.668 | |
| GetMetacell | 0.001 | 0.000 | 0.001 | |
| GetMetacellTags | 0.509 | 0.008 | 0.577 | |
| GetNbPeptidesUsed | 0.514 | 0.011 | 0.559 | |
| GetNbTags | 0.000 | 0.000 | 0.001 | |
| GetSoftAvailables | 0.001 | 0.001 | 0.001 | |
| GetTypeofData | 0.473 | 0.009 | 0.515 | |
| Get_AllComparisons | 0.451 | 0.022 | 0.498 | |
| GlobalQuantileAlignment | 0.501 | 0.006 | 0.530 | |
| GraphPepProt | 0.504 | 0.009 | 0.537 | |
| LH0 | 0.000 | 0.000 | 0.001 | |
| LH0.lm | 0.000 | 0.000 | 0.001 | |
| LH1 | 0.001 | 0.001 | 0.000 | |
| LH1.lm | 0.000 | 0.001 | 0.000 | |
| LOESS | 1.667 | 0.024 | 1.747 | |
| MeanCentering | 0.520 | 0.023 | 0.565 | |
| MetaCellFiltering | 0.875 | 0.009 | 0.974 | |
| MetacellFilteringScope | 0.000 | 0.000 | 0.002 | |
| Metacell_DIA_NN | 0.856 | 0.019 | 0.969 | |
| Metacell_generic | 0.771 | 0.021 | 0.862 | |
| Metacell_maxquant | 0.808 | 0.024 | 0.920 | |
| Metacell_proline | 0.769 | 0.016 | 0.894 | |
| NumericalFiltering | 0.589 | 0.009 | 0.647 | |
| NumericalgetIndicesOfLinesToRemove | 0.505 | 0.007 | 0.534 | |
| OWAnova | 0.010 | 0.001 | 0.013 | |
| QuantileCentering | 0.477 | 0.010 | 0.504 | |
| SetCC | 2.529 | 0.031 | 3.099 | |
| SetMatAdj | 0.595 | 0.006 | 0.682 | |
| Set_POV_MEC_tags | 0.515 | 0.006 | 0.587 | |
| StringBasedFiltering | 0.574 | 0.007 | 0.631 | |
| StringBasedFiltering2 | 0.568 | 0.007 | 0.644 | |
| SumByColumns | 3.473 | 0.043 | 3.980 | |
| SymFilteringOperators | 0.000 | 0.001 | 0.000 | |
| UpdateMetacellAfterImputation | 0.544 | 0.008 | 0.596 | |
| aggregateIter | 0.898 | 0.010 | 0.953 | |
| aggregateIterParallel | 0.000 | 0.001 | 0.001 | |
| aggregateMean | 0.693 | 0.008 | 0.748 | |
| aggregateSum | 0.744 | 0.010 | 0.864 | |
| aggregateTopn | 0.663 | 0.008 | 0.769 | |
| applyAnovasOnProteins | 0.155 | 0.003 | 0.181 | |
| averageIntensities | 1.060 | 0.259 | 1.652 | |
| barplotEnrichGO_HC | 15.250 | 3.225 | 22.876 | |
| barplotGroupGO_HC | 9.254 | 1.240 | 12.736 | |
| boxPlotD_HC | 0.520 | 0.158 | 0.806 | |
| buildGraph | 1.959 | 0.087 | 2.427 | |
| check.conditions | 0.467 | 0.008 | 0.534 | |
| check.design | 0.470 | 0.009 | 0.540 | |
| checkClusterability | 7.172 | 3.683 | 12.553 | |
| classic1wayAnova | 0 | 0 | 0 | |
| compareNormalizationD_HC | 0.226 | 0.093 | 0.333 | |
| compute.selection.table | 1.470 | 0.244 | 2.133 | |
| compute_t_tests | 2.565 | 0.384 | 3.798 | |
| corrMatrixD_HC | 0.763 | 0.131 | 1.102 | |
| createMSnset | 3.214 | 0.159 | 4.020 | |
| createMSnset2 | 3.181 | 0.156 | 3.937 | |
| dapar_hc_ExportMenu | 0.282 | 0.252 | 0.701 | |
| dapar_hc_chart | 0.121 | 0.085 | 0.295 | |
| deleteLinesFromIndices | 0.578 | 0.042 | 0.969 | |
| densityPlotD_HC | 6.324 | 2.415 | 10.311 | |
| diffAnaComputeAdjustedPValues | 0.278 | 0.068 | 0.452 | |
| diffAnaComputeFDR | 0.000 | 0.001 | 0.001 | |
| diffAnaGetSignificant | 0.492 | 0.100 | 0.743 | |
| diffAnaSave | 0.455 | 0.090 | 0.699 | |
| diffAnaVolcanoplot | 0.277 | 0.046 | 0.418 | |
| diffAnaVolcanoplot_rCharts | 0.700 | 0.207 | 1.163 | |
| display.CC.visNet | 2.208 | 0.141 | 2.912 | |
| enrich_GO | 8.560 | 1.092 | 12.251 | |
| finalizeAggregation | 0.000 | 0.000 | 0.001 | |
| findMECBlock | 0.493 | 0.037 | 0.816 | |
| formatHSDResults | 0.000 | 0.000 | 0.001 | |
| formatLimmaResult | 0.224 | 0.046 | 0.323 | |
| formatPHResults | 0.000 | 0.000 | 0.001 | |
| formatPHTResults | 0.001 | 0.000 | 0.000 | |
| fudge2LRT | 0 | 0 | 0 | |
| get.pep.prot.cc | 2.015 | 0.106 | 2.443 | |
| getDesignLevel | 0.455 | 0.007 | 0.511 | |
| getIndicesConditions | 0.461 | 0.008 | 0.510 | |
| getIndicesOfLinesToRemove | 0.510 | 0.023 | 0.696 | |
| getListNbValuesInLines | 0.455 | 0.008 | 0.500 | |
| getNumberOf | 0.507 | 0.020 | 0.611 | |
| getNumberOfEmptyLines | 0.535 | 0.014 | 0.642 | |
| getPourcentageOfMV | 0.508 | 0.022 | 0.618 | |
| getProcessingInfo | 0.460 | 0.008 | 0.514 | |
| getProteinsStats | 0.529 | 0.028 | 0.738 | |
| getQuantile4Imp | 0.094 | 0.004 | 0.115 | |
| getTextForAggregation | 0.000 | 0.001 | 0.001 | |
| getTextForAnaDiff | 0.001 | 0.000 | 0.001 | |
| getTextForFiltering | 0.001 | 0.001 | 0.001 | |
| getTextForGOAnalysis | 0.001 | 0.000 | 0.002 | |
| getTextForHypothesisTest | 0.000 | 0.000 | 0.001 | |
| getTextForNewDataset | 0.005 | 0.001 | 0.011 | |
| getTextForNormalization | 0.000 | 0.001 | 0.001 | |
| getTextForpeptideImputation | 0.001 | 0.000 | 0.001 | |
| getTextForproteinImputation | 0.001 | 0.000 | 0.001 | |
| globalAdjPval | 0.938 | 0.085 | 1.287 | |
| group_GO | 8.843 | 1.055 | 12.175 | |
| hc_logFC_DensityPlot | 1.265 | 0.535 | 2.146 | |
| hc_mvTypePlot2 | 1.698 | 0.489 | 2.659 | |
| heatmapD | 0.991 | 0.101 | 1.294 | |
| heatmapForMissingValues | 0.264 | 0.044 | 0.442 | |
| histPValue_HC | 0.374 | 0.135 | 0.661 | |
| impute.pa2 | 0.601 | 0.044 | 0.788 | |
| inner.aggregate.iter | 0.616 | 0.037 | 0.753 | |
| inner.aggregate.topn | 0.629 | 0.030 | 0.833 | |
| inner.mean | 0.555 | 0.024 | 0.765 | |
| inner.sum | 0.541 | 0.022 | 0.652 | |
| is.subset | 0.001 | 0.001 | 0.001 | |
| limmaCompleteTest | 3.426 | 0.116 | 4.221 | |
| listSheets | 0.000 | 0.001 | 0.001 | |
| make.contrast | 0.491 | 0.009 | 0.585 | |
| make.design.1 | 0.489 | 0.007 | 0.629 | |
| make.design.2 | 0.643 | 0.021 | 0.772 | |
| make.design.3 | 0.491 | 0.009 | 0.611 | |
| make.design | 0.490 | 0.007 | 0.556 | |
| match.metacell | 0.543 | 0.023 | 0.697 | |
| metacell.def | 0.012 | 0.005 | 0.017 | |
| metacellHisto_HC | 0.612 | 0.098 | 0.845 | |
| metacellPerLinesHistoPerCondition_HC | 0.831 | 0.192 | 1.224 | |
| metacellPerLinesHisto_HC | 1.120 | 0.462 | 1.931 | |
| metacombine | 0.163 | 0.012 | 0.214 | |
| mvImage | 5.654 | 0.339 | 7.356 | |
| my_hc_ExportMenu | 0.283 | 0.244 | 0.717 | |
| my_hc_chart | 0.285 | 0.240 | 0.698 | |
| nonzero | 0.030 | 0.003 | 0.041 | |
| normalizeMethods.dapar | 0.001 | 0.001 | 0.001 | |
| pepa.test | 0.540 | 0.022 | 0.693 | |
| pkgs.require | 0.000 | 0.000 | 0.001 | |
| plotJitter | 2.016 | 0.099 | 2.465 | |
| plotJitter_rCharts | 1.881 | 0.157 | 2.442 | |
| plotPCA_Eigen | 0.662 | 0.075 | 0.906 | |
| plotPCA_Eigen_hc | 0.464 | 0.012 | 0.544 | |
| plotPCA_Ind | 0.481 | 0.016 | 0.585 | |
| plotPCA_Var | 0.467 | 0.012 | 0.546 | |
| postHocTest | 0 | 0 | 0 | |
| proportionConRev_HC | 0.105 | 0.095 | 0.295 | |
| rbindMSnset | 0.677 | 0.065 | 0.934 | |
| reIntroduceMEC | 0.613 | 0.048 | 0.772 | |
| readExcel | 0.001 | 0.001 | 0.001 | |
| removeLines | 0.571 | 0.048 | 0.833 | |
| samLRT | 0.000 | 0.000 | 0.001 | |
| saveParameters | 0.476 | 0.018 | 0.620 | |
| scatterplotEnrichGO_HC | 8.803 | 1.249 | 11.792 | |
| search.metacell.tags | 0.017 | 0.005 | 0.026 | |
| separateAdjPval | 0.264 | 0.030 | 0.364 | |
| splitAdjacencyMat | 0.545 | 0.029 | 0.679 | |
| test.design | 0.501 | 0.013 | 0.622 | |
| testAnovaModels | 0.168 | 0.024 | 0.262 | |
| thresholdpval4fdr | 0 | 0 | 0 | |
| translatedRandomBeta | 0.007 | 0.028 | 0.035 | |
| univ_AnnotDbPkg | 0.309 | 0.188 | 0.617 | |
| violinPlotD | 0.632 | 0.060 | 1.000 | |
| visualizeClusters | 2.824 | 0.377 | 3.933 | |
| vsn | 0.930 | 0.029 | 1.141 | |
| wrapper.CVDistD_HC | 4.531 | 1.805 | 7.434 | |
| wrapper.compareNormalizationD_HC | 110.379 | 45.080 | 180.763 | |
| wrapper.corrMatrixD_HC | 0.839 | 0.124 | 1.201 | |
| wrapper.dapar.impute.mi | 33.484 | 1.858 | 41.595 | |
| wrapper.heatmapD | 0.855 | 0.077 | 1.093 | |
| wrapper.impute.KNN | 0.614 | 0.070 | 0.799 | |
| wrapper.impute.detQuant | 0.624 | 0.057 | 0.757 | |
| wrapper.impute.fixedValue | 0.655 | 0.063 | 0.855 | |
| wrapper.impute.mle | 0.561 | 0.033 | 0.673 | |
| wrapper.impute.pa | 0.199 | 0.033 | 0.265 | |
| wrapper.impute.pa2 | 0.582 | 0.047 | 0.812 | |
| wrapper.impute.slsa | 0.895 | 0.071 | 1.172 | |
| wrapper.mvImage | 0.254 | 0.045 | 0.333 | |
| wrapper.normalizeD | 0.477 | 0.016 | 0.629 | |
| wrapper.pca | 0.225 | 0.048 | 0.326 | |
| wrapperCalibrationPlot | 0.279 | 0.057 | 0.361 | |
| wrapperClassic1wayAnova | 0.000 | 0.001 | 0.001 | |
| wrapperRunClustering | 4.781 | 0.787 | 6.638 | |
| write.excel | 1.355 | 0.261 | 1.951 | |
| writeMSnsetToCSV | 0.531 | 0.038 | 0.732 | |
| writeMSnsetToExcel | 1.847 | 0.387 | 2.698 | |