| Back to Multiple platform build/check report for BioC 3.20: simplified long | 
 | 
This page was generated on 2024-11-20 12:02 -0500 (Wed, 20 Nov 2024).
| Hostname | OS | Arch (*) | R version | Installed pkgs | 
|---|---|---|---|---|
| teran2 | Linux (Ubuntu 24.04.1 LTS) | x86_64 | 4.4.2 (2024-10-31) -- "Pile of Leaves" | 4481 | 
| nebbiolo2 | Linux (Ubuntu 24.04.1 LTS) | x86_64 | 4.4.2 (2024-10-31) -- "Pile of Leaves" | 4479 | 
| palomino8 | Windows Server 2022 Datacenter | x64 | 4.4.2 (2024-10-31 ucrt) -- "Pile of Leaves" | 4359 | 
| lconway | macOS 12.7.1 Monterey | x86_64 | 4.4.1 (2024-06-14) -- "Race for Your Life" | 4539 | 
| kunpeng2 | Linux (openEuler 22.03 LTS-SP1) | aarch64 | 4.4.1 (2024-06-14) -- "Race for Your Life" | 4493 | 
| Click on any hostname to see more info about the system (e.g. compilers) (*) as reported by 'uname -p', except on Windows and Mac OS X | ||||
| Package 368/2289 | Hostname | OS / Arch | INSTALL | BUILD | CHECK | BUILD BIN | ||||||||
| Clomial 1.42.0  (landing page) Habil Zare 
 | teran2 | Linux (Ubuntu 24.04.1 LTS) / x86_64 | OK | OK | OK |  | ||||||||
| nebbiolo2 | Linux (Ubuntu 24.04.1 LTS) / x86_64 | OK | OK | OK | ||||||||||
| palomino8 | Windows Server 2022 Datacenter / x64 | OK | OK | OK | OK |  | ||||||||
| lconway | macOS 12.7.1 Monterey / x86_64 | OK | OK | OK | OK |  | ||||||||
| kunpeng2 | Linux (openEuler 22.03 LTS-SP1) / aarch64 | OK | OK | OK | ||||||||||
| To the developers/maintainers of the Clomial package: - Allow up to 24 hours (and sometimes 48 hours) for your latest push to git@git.bioconductor.org:packages/Clomial.git to reflect on this report. See Troubleshooting Build Report for more information. - Use the following Renviron settings to reproduce errors and warnings. - If 'R CMD check' started to fail recently on the Linux builder(s) over a missing dependency, add the missing dependency to 'Suggests:' in your DESCRIPTION file. See Renviron.bioc for more information. | 
| Package: Clomial | 
| Version: 1.42.0 | 
| Command: /home/biocbuild/bbs-3.20-bioc/R/bin/R CMD check --install=check:Clomial.install-out.txt --library=/home/biocbuild/bbs-3.20-bioc/R/site-library --timings Clomial_1.42.0.tar.gz | 
| StartedAt: 2024-11-20 00:28:26 -0500 (Wed, 20 Nov 2024) | 
| EndedAt: 2024-11-20 00:30:02 -0500 (Wed, 20 Nov 2024) | 
| EllapsedTime: 96.0 seconds | 
| RetCode: 0 | 
| Status: OK | 
| CheckDir: Clomial.Rcheck | 
| Warnings: 0 | 
##############################################################################
##############################################################################
###
### Running command:
###
###   /home/biocbuild/bbs-3.20-bioc/R/bin/R CMD check --install=check:Clomial.install-out.txt --library=/home/biocbuild/bbs-3.20-bioc/R/site-library --timings Clomial_1.42.0.tar.gz
###
##############################################################################
##############################################################################
* using log directory ‘/media/volume/teran2_disk/biocbuild/bbs-3.20-bioc/meat/Clomial.Rcheck’
* using R version 4.4.2 (2024-10-31)
* using platform: x86_64-pc-linux-gnu
* R was compiled by
    gcc (Ubuntu 13.2.0-23ubuntu4) 13.2.0
    GNU Fortran (Ubuntu 13.2.0-23ubuntu4) 13.2.0
* running under: Ubuntu 24.04.1 LTS
* using session charset: UTF-8
* checking for file ‘Clomial/DESCRIPTION’ ... OK
* checking extension type ... Package
* this is package ‘Clomial’ version ‘1.42.0’
* checking package namespace information ... OK
* checking package dependencies ... OK
* checking if this is a source package ... OK
* checking if there is a namespace ... OK
* checking for hidden files and directories ... OK
* checking for portable file names ... OK
* checking for sufficient/correct file permissions ... OK
* checking whether package ‘Clomial’ can be installed ... OK
* checking installed package size ... OK
* checking package directory ... OK
* checking ‘build’ directory ... OK
* checking DESCRIPTION meta-information ... OK
* checking top-level files ... OK
* checking for left-over files ... OK
* checking index information ... OK
* checking package subdirectories ... OK
* checking code files for non-ASCII characters ... OK
* checking R files for syntax errors ... OK
* checking whether the package can be loaded ... OK
* checking whether the package can be loaded with stated dependencies ... OK
* checking whether the package can be unloaded cleanly ... OK
* checking whether the namespace can be loaded with stated dependencies ... OK
* checking whether the namespace can be unloaded cleanly ... OK
* checking loading without being on the library search path ... OK
* checking dependencies in R code ... OK
* checking S3 generic/method consistency ... OK
* checking replacement functions ... OK
* checking foreign function calls ... OK
* checking R code for possible problems ... NOTE
Clomial: no visible global function definition for ‘runif’
Clomial.generate.data: no visible global function definition for
  ‘runif’
Clomial.generate.data: no visible global function definition for
  ‘rbinom’
Clomial.likelihood: no visible global function definition for ‘dbinom’
Phi: no visible global function definition for ‘dbinom’
choose.best: no visible global function definition for ‘tail’
compute.P.reparam : update.Wj: no visible global function definition
  for ‘optim’
compute.q: no visible global function definition for ‘dbinom’
Undefined global functions or variables:
  dbinom optim rbinom runif tail
Consider adding
  importFrom("stats", "dbinom", "optim", "rbinom", "runif")
  importFrom("utils", "tail")
to your NAMESPACE file.
* checking Rd files ... OK
* checking Rd metadata ... OK
* checking Rd cross-references ... OK
* checking for missing documentation entries ... OK
* checking for code/documentation mismatches ... OK
* checking Rd \usage sections ... OK
* checking Rd contents ... OK
* checking for unstated dependencies in examples ... OK
* checking contents of ‘data’ directory ... OK
* checking data for non-ASCII characters ... OK
* checking data for ASCII and uncompressed saves ... OK
* checking files in ‘vignettes’ ... OK
* checking examples ... OK
Examples with CPU (user + system) or elapsed time > 5s
                     user system elapsed
choose.best        18.992  1.402  24.295
Clomial             7.010  0.523   7.819
Clomial-package     6.552  0.466   7.295
compute.bic         4.869  0.301   5.574
Clomial.likelihood  3.998  0.652   5.091
* checking for unstated dependencies in vignettes ... OK
* checking package vignettes ... OK
* checking re-building of vignette outputs ... OK
* checking PDF version of manual ... OK
* DONE
Status: 1 NOTE
See
  ‘/media/volume/teran2_disk/biocbuild/bbs-3.20-bioc/meat/Clomial.Rcheck/00check.log’
for details.
Clomial.Rcheck/00install.out
############################################################################## ############################################################################## ### ### Running command: ### ### /home/biocbuild/bbs-3.20-bioc/R/bin/R CMD INSTALL Clomial ### ############################################################################## ############################################################################## * installing to library ‘/media/volume/teran2_disk/biocbuild/bbs-3.20-bioc/R/site-library’ * installing *source* package ‘Clomial’ ... ** using staged installation ** R ** data ** inst ** byte-compile and prepare package for lazy loading ** help *** installing help indices ** building package indices ** installing vignettes ** testing if installed package can be loaded from temporary location ** testing if installed package can be loaded from final location ** testing if installed package keeps a record of temporary installation path * DONE (Clomial)
Clomial.Rcheck/Clomial-Ex.timings
| name | user | system | elapsed | |
| Clomial-package | 6.552 | 0.466 | 7.295 | |
| Clomial | 7.010 | 0.523 | 7.819 | |
| Clomial.generate.data | 0.019 | 0.000 | 0.019 | |
| Clomial.iterate | 3.125 | 0.230 | 3.593 | |
| Clomial.likelihood | 3.998 | 0.652 | 5.091 | |
| Clomial1000 | 0.113 | 0.008 | 0.129 | |
| breastCancer | 0.001 | 0.000 | 0.002 | |
| choose.best | 18.992 | 1.402 | 24.295 | |
| compute.bic | 4.869 | 0.301 | 5.574 | |
| compute.errors | 1.879 | 0.148 | 2.248 | |