| Back to Multiple platform build/check report for BioC 3.20: simplified long | 
 | 
This page was generated on 2025-04-02 19:31 -0400 (Wed, 02 Apr 2025).
| Hostname | OS | Arch (*) | R version | Installed pkgs | 
|---|---|---|---|---|
| nebbiolo2 | Linux (Ubuntu 24.04.1 LTS) | x86_64 | 4.4.3 (2025-02-28) -- "Trophy Case" | 4764 | 
| palomino8 | Windows Server 2022 Datacenter | x64 | 4.4.3 (2025-02-28 ucrt) -- "Trophy Case" | 4495 | 
| merida1 | macOS 12.7.5 Monterey | x86_64 | 4.4.3 (2025-02-28) -- "Trophy Case" | 4522 | 
| kjohnson1 | macOS 13.6.6 Ventura | arm64 | 4.4.3 (2025-02-28) -- "Trophy Case" | 4449 | 
| taishan | Linux (openEuler 24.03 LTS) | aarch64 | 4.4.3 (2025-02-28) -- "Trophy Case" | 4426 | 
| Click on any hostname to see more info about the system (e.g. compilers) (*) as reported by 'uname -p', except on Windows and Mac OS X | ||||
| Package 368/2289 | Hostname | OS / Arch | INSTALL | BUILD | CHECK | BUILD BIN | ||||||||
| Clomial 1.42.0  (landing page) Habil Zare 
 | nebbiolo2 | Linux (Ubuntu 24.04.1 LTS) / x86_64 | OK | OK | OK |  | ||||||||
| palomino8 | Windows Server 2022 Datacenter / x64 | OK | OK | OK | OK |  | ||||||||
| merida1 | macOS 12.7.5 Monterey / x86_64 | OK | OK | OK | OK |  | ||||||||
| kjohnson1 | macOS 13.6.6 Ventura / arm64 | OK | OK | OK | OK |  | ||||||||
| taishan | Linux (openEuler 24.03 LTS) / aarch64 | OK | OK | OK | ||||||||||
| To the developers/maintainers of the Clomial package: - Allow up to 24 hours (and sometimes 48 hours) for your latest push to git@git.bioconductor.org:packages/Clomial.git to reflect on this report. See Troubleshooting Build Report for more information. - Use the following Renviron settings to reproduce errors and warnings. - If 'R CMD check' started to fail recently on the Linux builder(s) over a missing dependency, add the missing dependency to 'Suggests:' in your DESCRIPTION file. See Renviron.bioc for more information. | 
| Package: Clomial | 
| Version: 1.42.0 | 
| Command: /Library/Frameworks/R.framework/Resources/bin/R CMD check --install=check:Clomial.install-out.txt --library=/Library/Frameworks/R.framework/Resources/library --no-vignettes --timings Clomial_1.42.0.tar.gz | 
| StartedAt: 2025-04-01 00:50:50 -0400 (Tue, 01 Apr 2025) | 
| EndedAt: 2025-04-01 00:56:18 -0400 (Tue, 01 Apr 2025) | 
| EllapsedTime: 327.5 seconds | 
| RetCode: 0 | 
| Status: OK | 
| CheckDir: Clomial.Rcheck | 
| Warnings: 0 | 
##############################################################################
##############################################################################
###
### Running command:
###
###   /Library/Frameworks/R.framework/Resources/bin/R CMD check --install=check:Clomial.install-out.txt --library=/Library/Frameworks/R.framework/Resources/library --no-vignettes --timings Clomial_1.42.0.tar.gz
###
##############################################################################
##############################################################################
* using log directory ‘/Users/biocbuild/bbs-3.20-bioc/meat/Clomial.Rcheck’
* using R version 4.4.3 (2025-02-28)
* using platform: x86_64-apple-darwin20
* R was compiled by
    Apple clang version 14.0.0 (clang-1400.0.29.202)
    GNU Fortran (GCC) 12.2.0
* running under: macOS Monterey 12.7.6
* using session charset: UTF-8
* using option ‘--no-vignettes’
* checking for file ‘Clomial/DESCRIPTION’ ... OK
* checking extension type ... Package
* this is package ‘Clomial’ version ‘1.42.0’
* checking package namespace information ... OK
* checking package dependencies ... OK
* checking if this is a source package ... OK
* checking if there is a namespace ... OK
* checking for hidden files and directories ... OK
* checking for portable file names ... OK
* checking for sufficient/correct file permissions ... OK
* checking whether package ‘Clomial’ can be installed ... OK
* checking installed package size ... OK
* checking package directory ... OK
* checking ‘build’ directory ... OK
* checking DESCRIPTION meta-information ... OK
* checking top-level files ... OK
* checking for left-over files ... OK
* checking index information ... OK
* checking package subdirectories ... OK
* checking code files for non-ASCII characters ... OK
* checking R files for syntax errors ... OK
* checking whether the package can be loaded ... OK
* checking whether the package can be loaded with stated dependencies ... OK
* checking whether the package can be unloaded cleanly ... OK
* checking whether the namespace can be loaded with stated dependencies ... OK
* checking whether the namespace can be unloaded cleanly ... OK
* checking dependencies in R code ... OK
* checking S3 generic/method consistency ... OK
* checking replacement functions ... OK
* checking foreign function calls ... OK
* checking R code for possible problems ... NOTE
Clomial: no visible global function definition for ‘runif’
Clomial.generate.data: no visible global function definition for
  ‘runif’
Clomial.generate.data: no visible global function definition for
  ‘rbinom’
Clomial.likelihood: no visible global function definition for ‘dbinom’
Phi: no visible global function definition for ‘dbinom’
choose.best: no visible global function definition for ‘tail’
compute.P.reparam : update.Wj: no visible global function definition
  for ‘optim’
compute.q: no visible global function definition for ‘dbinom’
Undefined global functions or variables:
  dbinom optim rbinom runif tail
Consider adding
  importFrom("stats", "dbinom", "optim", "rbinom", "runif")
  importFrom("utils", "tail")
to your NAMESPACE file.
* checking Rd files ... OK
* checking Rd metadata ... OK
* checking Rd cross-references ... OK
* checking for missing documentation entries ... OK
* checking for code/documentation mismatches ... OK
* checking Rd \usage sections ... OK
* checking Rd contents ... OK
* checking for unstated dependencies in examples ... OK
* checking contents of ‘data’ directory ... OK
* checking data for non-ASCII characters ... OK
* checking data for ASCII and uncompressed saves ... OK
* checking sizes of PDF files under ‘inst/doc’ ... OK
* checking files in ‘vignettes’ ... OK
* checking examples ... OK
Examples with CPU (user + system) or elapsed time > 5s
                     user system elapsed
choose.best        80.331 16.084 100.974
Clomial-package    29.386  5.715  39.815
Clomial            29.011  5.724  37.695
compute.bic        22.723  5.146  29.179
Clomial.likelihood 14.487  2.873  18.425
Clomial.iterate    14.469  2.762  18.352
compute.errors      8.514  1.680  10.874
* checking for unstated dependencies in vignettes ... OK
* checking package vignettes ... OK
* checking running R code from vignettes ... SKIPPED
* checking re-building of vignette outputs ... SKIPPED
* checking PDF version of manual ... OK
* DONE
Status: 1 NOTE
See
  ‘/Users/biocbuild/bbs-3.20-bioc/meat/Clomial.Rcheck/00check.log’
for details.
Clomial.Rcheck/00install.out
############################################################################## ############################################################################## ### ### Running command: ### ### /Library/Frameworks/R.framework/Resources/bin/R CMD INSTALL Clomial ### ############################################################################## ############################################################################## * installing to library ‘/Library/Frameworks/R.framework/Versions/4.4-x86_64/Resources/library’ * installing *source* package ‘Clomial’ ... ** using staged installation ** R ** data ** inst ** byte-compile and prepare package for lazy loading ** help *** installing help indices ** building package indices ** installing vignettes ** testing if installed package can be loaded from temporary location ** testing if installed package can be loaded from final location ** testing if installed package keeps a record of temporary installation path * DONE (Clomial)
Clomial.Rcheck/Clomial-Ex.timings
| name | user | system | elapsed | |
| Clomial-package | 29.386 | 5.715 | 39.815 | |
| Clomial | 29.011 | 5.724 | 37.695 | |
| Clomial.generate.data | 0.062 | 0.004 | 0.070 | |
| Clomial.iterate | 14.469 | 2.762 | 18.352 | |
| Clomial.likelihood | 14.487 | 2.873 | 18.425 | |
| Clomial1000 | 0.461 | 0.017 | 0.493 | |
| breastCancer | 0.003 | 0.005 | 0.009 | |
| choose.best | 80.331 | 16.084 | 100.974 | |
| compute.bic | 22.723 | 5.146 | 29.179 | |
| compute.errors | 8.514 | 1.680 | 10.874 | |