| Back to Multiple platform build/check report for BioC 3.20: simplified long | 
 | 
This page was generated on 2024-11-20 12:07 -0500 (Wed, 20 Nov 2024).
| Hostname | OS | Arch (*) | R version | Installed pkgs | 
|---|---|---|---|---|
| teran2 | Linux (Ubuntu 24.04.1 LTS) | x86_64 | 4.4.2 (2024-10-31) -- "Pile of Leaves" | 4481 | 
| nebbiolo2 | Linux (Ubuntu 24.04.1 LTS) | x86_64 | 4.4.2 (2024-10-31) -- "Pile of Leaves" | 4479 | 
| palomino8 | Windows Server 2022 Datacenter | x64 | 4.4.2 (2024-10-31 ucrt) -- "Pile of Leaves" | 4359 | 
| lconway | macOS 12.7.1 Monterey | x86_64 | 4.4.1 (2024-06-14) -- "Race for Your Life" | 4539 | 
| kunpeng2 | Linux (openEuler 22.03 LTS-SP1) | aarch64 | 4.4.1 (2024-06-14) -- "Race for Your Life" | 4493 | 
| Click on any hostname to see more info about the system (e.g. compilers) (*) as reported by 'uname -p', except on Windows and Mac OS X | ||||
| Package 359/2289 | Hostname | OS / Arch | INSTALL | BUILD | CHECK | BUILD BIN | ||||||||
| ClassifyR 3.10.0  (landing page) Dario Strbenac 
 | teran2 | Linux (Ubuntu 24.04.1 LTS) / x86_64 | OK | OK | OK |  | ||||||||
| nebbiolo2 | Linux (Ubuntu 24.04.1 LTS) / x86_64 | OK | OK | OK | ||||||||||
| palomino8 | Windows Server 2022 Datacenter / x64 | OK | OK | OK | OK |  | ||||||||
| lconway | macOS 12.7.1 Monterey / x86_64 | OK | OK | WARNINGS | OK |  | ||||||||
| kunpeng2 | Linux (openEuler 22.03 LTS-SP1) / aarch64 | OK | OK | OK | ||||||||||
| To the developers/maintainers of the ClassifyR package: - Allow up to 24 hours (and sometimes 48 hours) for your latest push to git@git.bioconductor.org:packages/ClassifyR.git to reflect on this report. See Troubleshooting Build Report for more information. - Use the following Renviron settings to reproduce errors and warnings. - If 'R CMD check' started to fail recently on the Linux builder(s) over a missing dependency, add the missing dependency to 'Suggests:' in your DESCRIPTION file. See Renviron.bioc for more information. - See Martin Grigorov's blog post for how to debug Linux ARM64 related issues on a x86_64 host. | 
| Package: ClassifyR | 
| Version: 3.10.0 | 
| Command: /home/biocbuild/R/R/bin/R CMD INSTALL ClassifyR | 
| StartedAt: 2024-11-19 21:29:32 -0000 (Tue, 19 Nov 2024) | 
| EndedAt: 2024-11-19 21:30:20 -0000 (Tue, 19 Nov 2024) | 
| EllapsedTime: 48.2 seconds | 
| RetCode: 0 | 
| Status: OK | 
##############################################################################
##############################################################################
###
### Running command:
###
###   /home/biocbuild/R/R/bin/R CMD INSTALL ClassifyR
###
##############################################################################
##############################################################################
* installing to library ‘/home/biocbuild/R/R-4.4.1/site-library’
* installing *source* package ‘ClassifyR’ ...
** using staged installation
** libs
using C++ compiler: ‘g++ (conda-forge gcc 14.2.0-1) 14.2.0’
using C++11
g++ -std=gnu++11 -I"/home/biocbuild/R/R-4.4.1/include" -DNDEBUG   -I/usr/local/include    -fPIC  -g -O2  -Wall  -c coxformatrices.cpp -o coxformatrices.o
coxformatrices.cpp: In function 'void coxmat(double*, int*, int*, double*, double*, double*, int*, int*, int*, double*, int*, double*, double*, int*, double*, double*, double*, double*, double*, int*, double*, double*, double*, double*, double*, double*)':
coxformatrices.cpp:23:16: warning: unused variable 'sclback2' [-Wunused-variable]
   23 |         double sclback2=*sctest2;
      |                ^~~~~~~~
coxformatrices.cpp:24:16: warning: unused variable 'sclback3' [-Wunused-variable]
   24 |         double sclback3=*sctest3;
      |                ^~~~~~~~
g++ -std=gnu++11 -shared -L/home/biocbuild/R/R-4.4.1/lib -L/usr/local/lib -o ClassifyR.so coxformatrices.o -L/home/biocbuild/R/R-4.4.1/lib -lR
installing to /home/biocbuild/R/R-4.4.1/site-library/00LOCK-ClassifyR/00new/ClassifyR/libs
** R
** data
** inst
** byte-compile and prepare package for lazy loading
in method for ‘ROCplot’ with signature ‘"ClassifyResult"’: no definition for class “ClassifyResult”
** help
*** installing help indices
*** copying figures
** building package indices
** installing vignettes
** testing if installed package can be loaded from temporary location
** checking absolute paths in shared objects and dynamic libraries
** testing if installed package can be loaded from final location
** testing if installed package keeps a record of temporary installation path
* DONE (ClassifyR)