| Back to Multiple platform build/check report for BioC 3.20: simplified long |
|
This page was generated on 2024-11-20 12:07 -0500 (Wed, 20 Nov 2024).
| Hostname | OS | Arch (*) | R version | Installed pkgs |
|---|---|---|---|---|
| teran2 | Linux (Ubuntu 24.04.1 LTS) | x86_64 | 4.4.2 (2024-10-31) -- "Pile of Leaves" | 4481 |
| nebbiolo2 | Linux (Ubuntu 24.04.1 LTS) | x86_64 | 4.4.2 (2024-10-31) -- "Pile of Leaves" | 4479 |
| palomino8 | Windows Server 2022 Datacenter | x64 | 4.4.2 (2024-10-31 ucrt) -- "Pile of Leaves" | 4359 |
| lconway | macOS 12.7.1 Monterey | x86_64 | 4.4.1 (2024-06-14) -- "Race for Your Life" | 4539 |
| kunpeng2 | Linux (openEuler 22.03 LTS-SP1) | aarch64 | 4.4.1 (2024-06-14) -- "Race for Your Life" | 4493 |
| Click on any hostname to see more info about the system (e.g. compilers) (*) as reported by 'uname -p', except on Windows and Mac OS X | ||||
| Package 337/2289 | Hostname | OS / Arch | INSTALL | BUILD | CHECK | BUILD BIN | ||||||||
| ChIPpeakAnno 3.40.0 (landing page) Jianhong Ou
| teran2 | Linux (Ubuntu 24.04.1 LTS) / x86_64 | OK | OK | OK | |||||||||
| nebbiolo2 | Linux (Ubuntu 24.04.1 LTS) / x86_64 | OK | OK | OK | ||||||||||
| palomino8 | Windows Server 2022 Datacenter / x64 | OK | OK | OK | OK | |||||||||
| lconway | macOS 12.7.1 Monterey / x86_64 | OK | OK | OK | OK | |||||||||
| kunpeng2 | Linux (openEuler 22.03 LTS-SP1) / aarch64 | OK | OK | OK | ||||||||||
|
To the developers/maintainers of the ChIPpeakAnno package: - Allow up to 24 hours (and sometimes 48 hours) for your latest push to git@git.bioconductor.org:packages/ChIPpeakAnno.git to reflect on this report. See Troubleshooting Build Report for more information. - Use the following Renviron settings to reproduce errors and warnings. - If 'R CMD check' started to fail recently on the Linux builder(s) over a missing dependency, add the missing dependency to 'Suggests:' in your DESCRIPTION file. See Renviron.bioc for more information. - See Martin Grigorov's blog post for how to debug Linux ARM64 related issues on a x86_64 host. |
| Package: ChIPpeakAnno |
| Version: 3.40.0 |
| Command: /home/biocbuild/R/R/bin/R CMD check --install=check:ChIPpeakAnno.install-out.txt --library=/home/biocbuild/R/R/site-library --no-vignettes --timings ChIPpeakAnno_3.40.0.tar.gz |
| StartedAt: 2024-11-20 06:10:55 -0000 (Wed, 20 Nov 2024) |
| EndedAt: 2024-11-20 06:24:59 -0000 (Wed, 20 Nov 2024) |
| EllapsedTime: 843.5 seconds |
| RetCode: 0 |
| Status: OK |
| CheckDir: ChIPpeakAnno.Rcheck |
| Warnings: 0 |
##############################################################################
##############################################################################
###
### Running command:
###
### /home/biocbuild/R/R/bin/R CMD check --install=check:ChIPpeakAnno.install-out.txt --library=/home/biocbuild/R/R/site-library --no-vignettes --timings ChIPpeakAnno_3.40.0.tar.gz
###
##############################################################################
##############################################################################
* using log directory ‘/home/biocbuild/bbs-3.20-bioc/meat/ChIPpeakAnno.Rcheck’
* using R version 4.4.1 (2024-06-14)
* using platform: aarch64-unknown-linux-gnu
* R was compiled by
gcc (GCC) 12.2.1 20220819 (openEuler 12.2.1-14)
GNU Fortran (GCC) 10.3.1
* running under: openEuler 22.03 (LTS-SP1)
* using session charset: UTF-8
* using option ‘--no-vignettes’
* checking for file ‘ChIPpeakAnno/DESCRIPTION’ ... OK
* checking extension type ... Package
* this is package ‘ChIPpeakAnno’ version ‘3.40.0’
* package encoding: UTF-8
* checking package namespace information ... OK
* checking package dependencies ... OK
* checking if this is a source package ... OK
* checking if there is a namespace ... OK
* checking for hidden files and directories ... OK
* checking for portable file names ... OK
* checking for sufficient/correct file permissions ... OK
* checking whether package ‘ChIPpeakAnno’ can be installed ... OK
* checking installed package size ... NOTE
installed size is 21.1Mb
sub-directories of 1Mb or more:
R 1.0Mb
data 12.6Mb
extdata 7.2Mb
* checking package directory ... OK
* checking ‘build’ directory ... OK
* checking DESCRIPTION meta-information ... OK
* checking top-level files ... OK
* checking for left-over files ... OK
* checking index information ... OK
* checking package subdirectories ... OK
* checking code files for non-ASCII characters ... OK
* checking R files for syntax errors ... OK
* checking whether the package can be loaded ... OK
* checking whether the package can be loaded with stated dependencies ... OK
* checking whether the package can be unloaded cleanly ... OK
* checking whether the namespace can be loaded with stated dependencies ... OK
* checking whether the namespace can be unloaded cleanly ... OK
* checking loading without being on the library search path ... OK
* checking dependencies in R code ... OK
* checking S3 generic/method consistency ... OK
* checking replacement functions ... OK
* checking foreign function calls ... OK
* checking R code for possible problems ... OK
* checking Rd files ... OK
* checking Rd metadata ... OK
* checking Rd cross-references ... OK
* checking for missing documentation entries ... OK
* checking for code/documentation mismatches ... OK
* checking Rd \usage sections ... OK
* checking Rd contents ... OK
* checking for unstated dependencies in examples ... OK
* checking contents of ‘data’ directory ... OK
* checking data for non-ASCII characters ... OK
* checking LazyData ... OK
* checking data for ASCII and uncompressed saves ... OK
* checking files in ‘vignettes’ ... OK
* checking examples ... OK
Examples with CPU (user + system) or elapsed time > 5s
user system elapsed
findEnhancers 32.871 0.658 33.598
findMotifsInPromoterSeqs 19.407 0.188 19.699
annotatePeakInBatch 17.274 1.078 18.389
summarizeOverlapsByBins 6.688 0.477 6.841
annoPeaks 3.872 0.311 20.137
* checking for unstated dependencies in ‘tests’ ... OK
* checking tests ...
Running ‘runTests.R’
OK
* checking for unstated dependencies in vignettes ... OK
* checking package vignettes ... OK
* checking running R code from vignettes ... SKIPPED
* checking re-building of vignette outputs ... SKIPPED
* checking PDF version of manual ... OK
* DONE
Status: 1 NOTE
See
‘/home/biocbuild/bbs-3.20-bioc/meat/ChIPpeakAnno.Rcheck/00check.log’
for details.
ChIPpeakAnno.Rcheck/00install.out
############################################################################## ############################################################################## ### ### Running command: ### ### /home/biocbuild/R/R/bin/R CMD INSTALL ChIPpeakAnno ### ############################################################################## ############################################################################## * installing to library ‘/home/biocbuild/R/R-4.4.1/site-library’ * installing *source* package ‘ChIPpeakAnno’ ... ** using staged installation ** R ** data *** moving datasets to lazyload DB ** inst ** byte-compile and prepare package for lazy loading ** help *** installing help indices ** building package indices ** installing vignettes ** testing if installed package can be loaded from temporary location ** testing if installed package can be loaded from final location ** testing if installed package keeps a record of temporary installation path * DONE (ChIPpeakAnno)
ChIPpeakAnno.Rcheck/tests/runTests.Rout
R version 4.4.1 (2024-06-14) -- "Race for Your Life"
Copyright (C) 2024 The R Foundation for Statistical Computing
Platform: aarch64-unknown-linux-gnu
R is free software and comes with ABSOLUTELY NO WARRANTY.
You are welcome to redistribute it under certain conditions.
Type 'license()' or 'licence()' for distribution details.
R is a collaborative project with many contributors.
Type 'contributors()' for more information and
'citation()' on how to cite R or R packages in publications.
Type 'demo()' for some demos, 'help()' for on-line help, or
'help.start()' for an HTML browser interface to help.
Type 'q()' to quit R.
> require("ChIPpeakAnno") || stop("unable to load Package:ChIPpeakAnno")
Loading required package: ChIPpeakAnno
Loading required package: IRanges
Loading required package: BiocGenerics
Attaching package: 'BiocGenerics'
The following objects are masked from 'package:stats':
IQR, mad, sd, var, xtabs
The following objects are masked from 'package:base':
Filter, Find, Map, Position, Reduce, anyDuplicated, aperm, append,
as.data.frame, basename, cbind, colnames, dirname, do.call,
duplicated, eval, evalq, get, grep, grepl, intersect, is.unsorted,
lapply, mapply, match, mget, order, paste, pmax, pmax.int, pmin,
pmin.int, rank, rbind, rownames, sapply, saveRDS, setdiff, table,
tapply, union, unique, unsplit, which.max, which.min
Loading required package: S4Vectors
Loading required package: stats4
Attaching package: 'S4Vectors'
The following object is masked from 'package:utils':
findMatches
The following objects are masked from 'package:base':
I, expand.grid, unname
Loading required package: GenomicRanges
Loading required package: GenomeInfoDb
[1] TRUE
> require("BSgenome.Drerio.UCSC.danRer7") || stop("unable to load Package:BSgenome.Drerio.UCSC.danRer7")
Loading required package: BSgenome.Drerio.UCSC.danRer7
Loading required package: BSgenome
Loading required package: Biostrings
Loading required package: XVector
Attaching package: 'Biostrings'
The following object is masked from 'package:base':
strsplit
Loading required package: BiocIO
Loading required package: rtracklayer
Attaching package: 'rtracklayer'
The following object is masked from 'package:BiocIO':
FileForFormat
[1] TRUE
> require("BSgenome.Hsapiens.UCSC.hg19") || stop("unable to load Package:BSgenome.Hsapiens.UCSC.hg19")
Loading required package: BSgenome.Hsapiens.UCSC.hg19
[1] TRUE
> require("org.Hs.eg.db") || stop("unable to load Package:org.Hs.eg.db")
Loading required package: org.Hs.eg.db
Loading required package: AnnotationDbi
Loading required package: Biobase
Welcome to Bioconductor
Vignettes contain introductory material; view with
'browseVignettes()'. To cite Bioconductor, see
'citation("Biobase")', and for packages 'citation("pkgname")'.
[1] TRUE
> require("org.Ce.eg.db") || stop("unable to load Package:org.Ce.eg.db")
Loading required package: org.Ce.eg.db
[1] TRUE
> require("BSgenome.Celegans.UCSC.ce10") || stop("unable to load Package:BSgenome.Celegans.UCSC.ce10")
Loading required package: BSgenome.Celegans.UCSC.ce10
[1] TRUE
> require("EnsDb.Hsapiens.v79") || stop("unable to load Package:EnsDb.Hsapiens.v79")
Loading required package: EnsDb.Hsapiens.v79
Loading required package: ensembldb
Loading required package: GenomicFeatures
Loading required package: AnnotationFilter
Attaching package: 'ensembldb'
The following object is masked from 'package:stats':
filter
[1] TRUE
> require("TxDb.Hsapiens.UCSC.hg38.knownGene") || stop("unable to load TxDb.Hsapiens.UCSC.hg38.knownGene")
Loading required package: TxDb.Hsapiens.UCSC.hg38.knownGene
[1] TRUE
> require("biomaRt") || stop("unable to load biomaRt")
Loading required package: biomaRt
[1] TRUE
> require("reactome.db") || stop("unable to load reactome.db")
Loading required package: reactome.db
[1] TRUE
> require("testthat") || stop("unable to load testthat")
Loading required package: testthat
Attaching package: 'testthat'
The following object is masked from 'package:AnnotationFilter':
not
[1] TRUE
> test_check("ChIPpeakAnno")
INFO [2024-11-20 06:24:37] $cat.cex
INFO [2024-11-20 06:24:37] [1] 1
INFO [2024-11-20 06:24:37]
INFO [2024-11-20 06:24:37] $cat.col
INFO [2024-11-20 06:24:37] [1] "black"
INFO [2024-11-20 06:24:37]
INFO [2024-11-20 06:24:37] $cat.fontface
INFO [2024-11-20 06:24:37] [1] "plain"
INFO [2024-11-20 06:24:37]
INFO [2024-11-20 06:24:37] $cat.fontfamily
INFO [2024-11-20 06:24:37] [1] "serif"
INFO [2024-11-20 06:24:37]
INFO [2024-11-20 06:24:37] $x
INFO [2024-11-20 06:24:37] $x$TF1
INFO [2024-11-20 06:24:37] [1] 3 4 5
INFO [2024-11-20 06:24:37]
INFO [2024-11-20 06:24:37] $x$TF2
INFO [2024-11-20 06:24:37] [1] 1 2 3 4 5
INFO [2024-11-20 06:24:37]
INFO [2024-11-20 06:24:37]
INFO [2024-11-20 06:24:37] $disable.logging
INFO [2024-11-20 06:24:37] [1] TRUE
INFO [2024-11-20 06:24:37]
INFO [2024-11-20 06:24:37] $filename
INFO [2024-11-20 06:24:37] NULL
INFO [2024-11-20 06:24:37]
INFO [2024-11-20 06:24:37] $cat.cex
INFO [2024-11-20 06:24:37] [1] 1
INFO [2024-11-20 06:24:37]
INFO [2024-11-20 06:24:37] $cat.col
INFO [2024-11-20 06:24:37] [1] "black"
INFO [2024-11-20 06:24:37]
INFO [2024-11-20 06:24:37] $cat.fontface
INFO [2024-11-20 06:24:37] [1] "plain"
INFO [2024-11-20 06:24:37]
INFO [2024-11-20 06:24:37] $cat.fontfamily
INFO [2024-11-20 06:24:37] [1] "serif"
INFO [2024-11-20 06:24:37]
INFO [2024-11-20 06:24:37] $x
INFO [2024-11-20 06:24:37] $x$TF1
INFO [2024-11-20 06:24:37] [1] 3 4 5
INFO [2024-11-20 06:24:37]
INFO [2024-11-20 06:24:37] $x$TF2
INFO [2024-11-20 06:24:37] [1] 1 2 4 5
INFO [2024-11-20 06:24:37]
INFO [2024-11-20 06:24:37] $x$TF3
INFO [2024-11-20 06:24:37] [1] 3 4 5
INFO [2024-11-20 06:24:37]
INFO [2024-11-20 06:24:37] $x$TF4
INFO [2024-11-20 06:24:37] [1] 1 2 4 5
INFO [2024-11-20 06:24:37]
INFO [2024-11-20 06:24:37]
INFO [2024-11-20 06:24:37] $disable.logging
INFO [2024-11-20 06:24:37] [1] TRUE
INFO [2024-11-20 06:24:37]
INFO [2024-11-20 06:24:37] $filename
INFO [2024-11-20 06:24:37] NULL
INFO [2024-11-20 06:24:37]
INFO [2024-11-20 06:24:38] $scaled
INFO [2024-11-20 06:24:38] [1] FALSE
INFO [2024-11-20 06:24:38]
INFO [2024-11-20 06:24:38] $euler.d
INFO [2024-11-20 06:24:38] [1] FALSE
INFO [2024-11-20 06:24:38]
INFO [2024-11-20 06:24:38] $cat.cex
INFO [2024-11-20 06:24:38] [1] 1
INFO [2024-11-20 06:24:38]
INFO [2024-11-20 06:24:38] $cat.col
INFO [2024-11-20 06:24:38] [1] "black"
INFO [2024-11-20 06:24:38]
INFO [2024-11-20 06:24:38] $cat.fontface
INFO [2024-11-20 06:24:38] [1] "plain"
INFO [2024-11-20 06:24:38]
INFO [2024-11-20 06:24:38] $cat.fontfamily
INFO [2024-11-20 06:24:38] [1] "serif"
INFO [2024-11-20 06:24:38]
INFO [2024-11-20 06:24:38] $x
INFO [2024-11-20 06:24:38] $x$TF1
INFO [2024-11-20 06:24:38] [1] 1 2 3
INFO [2024-11-20 06:24:38]
INFO [2024-11-20 06:24:38] $x$TF2
INFO [2024-11-20 06:24:38] [1] 1 2 3
INFO [2024-11-20 06:24:38]
INFO [2024-11-20 06:24:38]
INFO [2024-11-20 06:24:38] $disable.logging
INFO [2024-11-20 06:24:38] [1] TRUE
INFO [2024-11-20 06:24:38]
INFO [2024-11-20 06:24:38] $filename
INFO [2024-11-20 06:24:38] NULL
INFO [2024-11-20 06:24:38]
INFO [2024-11-20 06:24:38] $scaled
INFO [2024-11-20 06:24:38] [1] FALSE
INFO [2024-11-20 06:24:38]
INFO [2024-11-20 06:24:38] $euler.d
INFO [2024-11-20 06:24:38] [1] FALSE
INFO [2024-11-20 06:24:38]
INFO [2024-11-20 06:24:38] $cat.cex
INFO [2024-11-20 06:24:38] [1] 1
INFO [2024-11-20 06:24:38]
INFO [2024-11-20 06:24:38] $cat.col
INFO [2024-11-20 06:24:38] [1] "black"
INFO [2024-11-20 06:24:38]
INFO [2024-11-20 06:24:38] $cat.fontface
INFO [2024-11-20 06:24:38] [1] "plain"
INFO [2024-11-20 06:24:38]
INFO [2024-11-20 06:24:38] $cat.fontfamily
INFO [2024-11-20 06:24:38] [1] "serif"
INFO [2024-11-20 06:24:38]
INFO [2024-11-20 06:24:38] $x
INFO [2024-11-20 06:24:38] $x$TF1
INFO [2024-11-20 06:24:38] [1] 4 5 6
INFO [2024-11-20 06:24:38]
INFO [2024-11-20 06:24:38] $x$TF2
INFO [2024-11-20 06:24:38] [1] 1 2 3
INFO [2024-11-20 06:24:38]
INFO [2024-11-20 06:24:38]
INFO [2024-11-20 06:24:38] $disable.logging
INFO [2024-11-20 06:24:38] [1] TRUE
INFO [2024-11-20 06:24:38]
INFO [2024-11-20 06:24:38] $filename
INFO [2024-11-20 06:24:38] NULL
INFO [2024-11-20 06:24:38]
INFO [2024-11-20 06:24:38] $scaled
INFO [2024-11-20 06:24:38] [1] FALSE
INFO [2024-11-20 06:24:38]
INFO [2024-11-20 06:24:38] $euler.d
INFO [2024-11-20 06:24:38] [1] FALSE
INFO [2024-11-20 06:24:38]
INFO [2024-11-20 06:24:38] $cat.cex
INFO [2024-11-20 06:24:38] [1] 1
INFO [2024-11-20 06:24:38]
INFO [2024-11-20 06:24:38] $cat.col
INFO [2024-11-20 06:24:38] [1] "black"
INFO [2024-11-20 06:24:38]
INFO [2024-11-20 06:24:38] $cat.fontface
INFO [2024-11-20 06:24:38] [1] "plain"
INFO [2024-11-20 06:24:38]
INFO [2024-11-20 06:24:38] $cat.fontfamily
INFO [2024-11-20 06:24:38] [1] "serif"
INFO [2024-11-20 06:24:38]
INFO [2024-11-20 06:24:38] $x
INFO [2024-11-20 06:24:38] $x$TF1
INFO [2024-11-20 06:24:38] [1] 4 5 6
INFO [2024-11-20 06:24:38]
INFO [2024-11-20 06:24:38] $x$TF2
INFO [2024-11-20 06:24:38] [1] 1 2 3
INFO [2024-11-20 06:24:38]
INFO [2024-11-20 06:24:38]
INFO [2024-11-20 06:24:38] $disable.logging
INFO [2024-11-20 06:24:38] [1] TRUE
INFO [2024-11-20 06:24:38]
INFO [2024-11-20 06:24:38] $filename
INFO [2024-11-20 06:24:38] NULL
INFO [2024-11-20 06:24:38]
INFO [2024-11-20 06:24:39] $scaled
INFO [2024-11-20 06:24:39] [1] FALSE
INFO [2024-11-20 06:24:39]
INFO [2024-11-20 06:24:39] $euler.d
INFO [2024-11-20 06:24:39] [1] FALSE
INFO [2024-11-20 06:24:39]
INFO [2024-11-20 06:24:39] $cat.cex
INFO [2024-11-20 06:24:39] [1] 1
INFO [2024-11-20 06:24:39]
INFO [2024-11-20 06:24:39] $cat.col
INFO [2024-11-20 06:24:39] [1] "black"
INFO [2024-11-20 06:24:39]
INFO [2024-11-20 06:24:39] $cat.fontface
INFO [2024-11-20 06:24:39] [1] "plain"
INFO [2024-11-20 06:24:39]
INFO [2024-11-20 06:24:39] $cat.fontfamily
INFO [2024-11-20 06:24:39] [1] "serif"
INFO [2024-11-20 06:24:39]
INFO [2024-11-20 06:24:39] $x
INFO [2024-11-20 06:24:39] $x$TF1
INFO [2024-11-20 06:24:39] [1] 4 5 6
INFO [2024-11-20 06:24:39]
INFO [2024-11-20 06:24:39] $x$TF2
INFO [2024-11-20 06:24:39] [1] 1 2 3
INFO [2024-11-20 06:24:39]
INFO [2024-11-20 06:24:39] $x$TF3
INFO [2024-11-20 06:24:39] [1] 2 3 6
INFO [2024-11-20 06:24:39]
INFO [2024-11-20 06:24:39]
INFO [2024-11-20 06:24:39] $disable.logging
INFO [2024-11-20 06:24:39] [1] TRUE
INFO [2024-11-20 06:24:39]
INFO [2024-11-20 06:24:39] $filename
INFO [2024-11-20 06:24:39] NULL
INFO [2024-11-20 06:24:39]
INFO [2024-11-20 06:24:39] $scaled
INFO [2024-11-20 06:24:39] [1] FALSE
INFO [2024-11-20 06:24:39]
INFO [2024-11-20 06:24:39] $euler.d
INFO [2024-11-20 06:24:39] [1] FALSE
INFO [2024-11-20 06:24:39]
INFO [2024-11-20 06:24:39] $cat.cex
INFO [2024-11-20 06:24:39] [1] 1
INFO [2024-11-20 06:24:39]
INFO [2024-11-20 06:24:39] $cat.col
INFO [2024-11-20 06:24:39] [1] "black"
INFO [2024-11-20 06:24:39]
INFO [2024-11-20 06:24:39] $cat.fontface
INFO [2024-11-20 06:24:39] [1] "plain"
INFO [2024-11-20 06:24:39]
INFO [2024-11-20 06:24:39] $cat.fontfamily
INFO [2024-11-20 06:24:39] [1] "serif"
INFO [2024-11-20 06:24:39]
INFO [2024-11-20 06:24:39] $x
INFO [2024-11-20 06:24:39] $x$TF1
INFO [2024-11-20 06:24:39] [1] 3 4 5
INFO [2024-11-20 06:24:39]
INFO [2024-11-20 06:24:39] $x$TF2
INFO [2024-11-20 06:24:39] [1] 1 2 5
INFO [2024-11-20 06:24:39]
INFO [2024-11-20 06:24:39] $x$TF3
INFO [2024-11-20 06:24:39] [1] 1 2 5
INFO [2024-11-20 06:24:39]
INFO [2024-11-20 06:24:39]
INFO [2024-11-20 06:24:39] $disable.logging
INFO [2024-11-20 06:24:39] [1] TRUE
INFO [2024-11-20 06:24:39]
INFO [2024-11-20 06:24:39] $filename
INFO [2024-11-20 06:24:39] NULL
INFO [2024-11-20 06:24:39]
INFO [2024-11-20 06:24:40] $scaled
INFO [2024-11-20 06:24:40] [1] FALSE
INFO [2024-11-20 06:24:40]
INFO [2024-11-20 06:24:40] $euler.d
INFO [2024-11-20 06:24:40] [1] FALSE
INFO [2024-11-20 06:24:40]
INFO [2024-11-20 06:24:40] $cat.cex
INFO [2024-11-20 06:24:40] [1] 1
INFO [2024-11-20 06:24:40]
INFO [2024-11-20 06:24:40] $cat.col
INFO [2024-11-20 06:24:40] [1] "black"
INFO [2024-11-20 06:24:40]
INFO [2024-11-20 06:24:40] $cat.fontface
INFO [2024-11-20 06:24:40] [1] "plain"
INFO [2024-11-20 06:24:40]
INFO [2024-11-20 06:24:40] $cat.fontfamily
INFO [2024-11-20 06:24:40] [1] "serif"
INFO [2024-11-20 06:24:40]
INFO [2024-11-20 06:24:40] $x
INFO [2024-11-20 06:24:40] $x$TF1
INFO [2024-11-20 06:24:40] [1] 3 4 5
INFO [2024-11-20 06:24:40]
INFO [2024-11-20 06:24:40] $x$TF2
INFO [2024-11-20 06:24:40] [1] 1 2 5
INFO [2024-11-20 06:24:40]
INFO [2024-11-20 06:24:40] $x$TF3
INFO [2024-11-20 06:24:40] [1] 1 2 5
INFO [2024-11-20 06:24:40]
INFO [2024-11-20 06:24:40] $x$TF4
INFO [2024-11-20 06:24:40] [1] 1 2 5
INFO [2024-11-20 06:24:40]
INFO [2024-11-20 06:24:40]
INFO [2024-11-20 06:24:40] $disable.logging
INFO [2024-11-20 06:24:40] [1] TRUE
INFO [2024-11-20 06:24:40]
INFO [2024-11-20 06:24:40] $filename
INFO [2024-11-20 06:24:40] NULL
INFO [2024-11-20 06:24:40]
[ FAIL 0 | WARN 3 | SKIP 6 | PASS 320 ]
══ Skipped tests (6) ═══════════════════════════════════════════════════════════
• empty test (6): 'test_binOverGene.R:1:1', 'test_binOverRegions.R:1:1',
'test_enrichmentPlot.R:1:1', 'test_getAnnotation.R:1:1',
'test_reCenterPeaks.R:1:1', 'test_write2FASTA.R:1:1'
[ FAIL 0 | WARN 3 | SKIP 6 | PASS 320 ]
>
> proc.time()
user system elapsed
232.378 3.341 263.999
ChIPpeakAnno.Rcheck/ChIPpeakAnno-Ex.timings
| name | user | system | elapsed | |
| ChIPpeakAnno-package | 0.001 | 0.000 | 0.000 | |
| ExonPlusUtr.human.GRCh37 | 3.951 | 0.088 | 4.047 | |
| HOT.spots | 0.118 | 0.004 | 0.122 | |
| IDRfilter | 0.001 | 0.000 | 0.000 | |
| Peaks.Ste12.Replicate1 | 0.067 | 0.000 | 0.067 | |
| Peaks.Ste12.Replicate2 | 0.016 | 0.000 | 0.017 | |
| Peaks.Ste12.Replicate3 | 0.017 | 0.000 | 0.017 | |
| TSS.human.GRCh37 | 0.202 | 0.000 | 0.202 | |
| TSS.human.GRCh38 | 0.137 | 0.000 | 0.138 | |
| TSS.human.NCBI36 | 0.105 | 0.000 | 0.105 | |
| TSS.mouse.GRCm38 | 0.096 | 0.004 | 0.100 | |
| TSS.mouse.NCBIM37 | 0.086 | 0.004 | 0.090 | |
| TSS.rat.RGSC3.4 | 0.072 | 0.008 | 0.080 | |
| TSS.rat.Rnor_5.0 | 0.057 | 0.008 | 0.064 | |
| TSS.zebrafish.Zv8 | 0.069 | 0.000 | 0.070 | |
| TSS.zebrafish.Zv9 | 0.080 | 0.004 | 0.085 | |
| addAncestors | 1.266 | 0.032 | 1.304 | |
| addGeneIDs | 1.017 | 0.020 | 1.043 | |
| addMetadata | 1.400 | 0.055 | 1.460 | |
| annoGR | 0 | 0 | 0 | |
| annoPeaks | 3.872 | 0.311 | 20.137 | |
| annotatePeakInBatch | 17.274 | 1.078 | 18.389 | |
| annotatedPeak | 0.055 | 0.004 | 0.058 | |
| assignChromosomeRegion | 0.001 | 0.000 | 0.001 | |
| bdp | 0 | 0 | 0 | |
| binOverFeature | 0.975 | 0.048 | 1.026 | |
| binOverGene | 0.000 | 0.000 | 0.001 | |
| binOverRegions | 0.000 | 0.000 | 0.001 | |
| condenseMatrixByColnames | 0.015 | 0.000 | 0.015 | |
| convert2EntrezID | 0.557 | 0.012 | 0.569 | |
| countPatternInSeqs | 0.207 | 0.000 | 0.208 | |
| cumulativePercentage | 0 | 0 | 0 | |
| downstreams | 0.032 | 0.000 | 0.032 | |
| egOrgMap | 0.001 | 0.000 | 0.000 | |
| enrichedGO | 0.003 | 0.000 | 0.002 | |
| enrichmentPlot | 0.675 | 0.016 | 0.692 | |
| estFragmentLength | 0.001 | 0.000 | 0.000 | |
| estLibSize | 0.001 | 0.000 | 0.001 | |
| featureAlignedDistribution | 0.320 | 0.012 | 0.332 | |
| featureAlignedExtendSignal | 0.002 | 0.000 | 0.001 | |
| featureAlignedHeatmap | 0.455 | 0.016 | 0.471 | |
| featureAlignedSignal | 0.243 | 0.012 | 0.256 | |
| findEnhancers | 32.871 | 0.658 | 33.598 | |
| findMotifsInPromoterSeqs | 19.407 | 0.188 | 19.699 | |
| findOverlappingPeaks | 0.001 | 0.000 | 0.001 | |
| findOverlapsOfPeaks | 2.520 | 0.048 | 2.576 | |
| genomicElementDistribution | 0.001 | 0.000 | 0.001 | |
| genomicElementUpSetR | 0.000 | 0.000 | 0.001 | |
| getAllPeakSequence | 0.703 | 0.004 | 0.717 | |
| getAnnotation | 0.001 | 0.000 | 0.001 | |
| getEnrichedGO | 0.010 | 0.000 | 0.011 | |
| getEnrichedPATH | 0.001 | 0.000 | 0.001 | |
| getGO | 0 | 0 | 0 | |
| getGeneSeq | 0.001 | 0.000 | 0.001 | |
| getUniqueGOidCount | 0.001 | 0.000 | 0.001 | |
| getVennCounts | 0.001 | 0.000 | 0.001 | |
| hyperGtest | 0.001 | 0.000 | 0.001 | |
| makeVennDiagram | 0.002 | 0.000 | 0.003 | |
| mergePlusMinusPeaks | 0.000 | 0.000 | 0.001 | |
| metagenePlot | 2.798 | 0.052 | 2.859 | |
| myPeakList | 0.014 | 0.000 | 0.014 | |
| oligoFrequency | 0.125 | 0.000 | 0.125 | |
| oligoSummary | 0.000 | 0.000 | 0.001 | |
| peakPermTest | 0.002 | 0.000 | 0.002 | |
| peaks1 | 0.006 | 0.004 | 0.010 | |
| peaks2 | 0.010 | 0.000 | 0.011 | |
| peaks3 | 0.01 | 0.00 | 0.01 | |
| peaksNearBDP | 0.001 | 0.000 | 0.000 | |
| pie1 | 0.006 | 0.000 | 0.006 | |
| plotBinOverRegions | 0.001 | 0.000 | 0.000 | |
| preparePool | 0.001 | 0.000 | 0.000 | |
| reCenterPeaks | 0.034 | 0.000 | 0.034 | |
| summarizeOverlapsByBins | 6.688 | 0.477 | 6.841 | |
| summarizePatternInPeaks | 1.874 | 0.260 | 2.141 | |
| tileCount | 0.375 | 0.329 | 0.424 | |
| tileGRanges | 0.042 | 0.012 | 0.064 | |
| toGRanges | 0.096 | 0.028 | 0.125 | |
| translatePattern | 0.001 | 0.000 | 0.001 | |
| wgEncodeTfbsV3 | 0.193 | 0.008 | 0.202 | |
| write2FASTA | 0.022 | 0.000 | 0.023 | |
| xget | 0.143 | 0.016 | 0.160 | |