| Back to Multiple platform build/check report for BioC 3.20: simplified long |
|
This page was generated on 2025-04-02 19:33 -0400 (Wed, 02 Apr 2025).
| Hostname | OS | Arch (*) | R version | Installed pkgs |
|---|---|---|---|---|
| nebbiolo2 | Linux (Ubuntu 24.04.1 LTS) | x86_64 | 4.4.3 (2025-02-28) -- "Trophy Case" | 4764 |
| palomino8 | Windows Server 2022 Datacenter | x64 | 4.4.3 (2025-02-28 ucrt) -- "Trophy Case" | 4495 |
| merida1 | macOS 12.7.5 Monterey | x86_64 | 4.4.3 (2025-02-28) -- "Trophy Case" | 4522 |
| kjohnson1 | macOS 13.6.6 Ventura | arm64 | 4.4.3 (2025-02-28) -- "Trophy Case" | 4449 |
| taishan | Linux (openEuler 24.03 LTS) | aarch64 | 4.4.3 (2025-02-28) -- "Trophy Case" | 4426 |
| Click on any hostname to see more info about the system (e.g. compilers) (*) as reported by 'uname -p', except on Windows and Mac OS X | ||||
| Package 337/2289 | Hostname | OS / Arch | INSTALL | BUILD | CHECK | BUILD BIN | ||||||||
| ChIPpeakAnno 3.40.0 (landing page) Jianhong Ou
| nebbiolo2 | Linux (Ubuntu 24.04.1 LTS) / x86_64 | OK | OK | OK | |||||||||
| palomino8 | Windows Server 2022 Datacenter / x64 | OK | OK | OK | OK | |||||||||
| merida1 | macOS 12.7.5 Monterey / x86_64 | OK | OK | OK | OK | |||||||||
| kjohnson1 | macOS 13.6.6 Ventura / arm64 | OK | OK | OK | OK | |||||||||
| taishan | Linux (openEuler 24.03 LTS) / aarch64 | OK | OK | OK | ||||||||||
|
To the developers/maintainers of the ChIPpeakAnno package: - Allow up to 24 hours (and sometimes 48 hours) for your latest push to git@git.bioconductor.org:packages/ChIPpeakAnno.git to reflect on this report. See Troubleshooting Build Report for more information. - Use the following Renviron settings to reproduce errors and warnings. - If 'R CMD check' started to fail recently on the Linux builder(s) over a missing dependency, add the missing dependency to 'Suggests:' in your DESCRIPTION file. See Renviron.bioc for more information. |
| Package: ChIPpeakAnno |
| Version: 3.40.0 |
| Command: /Library/Frameworks/R.framework/Resources/bin/R CMD check --install=check:ChIPpeakAnno.install-out.txt --library=/Library/Frameworks/R.framework/Resources/library --no-vignettes --timings ChIPpeakAnno_3.40.0.tar.gz |
| StartedAt: 2025-04-01 13:55:46 -0400 (Tue, 01 Apr 2025) |
| EndedAt: 2025-04-01 14:07:52 -0400 (Tue, 01 Apr 2025) |
| EllapsedTime: 726.0 seconds |
| RetCode: 0 |
| Status: OK |
| CheckDir: ChIPpeakAnno.Rcheck |
| Warnings: 0 |
##############################################################################
##############################################################################
###
### Running command:
###
### /Library/Frameworks/R.framework/Resources/bin/R CMD check --install=check:ChIPpeakAnno.install-out.txt --library=/Library/Frameworks/R.framework/Resources/library --no-vignettes --timings ChIPpeakAnno_3.40.0.tar.gz
###
##############################################################################
##############################################################################
* using log directory ‘/Users/biocbuild/bbs-3.20-bioc/meat/ChIPpeakAnno.Rcheck’
* using R version 4.4.3 (2025-02-28)
* using platform: aarch64-apple-darwin20
* R was compiled by
Apple clang version 14.0.0 (clang-1400.0.29.202)
GNU Fortran (GCC) 12.2.0
* running under: macOS Ventura 13.7.1
* using session charset: UTF-8
* using option ‘--no-vignettes’
* checking for file ‘ChIPpeakAnno/DESCRIPTION’ ... OK
* checking extension type ... Package
* this is package ‘ChIPpeakAnno’ version ‘3.40.0’
* package encoding: UTF-8
* checking package namespace information ... OK
* checking package dependencies ... OK
* checking if this is a source package ... OK
* checking if there is a namespace ... OK
* checking for hidden files and directories ... OK
* checking for portable file names ... OK
* checking for sufficient/correct file permissions ... OK
* checking whether package ‘ChIPpeakAnno’ can be installed ... OK
* checking installed package size ... NOTE
installed size is 21.1Mb
sub-directories of 1Mb or more:
R 1.0Mb
data 12.6Mb
extdata 7.2Mb
* checking package directory ... OK
* checking ‘build’ directory ... OK
* checking DESCRIPTION meta-information ... OK
* checking top-level files ... OK
* checking for left-over files ... OK
* checking index information ... OK
* checking package subdirectories ... OK
* checking code files for non-ASCII characters ... OK
* checking R files for syntax errors ... OK
* checking whether the package can be loaded ... OK
* checking whether the package can be loaded with stated dependencies ... OK
* checking whether the package can be unloaded cleanly ... OK
* checking whether the namespace can be loaded with stated dependencies ... OK
* checking whether the namespace can be unloaded cleanly ... OK
* checking dependencies in R code ... OK
* checking S3 generic/method consistency ... OK
* checking replacement functions ... OK
* checking foreign function calls ... OK
* checking R code for possible problems ... OK
* checking Rd files ... OK
* checking Rd metadata ... OK
* checking Rd cross-references ... OK
* checking for missing documentation entries ... OK
* checking for code/documentation mismatches ... OK
* checking Rd \usage sections ... OK
* checking Rd contents ... OK
* checking for unstated dependencies in examples ... OK
* checking contents of ‘data’ directory ... OK
* checking data for non-ASCII characters ... OK
* checking LazyData ... OK
* checking data for ASCII and uncompressed saves ... OK
* checking files in ‘vignettes’ ... OK
* checking examples ... OK
Examples with CPU (user + system) or elapsed time > 5s
user system elapsed
findEnhancers 24.815 0.590 25.620
annotatePeakInBatch 15.080 0.667 15.874
findMotifsInPromoterSeqs 15.115 0.335 15.568
summarizeOverlapsByBins 7.403 0.532 7.638
ExonPlusUtr.human.GRCh37 5.079 0.088 5.182
annoPeaks 3.452 0.309 6.215
* checking for unstated dependencies in ‘tests’ ... OK
* checking tests ...
Running ‘runTests.R’
OK
* checking for unstated dependencies in vignettes ... OK
* checking package vignettes ... OK
* checking running R code from vignettes ... SKIPPED
* checking re-building of vignette outputs ... SKIPPED
* checking PDF version of manual ... OK
* DONE
Status: 1 NOTE
See
‘/Users/biocbuild/bbs-3.20-bioc/meat/ChIPpeakAnno.Rcheck/00check.log’
for details.
ChIPpeakAnno.Rcheck/00install.out
############################################################################## ############################################################################## ### ### Running command: ### ### /Library/Frameworks/R.framework/Resources/bin/R CMD INSTALL ChIPpeakAnno ### ############################################################################## ############################################################################## * installing to library ‘/Library/Frameworks/R.framework/Versions/4.4-arm64/Resources/library’ * installing *source* package ‘ChIPpeakAnno’ ... ** using staged installation ** R ** data *** moving datasets to lazyload DB ** inst ** byte-compile and prepare package for lazy loading ** help *** installing help indices ** building package indices ** installing vignettes ** testing if installed package can be loaded from temporary location ** testing if installed package can be loaded from final location ** testing if installed package keeps a record of temporary installation path * DONE (ChIPpeakAnno)
ChIPpeakAnno.Rcheck/tests/runTests.Rout
R version 4.4.3 (2025-02-28) -- "Trophy Case"
Copyright (C) 2025 The R Foundation for Statistical Computing
Platform: aarch64-apple-darwin20
R is free software and comes with ABSOLUTELY NO WARRANTY.
You are welcome to redistribute it under certain conditions.
Type 'license()' or 'licence()' for distribution details.
R is a collaborative project with many contributors.
Type 'contributors()' for more information and
'citation()' on how to cite R or R packages in publications.
Type 'demo()' for some demos, 'help()' for on-line help, or
'help.start()' for an HTML browser interface to help.
Type 'q()' to quit R.
> require("ChIPpeakAnno") || stop("unable to load Package:ChIPpeakAnno")
Loading required package: ChIPpeakAnno
Loading required package: IRanges
Loading required package: BiocGenerics
Attaching package: 'BiocGenerics'
The following objects are masked from 'package:stats':
IQR, mad, sd, var, xtabs
The following objects are masked from 'package:base':
Filter, Find, Map, Position, Reduce, anyDuplicated, aperm, append,
as.data.frame, basename, cbind, colnames, dirname, do.call,
duplicated, eval, evalq, get, grep, grepl, intersect, is.unsorted,
lapply, mapply, match, mget, order, paste, pmax, pmax.int, pmin,
pmin.int, rank, rbind, rownames, sapply, saveRDS, setdiff, table,
tapply, union, unique, unsplit, which.max, which.min
Loading required package: S4Vectors
Loading required package: stats4
Attaching package: 'S4Vectors'
The following object is masked from 'package:utils':
findMatches
The following objects are masked from 'package:base':
I, expand.grid, unname
Loading required package: GenomicRanges
Loading required package: GenomeInfoDb
[1] TRUE
> require("BSgenome.Drerio.UCSC.danRer7") || stop("unable to load Package:BSgenome.Drerio.UCSC.danRer7")
Loading required package: BSgenome.Drerio.UCSC.danRer7
Loading required package: BSgenome
Loading required package: Biostrings
Loading required package: XVector
Attaching package: 'Biostrings'
The following object is masked from 'package:base':
strsplit
Loading required package: BiocIO
Loading required package: rtracklayer
Attaching package: 'rtracklayer'
The following object is masked from 'package:BiocIO':
FileForFormat
[1] TRUE
> require("BSgenome.Hsapiens.UCSC.hg19") || stop("unable to load Package:BSgenome.Hsapiens.UCSC.hg19")
Loading required package: BSgenome.Hsapiens.UCSC.hg19
[1] TRUE
> require("org.Hs.eg.db") || stop("unable to load Package:org.Hs.eg.db")
Loading required package: org.Hs.eg.db
Loading required package: AnnotationDbi
Loading required package: Biobase
Welcome to Bioconductor
Vignettes contain introductory material; view with
'browseVignettes()'. To cite Bioconductor, see
'citation("Biobase")', and for packages 'citation("pkgname")'.
[1] TRUE
> require("org.Ce.eg.db") || stop("unable to load Package:org.Ce.eg.db")
Loading required package: org.Ce.eg.db
[1] TRUE
> require("BSgenome.Celegans.UCSC.ce10") || stop("unable to load Package:BSgenome.Celegans.UCSC.ce10")
Loading required package: BSgenome.Celegans.UCSC.ce10
[1] TRUE
> require("EnsDb.Hsapiens.v79") || stop("unable to load Package:EnsDb.Hsapiens.v79")
Loading required package: EnsDb.Hsapiens.v79
Loading required package: ensembldb
Loading required package: GenomicFeatures
Loading required package: AnnotationFilter
Attaching package: 'ensembldb'
The following object is masked from 'package:stats':
filter
[1] TRUE
> require("TxDb.Hsapiens.UCSC.hg38.knownGene") || stop("unable to load TxDb.Hsapiens.UCSC.hg38.knownGene")
Loading required package: TxDb.Hsapiens.UCSC.hg38.knownGene
[1] TRUE
> require("biomaRt") || stop("unable to load biomaRt")
Loading required package: biomaRt
[1] TRUE
> require("reactome.db") || stop("unable to load reactome.db")
Loading required package: reactome.db
[1] TRUE
> require("testthat") || stop("unable to load testthat")
Loading required package: testthat
Attaching package: 'testthat'
The following object is masked from 'package:AnnotationFilter':
not
[1] TRUE
> test_check("ChIPpeakAnno")
INFO [2025-04-01 14:07:21] $cat.cex
INFO [2025-04-01 14:07:21] [1] 1
INFO [2025-04-01 14:07:21]
INFO [2025-04-01 14:07:21] $cat.col
INFO [2025-04-01 14:07:21] [1] "black"
INFO [2025-04-01 14:07:21]
INFO [2025-04-01 14:07:21] $cat.fontface
INFO [2025-04-01 14:07:21] [1] "plain"
INFO [2025-04-01 14:07:21]
INFO [2025-04-01 14:07:21] $cat.fontfamily
INFO [2025-04-01 14:07:21] [1] "serif"
INFO [2025-04-01 14:07:21]
INFO [2025-04-01 14:07:21] $x
INFO [2025-04-01 14:07:21] $x$TF1
INFO [2025-04-01 14:07:21] [1] 3 4 5
INFO [2025-04-01 14:07:21]
INFO [2025-04-01 14:07:21] $x$TF2
INFO [2025-04-01 14:07:21] [1] 1 2 3 4 5
INFO [2025-04-01 14:07:21]
INFO [2025-04-01 14:07:21]
INFO [2025-04-01 14:07:21] $disable.logging
INFO [2025-04-01 14:07:21] [1] TRUE
INFO [2025-04-01 14:07:21]
INFO [2025-04-01 14:07:21] $filename
INFO [2025-04-01 14:07:21] NULL
INFO [2025-04-01 14:07:21]
INFO [2025-04-01 14:07:21] $cat.cex
INFO [2025-04-01 14:07:21] [1] 1
INFO [2025-04-01 14:07:21]
INFO [2025-04-01 14:07:21] $cat.col
INFO [2025-04-01 14:07:21] [1] "black"
INFO [2025-04-01 14:07:21]
INFO [2025-04-01 14:07:21] $cat.fontface
INFO [2025-04-01 14:07:21] [1] "plain"
INFO [2025-04-01 14:07:21]
INFO [2025-04-01 14:07:21] $cat.fontfamily
INFO [2025-04-01 14:07:21] [1] "serif"
INFO [2025-04-01 14:07:21]
INFO [2025-04-01 14:07:21] $x
INFO [2025-04-01 14:07:21] $x$TF1
INFO [2025-04-01 14:07:21] [1] 3 4 5
INFO [2025-04-01 14:07:21]
INFO [2025-04-01 14:07:21] $x$TF2
INFO [2025-04-01 14:07:21] [1] 1 2 4 5
INFO [2025-04-01 14:07:21]
INFO [2025-04-01 14:07:21] $x$TF3
INFO [2025-04-01 14:07:21] [1] 3 4 5
INFO [2025-04-01 14:07:21]
INFO [2025-04-01 14:07:21] $x$TF4
INFO [2025-04-01 14:07:21] [1] 1 2 4 5
INFO [2025-04-01 14:07:21]
INFO [2025-04-01 14:07:21]
INFO [2025-04-01 14:07:21] $disable.logging
INFO [2025-04-01 14:07:21] [1] TRUE
INFO [2025-04-01 14:07:21]
INFO [2025-04-01 14:07:21] $filename
INFO [2025-04-01 14:07:21] NULL
INFO [2025-04-01 14:07:21]
INFO [2025-04-01 14:07:22] $scaled
INFO [2025-04-01 14:07:22] [1] FALSE
INFO [2025-04-01 14:07:22]
INFO [2025-04-01 14:07:22] $euler.d
INFO [2025-04-01 14:07:22] [1] FALSE
INFO [2025-04-01 14:07:22]
INFO [2025-04-01 14:07:22] $cat.cex
INFO [2025-04-01 14:07:22] [1] 1
INFO [2025-04-01 14:07:22]
INFO [2025-04-01 14:07:22] $cat.col
INFO [2025-04-01 14:07:22] [1] "black"
INFO [2025-04-01 14:07:22]
INFO [2025-04-01 14:07:22] $cat.fontface
INFO [2025-04-01 14:07:22] [1] "plain"
INFO [2025-04-01 14:07:22]
INFO [2025-04-01 14:07:22] $cat.fontfamily
INFO [2025-04-01 14:07:22] [1] "serif"
INFO [2025-04-01 14:07:22]
INFO [2025-04-01 14:07:22] $x
INFO [2025-04-01 14:07:22] $x$TF1
INFO [2025-04-01 14:07:22] [1] 1 2 3
INFO [2025-04-01 14:07:22]
INFO [2025-04-01 14:07:22] $x$TF2
INFO [2025-04-01 14:07:22] [1] 1 2 3
INFO [2025-04-01 14:07:22]
INFO [2025-04-01 14:07:22]
INFO [2025-04-01 14:07:22] $disable.logging
INFO [2025-04-01 14:07:22] [1] TRUE
INFO [2025-04-01 14:07:22]
INFO [2025-04-01 14:07:22] $filename
INFO [2025-04-01 14:07:22] NULL
INFO [2025-04-01 14:07:22]
INFO [2025-04-01 14:07:22] $scaled
INFO [2025-04-01 14:07:22] [1] FALSE
INFO [2025-04-01 14:07:22]
INFO [2025-04-01 14:07:22] $euler.d
INFO [2025-04-01 14:07:22] [1] FALSE
INFO [2025-04-01 14:07:22]
INFO [2025-04-01 14:07:22] $cat.cex
INFO [2025-04-01 14:07:22] [1] 1
INFO [2025-04-01 14:07:22]
INFO [2025-04-01 14:07:22] $cat.col
INFO [2025-04-01 14:07:22] [1] "black"
INFO [2025-04-01 14:07:22]
INFO [2025-04-01 14:07:22] $cat.fontface
INFO [2025-04-01 14:07:22] [1] "plain"
INFO [2025-04-01 14:07:22]
INFO [2025-04-01 14:07:22] $cat.fontfamily
INFO [2025-04-01 14:07:22] [1] "serif"
INFO [2025-04-01 14:07:22]
INFO [2025-04-01 14:07:22] $x
INFO [2025-04-01 14:07:22] $x$TF1
INFO [2025-04-01 14:07:22] [1] 4 5 6
INFO [2025-04-01 14:07:22]
INFO [2025-04-01 14:07:22] $x$TF2
INFO [2025-04-01 14:07:22] [1] 1 2 3
INFO [2025-04-01 14:07:22]
INFO [2025-04-01 14:07:22]
INFO [2025-04-01 14:07:22] $disable.logging
INFO [2025-04-01 14:07:22] [1] TRUE
INFO [2025-04-01 14:07:22]
INFO [2025-04-01 14:07:22] $filename
INFO [2025-04-01 14:07:22] NULL
INFO [2025-04-01 14:07:22]
INFO [2025-04-01 14:07:22] $scaled
INFO [2025-04-01 14:07:22] [1] FALSE
INFO [2025-04-01 14:07:22]
INFO [2025-04-01 14:07:22] $euler.d
INFO [2025-04-01 14:07:22] [1] FALSE
INFO [2025-04-01 14:07:22]
INFO [2025-04-01 14:07:22] $cat.cex
INFO [2025-04-01 14:07:22] [1] 1
INFO [2025-04-01 14:07:22]
INFO [2025-04-01 14:07:22] $cat.col
INFO [2025-04-01 14:07:22] [1] "black"
INFO [2025-04-01 14:07:22]
INFO [2025-04-01 14:07:22] $cat.fontface
INFO [2025-04-01 14:07:22] [1] "plain"
INFO [2025-04-01 14:07:22]
INFO [2025-04-01 14:07:22] $cat.fontfamily
INFO [2025-04-01 14:07:22] [1] "serif"
INFO [2025-04-01 14:07:22]
INFO [2025-04-01 14:07:22] $x
INFO [2025-04-01 14:07:22] $x$TF1
INFO [2025-04-01 14:07:22] [1] 4 5 6
INFO [2025-04-01 14:07:22]
INFO [2025-04-01 14:07:22] $x$TF2
INFO [2025-04-01 14:07:22] [1] 1 2 3
INFO [2025-04-01 14:07:22]
INFO [2025-04-01 14:07:22]
INFO [2025-04-01 14:07:22] $disable.logging
INFO [2025-04-01 14:07:22] [1] TRUE
INFO [2025-04-01 14:07:22]
INFO [2025-04-01 14:07:22] $filename
INFO [2025-04-01 14:07:22] NULL
INFO [2025-04-01 14:07:22]
INFO [2025-04-01 14:07:23] $scaled
INFO [2025-04-01 14:07:23] [1] FALSE
INFO [2025-04-01 14:07:23]
INFO [2025-04-01 14:07:23] $euler.d
INFO [2025-04-01 14:07:23] [1] FALSE
INFO [2025-04-01 14:07:23]
INFO [2025-04-01 14:07:23] $cat.cex
INFO [2025-04-01 14:07:23] [1] 1
INFO [2025-04-01 14:07:23]
INFO [2025-04-01 14:07:23] $cat.col
INFO [2025-04-01 14:07:23] [1] "black"
INFO [2025-04-01 14:07:23]
INFO [2025-04-01 14:07:23] $cat.fontface
INFO [2025-04-01 14:07:23] [1] "plain"
INFO [2025-04-01 14:07:23]
INFO [2025-04-01 14:07:23] $cat.fontfamily
INFO [2025-04-01 14:07:23] [1] "serif"
INFO [2025-04-01 14:07:23]
INFO [2025-04-01 14:07:23] $x
INFO [2025-04-01 14:07:23] $x$TF1
INFO [2025-04-01 14:07:23] [1] 4 5 6
INFO [2025-04-01 14:07:23]
INFO [2025-04-01 14:07:23] $x$TF2
INFO [2025-04-01 14:07:23] [1] 1 2 3
INFO [2025-04-01 14:07:23]
INFO [2025-04-01 14:07:23] $x$TF3
INFO [2025-04-01 14:07:23] [1] 2 3 6
INFO [2025-04-01 14:07:23]
INFO [2025-04-01 14:07:23]
INFO [2025-04-01 14:07:23] $disable.logging
INFO [2025-04-01 14:07:23] [1] TRUE
INFO [2025-04-01 14:07:23]
INFO [2025-04-01 14:07:23] $filename
INFO [2025-04-01 14:07:23] NULL
INFO [2025-04-01 14:07:23]
INFO [2025-04-01 14:07:23] $scaled
INFO [2025-04-01 14:07:23] [1] FALSE
INFO [2025-04-01 14:07:23]
INFO [2025-04-01 14:07:23] $euler.d
INFO [2025-04-01 14:07:23] [1] FALSE
INFO [2025-04-01 14:07:23]
INFO [2025-04-01 14:07:23] $cat.cex
INFO [2025-04-01 14:07:23] [1] 1
INFO [2025-04-01 14:07:23]
INFO [2025-04-01 14:07:23] $cat.col
INFO [2025-04-01 14:07:23] [1] "black"
INFO [2025-04-01 14:07:23]
INFO [2025-04-01 14:07:23] $cat.fontface
INFO [2025-04-01 14:07:23] [1] "plain"
INFO [2025-04-01 14:07:23]
INFO [2025-04-01 14:07:23] $cat.fontfamily
INFO [2025-04-01 14:07:23] [1] "serif"
INFO [2025-04-01 14:07:23]
INFO [2025-04-01 14:07:23] $x
INFO [2025-04-01 14:07:23] $x$TF1
INFO [2025-04-01 14:07:23] [1] 3 4 5
INFO [2025-04-01 14:07:23]
INFO [2025-04-01 14:07:23] $x$TF2
INFO [2025-04-01 14:07:23] [1] 1 2 5
INFO [2025-04-01 14:07:23]
INFO [2025-04-01 14:07:23] $x$TF3
INFO [2025-04-01 14:07:23] [1] 1 2 5
INFO [2025-04-01 14:07:23]
INFO [2025-04-01 14:07:23]
INFO [2025-04-01 14:07:23] $disable.logging
INFO [2025-04-01 14:07:23] [1] TRUE
INFO [2025-04-01 14:07:23]
INFO [2025-04-01 14:07:23] $filename
INFO [2025-04-01 14:07:23] NULL
INFO [2025-04-01 14:07:23]
INFO [2025-04-01 14:07:23] $scaled
INFO [2025-04-01 14:07:23] [1] FALSE
INFO [2025-04-01 14:07:23]
INFO [2025-04-01 14:07:23] $euler.d
INFO [2025-04-01 14:07:23] [1] FALSE
INFO [2025-04-01 14:07:23]
INFO [2025-04-01 14:07:23] $cat.cex
INFO [2025-04-01 14:07:23] [1] 1
INFO [2025-04-01 14:07:23]
INFO [2025-04-01 14:07:23] $cat.col
INFO [2025-04-01 14:07:23] [1] "black"
INFO [2025-04-01 14:07:23]
INFO [2025-04-01 14:07:23] $cat.fontface
INFO [2025-04-01 14:07:23] [1] "plain"
INFO [2025-04-01 14:07:23]
INFO [2025-04-01 14:07:23] $cat.fontfamily
INFO [2025-04-01 14:07:23] [1] "serif"
INFO [2025-04-01 14:07:23]
INFO [2025-04-01 14:07:23] $x
INFO [2025-04-01 14:07:23] $x$TF1
INFO [2025-04-01 14:07:23] [1] 3 4 5
INFO [2025-04-01 14:07:23]
INFO [2025-04-01 14:07:23] $x$TF2
INFO [2025-04-01 14:07:23] [1] 1 2 5
INFO [2025-04-01 14:07:23]
INFO [2025-04-01 14:07:23] $x$TF3
INFO [2025-04-01 14:07:23] [1] 1 2 5
INFO [2025-04-01 14:07:23]
INFO [2025-04-01 14:07:23] $x$TF4
INFO [2025-04-01 14:07:23] [1] 1 2 5
INFO [2025-04-01 14:07:23]
INFO [2025-04-01 14:07:23]
INFO [2025-04-01 14:07:23] $disable.logging
INFO [2025-04-01 14:07:23] [1] TRUE
INFO [2025-04-01 14:07:23]
INFO [2025-04-01 14:07:23] $filename
INFO [2025-04-01 14:07:23] NULL
INFO [2025-04-01 14:07:23]
[ FAIL 0 | WARN 3 | SKIP 6 | PASS 320 ]
══ Skipped tests (6) ═══════════════════════════════════════════════════════════
• empty test (6): 'test_binOverGene.R:1:1', 'test_binOverRegions.R:1:1',
'test_enrichmentPlot.R:1:1', 'test_getAnnotation.R:1:1',
'test_reCenterPeaks.R:1:1', 'test_write2FASTA.R:1:1'
[ FAIL 0 | WARN 3 | SKIP 6 | PASS 320 ]
>
> proc.time()
user system elapsed
188.588 5.033 202.975
ChIPpeakAnno.Rcheck/ChIPpeakAnno-Ex.timings
| name | user | system | elapsed | |
| ChIPpeakAnno-package | 0.000 | 0.000 | 0.001 | |
| ExonPlusUtr.human.GRCh37 | 5.079 | 0.088 | 5.182 | |
| HOT.spots | 0.189 | 0.007 | 0.197 | |
| IDRfilter | 0.001 | 0.000 | 0.002 | |
| Peaks.Ste12.Replicate1 | 0.056 | 0.003 | 0.060 | |
| Peaks.Ste12.Replicate2 | 0.015 | 0.002 | 0.018 | |
| Peaks.Ste12.Replicate3 | 0.012 | 0.003 | 0.015 | |
| TSS.human.GRCh37 | 0.272 | 0.012 | 0.284 | |
| TSS.human.GRCh38 | 0.250 | 0.009 | 0.259 | |
| TSS.human.NCBI36 | 0.176 | 0.007 | 0.183 | |
| TSS.mouse.GRCm38 | 0.176 | 0.007 | 0.183 | |
| TSS.mouse.NCBIM37 | 0.146 | 0.007 | 0.153 | |
| TSS.rat.RGSC3.4 | 0.131 | 0.007 | 0.137 | |
| TSS.rat.Rnor_5.0 | 0.109 | 0.006 | 0.115 | |
| TSS.zebrafish.Zv8 | 0.119 | 0.006 | 0.125 | |
| TSS.zebrafish.Zv9 | 0.142 | 0.008 | 0.150 | |
| addAncestors | 1.387 | 0.066 | 1.503 | |
| addGeneIDs | 2.536 | 0.621 | 3.212 | |
| addMetadata | 1.664 | 0.062 | 1.734 | |
| annoGR | 0 | 0 | 0 | |
| annoPeaks | 3.452 | 0.309 | 6.215 | |
| annotatePeakInBatch | 15.080 | 0.667 | 15.874 | |
| annotatedPeak | 0.088 | 0.004 | 0.093 | |
| assignChromosomeRegion | 0.002 | 0.000 | 0.003 | |
| bdp | 0.001 | 0.000 | 0.000 | |
| binOverFeature | 0.827 | 0.023 | 0.862 | |
| binOverGene | 0.001 | 0.000 | 0.001 | |
| binOverRegions | 0.001 | 0.000 | 0.001 | |
| condenseMatrixByColnames | 0.011 | 0.001 | 0.010 | |
| convert2EntrezID | 0.616 | 0.010 | 0.630 | |
| countPatternInSeqs | 0.177 | 0.005 | 0.183 | |
| cumulativePercentage | 0.000 | 0.001 | 0.000 | |
| downstreams | 0.024 | 0.000 | 0.025 | |
| egOrgMap | 0.000 | 0.000 | 0.001 | |
| enrichedGO | 0.002 | 0.003 | 0.005 | |
| enrichmentPlot | 0.529 | 0.012 | 0.543 | |
| estFragmentLength | 0.001 | 0.001 | 0.001 | |
| estLibSize | 0.001 | 0.000 | 0.001 | |
| featureAlignedDistribution | 0.243 | 0.004 | 0.251 | |
| featureAlignedExtendSignal | 0.003 | 0.001 | 0.003 | |
| featureAlignedHeatmap | 0.348 | 0.004 | 0.354 | |
| featureAlignedSignal | 0.188 | 0.045 | 0.238 | |
| findEnhancers | 24.815 | 0.590 | 25.620 | |
| findMotifsInPromoterSeqs | 15.115 | 0.335 | 15.568 | |
| findOverlappingPeaks | 0.002 | 0.000 | 0.002 | |
| findOverlapsOfPeaks | 1.949 | 0.025 | 1.979 | |
| genomicElementDistribution | 0.002 | 0.000 | 0.003 | |
| genomicElementUpSetR | 0.001 | 0.000 | 0.001 | |
| getAllPeakSequence | 0.631 | 0.024 | 0.663 | |
| getAnnotation | 0.002 | 0.001 | 0.002 | |
| getEnrichedGO | 0.012 | 0.006 | 0.018 | |
| getEnrichedPATH | 0.001 | 0.000 | 0.001 | |
| getGO | 0.000 | 0.001 | 0.000 | |
| getGeneSeq | 0.002 | 0.001 | 0.003 | |
| getUniqueGOidCount | 0.000 | 0.000 | 0.001 | |
| getVennCounts | 0.001 | 0.000 | 0.002 | |
| hyperGtest | 0.001 | 0.001 | 0.002 | |
| makeVennDiagram | 0.004 | 0.001 | 0.005 | |
| mergePlusMinusPeaks | 0.001 | 0.001 | 0.001 | |
| metagenePlot | 2.389 | 0.069 | 2.482 | |
| myPeakList | 0.024 | 0.002 | 0.029 | |
| oligoFrequency | 0.126 | 0.007 | 0.133 | |
| oligoSummary | 0.000 | 0.000 | 0.001 | |
| peakPermTest | 0.002 | 0.000 | 0.003 | |
| peaks1 | 0.008 | 0.002 | 0.010 | |
| peaks2 | 0.007 | 0.002 | 0.010 | |
| peaks3 | 0.010 | 0.003 | 0.012 | |
| peaksNearBDP | 0.001 | 0.001 | 0.001 | |
| pie1 | 0.006 | 0.001 | 0.007 | |
| plotBinOverRegions | 0.000 | 0.001 | 0.001 | |
| preparePool | 0.000 | 0.000 | 0.001 | |
| reCenterPeaks | 0.025 | 0.001 | 0.026 | |
| summarizeOverlapsByBins | 7.403 | 0.532 | 7.638 | |
| summarizePatternInPeaks | 1.450 | 0.436 | 1.911 | |
| tileCount | 0.352 | 0.355 | 0.434 | |
| tileGRanges | 0.042 | 0.016 | 0.071 | |
| toGRanges | 0.083 | 0.023 | 0.106 | |
| translatePattern | 0.001 | 0.001 | 0.001 | |
| wgEncodeTfbsV3 | 0.323 | 0.020 | 0.344 | |
| write2FASTA | 0.016 | 0.005 | 0.021 | |
| xget | 0.125 | 0.024 | 0.148 | |