| Back to Multiple platform build/check report for BioC 3.20: simplified long |
|
This page was generated on 2024-11-20 12:07 -0500 (Wed, 20 Nov 2024).
| Hostname | OS | Arch (*) | R version | Installed pkgs |
|---|---|---|---|---|
| teran2 | Linux (Ubuntu 24.04.1 LTS) | x86_64 | 4.4.2 (2024-10-31) -- "Pile of Leaves" | 4481 |
| nebbiolo2 | Linux (Ubuntu 24.04.1 LTS) | x86_64 | 4.4.2 (2024-10-31) -- "Pile of Leaves" | 4479 |
| palomino8 | Windows Server 2022 Datacenter | x64 | 4.4.2 (2024-10-31 ucrt) -- "Pile of Leaves" | 4359 |
| lconway | macOS 12.7.1 Monterey | x86_64 | 4.4.1 (2024-06-14) -- "Race for Your Life" | 4539 |
| kunpeng2 | Linux (openEuler 22.03 LTS-SP1) | aarch64 | 4.4.1 (2024-06-14) -- "Race for Your Life" | 4493 |
| Click on any hostname to see more info about the system (e.g. compilers) (*) as reported by 'uname -p', except on Windows and Mac OS X | ||||
| Package 314/2289 | Hostname | OS / Arch | INSTALL | BUILD | CHECK | BUILD BIN | ||||||||
| CeTF 1.18.0 (landing page) Carlos Alberto Oliveira de Biagi Junior
| teran2 | Linux (Ubuntu 24.04.1 LTS) / x86_64 | OK | OK | OK | |||||||||
| nebbiolo2 | Linux (Ubuntu 24.04.1 LTS) / x86_64 | OK | OK | OK | ||||||||||
| palomino8 | Windows Server 2022 Datacenter / x64 | OK | OK | OK | OK | |||||||||
| lconway | macOS 12.7.1 Monterey / x86_64 | OK | OK | OK | OK | |||||||||
| kunpeng2 | Linux (openEuler 22.03 LTS-SP1) / aarch64 | OK | OK | OK | ||||||||||
|
To the developers/maintainers of the CeTF package: - Allow up to 24 hours (and sometimes 48 hours) for your latest push to git@git.bioconductor.org:packages/CeTF.git to reflect on this report. See Troubleshooting Build Report for more information. - Use the following Renviron settings to reproduce errors and warnings. - If 'R CMD check' started to fail recently on the Linux builder(s) over a missing dependency, add the missing dependency to 'Suggests:' in your DESCRIPTION file. See Renviron.bioc for more information. - See Martin Grigorov's blog post for how to debug Linux ARM64 related issues on a x86_64 host. |
| Package: CeTF |
| Version: 1.18.0 |
| Command: /home/biocbuild/R/R/bin/R CMD check --install=check:CeTF.install-out.txt --library=/home/biocbuild/R/R/site-library --no-vignettes --timings CeTF_1.18.0.tar.gz |
| StartedAt: 2024-11-20 06:06:31 -0000 (Wed, 20 Nov 2024) |
| EndedAt: 2024-11-20 06:13:02 -0000 (Wed, 20 Nov 2024) |
| EllapsedTime: 390.8 seconds |
| RetCode: 0 |
| Status: OK |
| CheckDir: CeTF.Rcheck |
| Warnings: 0 |
##############################################################################
##############################################################################
###
### Running command:
###
### /home/biocbuild/R/R/bin/R CMD check --install=check:CeTF.install-out.txt --library=/home/biocbuild/R/R/site-library --no-vignettes --timings CeTF_1.18.0.tar.gz
###
##############################################################################
##############################################################################
* using log directory ‘/home/biocbuild/bbs-3.20-bioc/meat/CeTF.Rcheck’
* using R version 4.4.1 (2024-06-14)
* using platform: aarch64-unknown-linux-gnu
* R was compiled by
gcc (GCC) 12.2.1 20220819 (openEuler 12.2.1-14)
GNU Fortran (GCC) 10.3.1
* running under: openEuler 22.03 (LTS-SP1)
* using session charset: UTF-8
* using option ‘--no-vignettes’
* checking for file ‘CeTF/DESCRIPTION’ ... OK
* checking extension type ... Package
* this is package ‘CeTF’ version ‘1.18.0’
* package encoding: UTF-8
* checking package namespace information ... OK
* checking package dependencies ... OK
* checking if this is a source package ... OK
* checking if there is a namespace ... OK
* checking for hidden files and directories ... OK
* checking for portable file names ... OK
* checking for sufficient/correct file permissions ... OK
* checking whether package ‘CeTF’ can be installed ... OK
* used C++ compiler: ‘g++ (conda-forge gcc 14.2.0-1) 14.2.0’
* checking installed package size ... OK
* checking package directory ... OK
* checking ‘build’ directory ... OK
* checking DESCRIPTION meta-information ... OK
* checking top-level files ... OK
* checking for left-over files ... OK
* checking index information ... OK
* checking package subdirectories ... OK
* checking code files for non-ASCII characters ... OK
* checking R files for syntax errors ... OK
* checking whether the package can be loaded ... OK
* checking whether the package can be loaded with stated dependencies ... OK
* checking whether the package can be unloaded cleanly ... OK
* checking whether the namespace can be loaded with stated dependencies ... OK
* checking whether the namespace can be unloaded cleanly ... OK
* checking loading without being on the library search path ... OK
* checking whether startup messages can be suppressed ... OK
* checking dependencies in R code ... OK
* checking S3 generic/method consistency ... OK
* checking replacement functions ... OK
* checking foreign function calls ... OK
* checking R code for possible problems ... OK
* checking Rd files ... OK
* checking Rd metadata ... OK
* checking Rd cross-references ... OK
* checking for missing documentation entries ... OK
* checking for code/documentation mismatches ... OK
* checking Rd \usage sections ... OK
* checking Rd contents ... OK
* checking for unstated dependencies in examples ... OK
* checking contents of ‘data’ directory ... OK
* checking data for non-ASCII characters ... OK
* checking LazyData ... OK
* checking data for ASCII and uncompressed saves ... OK
* checking line endings in C/C++/Fortran sources/headers ... OK
* checking compiled code ... NOTE
Note: information on .o files is not available
* checking files in ‘vignettes’ ... OK
* checking examples ... OK
* checking for unstated dependencies in ‘tests’ ... OK
* checking tests ...
Running ‘testthat.R’
OK
* checking for unstated dependencies in vignettes ... OK
* checking package vignettes ... OK
* checking running R code from vignettes ... SKIPPED
* checking re-building of vignette outputs ... SKIPPED
* checking PDF version of manual ... OK
* DONE
Status: 1 NOTE
See
‘/home/biocbuild/bbs-3.20-bioc/meat/CeTF.Rcheck/00check.log’
for details.
CeTF.Rcheck/00install.out
############################################################################## ############################################################################## ### ### Running command: ### ### /home/biocbuild/R/R/bin/R CMD INSTALL CeTF ### ############################################################################## ############################################################################## * installing to library ‘/home/biocbuild/R/R-4.4.1/site-library’ * installing *source* package ‘CeTF’ ... ** using staged installation ** libs using C++ compiler: ‘g++ (conda-forge gcc 14.2.0-1) 14.2.0’ g++ -std=gnu++17 -I"/home/biocbuild/R/R-4.4.1/include" -DNDEBUG -I'/home/biocbuild/R/R-4.4.1/site-library/Rcpp/include' -I'/home/biocbuild/R/R-4.4.1/site-library/RcppArmadillo/include' -I/usr/local/include -fPIC -g -O2 -Wall -c PCIT.cpp -o PCIT.o g++ -std=gnu++17 -I"/home/biocbuild/R/R-4.4.1/include" -DNDEBUG -I'/home/biocbuild/R/R-4.4.1/site-library/Rcpp/include' -I'/home/biocbuild/R/R-4.4.1/site-library/RcppArmadillo/include' -I/usr/local/include -fPIC -g -O2 -Wall -c RcppExports.cpp -o RcppExports.o g++ -std=gnu++17 -shared -L/home/biocbuild/R/R-4.4.1/lib -L/usr/local/lib -o CeTF.so PCIT.o RcppExports.o -L/home/biocbuild/R/R-4.4.1/lib -lR installing to /home/biocbuild/R/R-4.4.1/site-library/00LOCK-CeTF/00new/CeTF/libs ** R ** data *** moving datasets to lazyload DB ** inst ** byte-compile and prepare package for lazy loading ** help *** installing help indices ** building package indices ** installing vignettes ** testing if installed package can be loaded from temporary location ** checking absolute paths in shared objects and dynamic libraries ** testing if installed package can be loaded from final location ** testing if installed package keeps a record of temporary installation path * DONE (CeTF)
CeTF.Rcheck/tests/testthat.Rout
R version 4.4.1 (2024-06-14) -- "Race for Your Life"
Copyright (C) 2024 The R Foundation for Statistical Computing
Platform: aarch64-unknown-linux-gnu
R is free software and comes with ABSOLUTELY NO WARRANTY.
You are welcome to redistribute it under certain conditions.
Type 'license()' or 'licence()' for distribution details.
R is a collaborative project with many contributors.
Type 'contributors()' for more information and
'citation()' on how to cite R or R packages in publications.
Type 'demo()' for some demos, 'help()' for on-line help, or
'help.start()' for an HTML browser interface to help.
Type 'q()' to quit R.
> library("testthat")
> library("CeTF")
========================================
CeTF version 1.18.0
Bioconductor page: http://bioconductor.org/packages/CeTF/
Github page: https://github.com/cbiagii/CeTF or https://cbiagii.github.io/CeTF/
Documentation: http://bioconductor.org/packages/CeTF/
If you use it in published research, please cite:
Carlos Alberto Oliveira de Biagi Junior, Ricardo Perecin Nociti, Breno Osvaldo
Funicheli, Patricia de Cassia Ruy, Joao Paulo Bianchi Ximenez, Wilson A Silva Jr.
CeTF: an R package to Coexpression for Transcription Factors using Regulatory
Impact Factors (RIF) and Partial Correlation and Information (PCIT) analysis.
bioRxiv. 2020, DOI: 10.1101/2020.03.30.015784
========================================
> test_check("CeTF")
[ FAIL 0 | WARN 0 | SKIP 0 | PASS 43 ]
>
> proc.time()
user system elapsed
17.389 0.676 18.001
CeTF.Rcheck/CeTF-Ex.timings
| name | user | system | elapsed | |
| CeTFdemo | 0.000 | 0.002 | 0.002 | |
| CircosTargets | 0.000 | 0.000 | 0.001 | |
| InputData-methods | 0.019 | 0.000 | 0.019 | |
| NetworkData-methods | 0.174 | 0.000 | 0.174 | |
| OutputData-methods | 0.020 | 0.008 | 0.028 | |
| PCIT | 0.02 | 0.00 | 0.02 | |
| RIF | 0.019 | 0.000 | 0.018 | |
| RIFPlot | 1.662 | 0.040 | 1.706 | |
| RIF_input | 0.001 | 0.000 | 0.001 | |
| SmearPlot | 1.687 | 0.056 | 1.748 | |
| TFs | 0.001 | 0.000 | 0.001 | |
| bivar.awk | 0.002 | 0.000 | 0.001 | |
| clustCoef | 0.035 | 0.003 | 0.039 | |
| clustCoefPercentage | 0.031 | 0.004 | 0.034 | |
| densityPlot | 1.650 | 0.056 | 1.710 | |
| diffusion | 0.001 | 0.000 | 0.000 | |
| enrichPlot | 0.695 | 0.064 | 0.761 | |
| enrichdemo | 0.000 | 0.001 | 0.001 | |
| expDiff | 0.526 | 0.011 | 0.537 | |
| getDE-methods | 0.014 | 0.004 | 0.019 | |
| getData-methods | 0.005 | 0.012 | 0.017 | |
| getEnrich | 0 | 0 | 0 | |
| getGroupGO | 0 | 0 | 0 | |
| heatPlot | 1.576 | 0.064 | 1.644 | |
| histPlot | 0.567 | 0.008 | 0.576 | |
| netConditionsPlot | 2.931 | 0.012 | 2.950 | |
| netGOTFPlot | 0 | 0 | 0 | |
| normExp | 0.128 | 0.007 | 0.134 | |
| pcitC | 0.022 | 0.004 | 0.025 | |
| refGenes | 0.001 | 0.000 | 0.001 | |
| runAnalysis | 0.516 | 0.000 | 0.518 | |
| simCounts | 0.000 | 0.000 | 0.001 | |
| simNorm | 0.001 | 0.000 | 0.000 | |
| tolerance | 0.001 | 0.000 | 0.000 | |