| Back to Multiple platform build/check report for BioC 3.20: simplified long | 
 | 
This page was generated on 2025-04-02 19:30 -0400 (Wed, 02 Apr 2025).
| Hostname | OS | Arch (*) | R version | Installed pkgs | 
|---|---|---|---|---|
| nebbiolo2 | Linux (Ubuntu 24.04.1 LTS) | x86_64 | 4.4.3 (2025-02-28) -- "Trophy Case" | 4764 | 
| palomino8 | Windows Server 2022 Datacenter | x64 | 4.4.3 (2025-02-28 ucrt) -- "Trophy Case" | 4495 | 
| merida1 | macOS 12.7.5 Monterey | x86_64 | 4.4.3 (2025-02-28) -- "Trophy Case" | 4522 | 
| kjohnson1 | macOS 13.6.6 Ventura | arm64 | 4.4.3 (2025-02-28) -- "Trophy Case" | 4449 | 
| taishan | Linux (openEuler 24.03 LTS) | aarch64 | 4.4.3 (2025-02-28) -- "Trophy Case" | 4426 | 
| Click on any hostname to see more info about the system (e.g. compilers) (*) as reported by 'uname -p', except on Windows and Mac OS X | ||||
| Package 444/2289 | Hostname | OS / Arch | INSTALL | BUILD | CHECK | BUILD BIN | ||||||||
| COSNet 1.40.0  (landing page) Marco Frasca 
 | nebbiolo2 | Linux (Ubuntu 24.04.1 LTS) / x86_64 | OK | OK | WARNINGS |  | ||||||||
| palomino8 | Windows Server 2022 Datacenter / x64 | OK | OK | WARNINGS | OK |  | ||||||||
| merida1 | macOS 12.7.5 Monterey / x86_64 | OK | OK | WARNINGS | OK |  | ||||||||
| kjohnson1 | macOS 13.6.6 Ventura / arm64 | OK | OK | WARNINGS | OK |  | ||||||||
| taishan | Linux (openEuler 24.03 LTS) / aarch64 | OK | OK | WARNINGS | ||||||||||
| To the developers/maintainers of the COSNet package: - Allow up to 24 hours (and sometimes 48 hours) for your latest push to git@git.bioconductor.org:packages/COSNet.git to reflect on this report. See Troubleshooting Build Report for more information. - Use the following Renviron settings to reproduce errors and warnings. - If 'R CMD check' started to fail recently on the Linux builder(s) over a missing dependency, add the missing dependency to 'Suggests:' in your DESCRIPTION file. See Renviron.bioc for more information. | 
| Package: COSNet | 
| Version: 1.40.0 | 
| Command: rm -rf COSNet.buildbin-libdir && mkdir COSNet.buildbin-libdir && F:\biocbuild\bbs-3.20-bioc\R\bin\R.exe CMD INSTALL --build --library=COSNet.buildbin-libdir COSNet_1.40.0.tar.gz | 
| StartedAt: 2025-04-01 07:58:50 -0400 (Tue, 01 Apr 2025) | 
| EndedAt: 2025-04-01 07:59:00 -0400 (Tue, 01 Apr 2025) | 
| EllapsedTime: 10.0 seconds | 
| RetCode: 0 | 
| Status: OK | 
| PackageFile: COSNet_1.40.0.zip | 
| PackageFileSize: 332.1 KiB | 
##############################################################################
##############################################################################
###
### Running command:
###
###   rm -rf COSNet.buildbin-libdir && mkdir COSNet.buildbin-libdir && F:\biocbuild\bbs-3.20-bioc\R\bin\R.exe CMD INSTALL --build --library=COSNet.buildbin-libdir COSNet_1.40.0.tar.gz
###
##############################################################################
##############################################################################
* installing *source* package 'COSNet' ...
** using staged installation
** libs
using C compiler: 'gcc.exe (GCC) 13.3.0'
gcc  -I"F:/biocbuild/bbs-3.20-bioc/R/include" -DNDEBUG     -I"C:/rtools44/x86_64-w64-mingw32.static.posix/include"     -O2 -Wall  -mfpmath=sse -msse2 -mstackrealign  -c COSNet.c -o COSNet.o
In function 'compute_c',
    inlined from 'error_minimization' at COSNet.c:456:2:
COSNet.c:207:36: warning: 'theta_best_over' may be used uninitialized [-Wmaybe-uninitialized]
  207 |                 c_values[j] = y1 - tan(theta_best)*x1;
      |                                    ^~~~~~~~~~~~~~~
COSNet.c: In function 'error_minimization':
COSNet.c:409:16: note: 'theta_best_over' was declared here
  409 |         double theta_best_over, theta_best_under=0,tmp_hmean_under, tmp_hmean_over;
      |                ^~~~~~~~~~~~~~~
gcc -shared -s -static-libgcc -o COSNet.dll tmp.def COSNet.o -LC:/rtools44/x86_64-w64-mingw32.static.posix/lib/x64 -LC:/rtools44/x86_64-w64-mingw32.static.posix/lib -LF:/biocbuild/bbs-3.20-bioc/R/bin/x64 -lR
installing to F:/biocbuild/bbs-3.20-bioc/meat/COSNet.buildbin-libdir/00LOCK-COSNet/00new/COSNet/libs/x64
** R
** inst
** byte-compile and prepare package for lazy loading
** help
*** installing help indices
** building package indices
** installing vignettes
** testing if installed package can be loaded from temporary location
COSNet: Cost-Sensitive algorithm for binary classification in graphs.
** testing if installed package can be loaded from final location
COSNet: Cost-Sensitive algorithm for binary classification in graphs.
** testing if installed package keeps a record of temporary installation path
* MD5 sums
packaged installation of 'COSNet' as COSNet_1.40.0.zip
* DONE (COSNet)