| Back to Multiple platform build/check report for BioC 3.20: simplified long |
|
This page was generated on 2024-11-09 21:30 -0500 (Sat, 09 Nov 2024).
| Hostname | OS | Arch (*) | R version | Installed pkgs |
|---|---|---|---|---|
| teran2 | Linux (Ubuntu 24.04.1 LTS) | x86_64 | 4.4.1 (2024-06-14) -- "Race for Your Life" | 4505 |
| palomino8 | Windows Server 2022 Datacenter | x64 | 4.4.1 (2024-06-14 ucrt) -- "Race for Your Life" | 4506 |
| lconway | macOS 12.7.1 Monterey | x86_64 | 4.4.1 (2024-06-14) -- "Race for Your Life" | 4538 |
| kjohnson3 | macOS 13.6.5 Ventura | arm64 | 4.4.1 (2024-06-14) -- "Race for Your Life" | 4486 |
| kunpeng2 | Linux (openEuler 22.03 LTS-SP1) | aarch64 | 4.4.1 (2024-06-14) -- "Race for Your Life" | 4493 |
| Click on any hostname to see more info about the system (e.g. compilers) (*) as reported by 'uname -p', except on Windows and Mac OS X | ||||
| Package 268/2289 | Hostname | OS / Arch | INSTALL | BUILD | CHECK | BUILD BIN | ||||||||
| CAMERA 1.62.0 (landing page) Steffen Neumann
| teran2 | Linux (Ubuntu 24.04.1 LTS) / x86_64 | OK | OK | WARNINGS | |||||||||
| palomino8 | Windows Server 2022 Datacenter / x64 | OK | OK | WARNINGS | OK | |||||||||
| lconway | macOS 12.7.1 Monterey / x86_64 | OK | OK | ERROR | OK | |||||||||
| kjohnson3 | macOS 13.6.5 Ventura / arm64 | OK | OK | ERROR | OK | |||||||||
| kunpeng2 | Linux (openEuler 22.03 LTS-SP1) / aarch64 | OK | OK | WARNINGS | ||||||||||
|
To the developers/maintainers of the CAMERA package: - Allow up to 24 hours (and sometimes 48 hours) for your latest push to git@git.bioconductor.org:packages/CAMERA.git to reflect on this report. See Troubleshooting Build Report for more information. - Use the following Renviron settings to reproduce errors and warnings. - If 'R CMD check' started to fail recently on the Linux builder(s) over a missing dependency, add the missing dependency to 'Suggests:' in your DESCRIPTION file. See Renviron.bioc for more information. |
| Package: CAMERA |
| Version: 1.62.0 |
| Command: /Library/Frameworks/R.framework/Resources/bin/R CMD check --install=check:CAMERA.install-out.txt --library=/Library/Frameworks/R.framework/Resources/library --no-vignettes --timings CAMERA_1.62.0.tar.gz |
| StartedAt: 2024-11-08 22:05:10 -0500 (Fri, 08 Nov 2024) |
| EndedAt: 2024-11-08 22:08:56 -0500 (Fri, 08 Nov 2024) |
| EllapsedTime: 226.2 seconds |
| RetCode: 1 |
| Status: ERROR |
| CheckDir: CAMERA.Rcheck |
| Warnings: NA |
##############################################################################
##############################################################################
###
### Running command:
###
### /Library/Frameworks/R.framework/Resources/bin/R CMD check --install=check:CAMERA.install-out.txt --library=/Library/Frameworks/R.framework/Resources/library --no-vignettes --timings CAMERA_1.62.0.tar.gz
###
##############################################################################
##############################################################################
* using log directory ‘/Users/biocbuild/bbs-3.20-bioc/meat/CAMERA.Rcheck’
* using R version 4.4.1 (2024-06-14)
* using platform: aarch64-apple-darwin20
* R was compiled by
Apple clang version 14.0.0 (clang-1400.0.29.202)
GNU Fortran (GCC) 12.2.0
* running under: macOS Ventura 13.6.7
* using session charset: UTF-8
* using option ‘--no-vignettes’
* checking for file ‘CAMERA/DESCRIPTION’ ... OK
* this is package ‘CAMERA’ version ‘1.62.0’
* checking package namespace information ... OK
* checking package dependencies ...Warning: unable to access index for repository https://CRAN.R-project.org/src/contrib:
cannot open URL 'https://CRAN.R-project.org/src/contrib/PACKAGES'
ERROR
Package suggested but not available: ‘faahKO’
Package which this enhances but not available for checking: ‘Rmpi’
The suggested packages are required for a complete check.
Checking can be attempted without them by setting the environment
variable _R_CHECK_FORCE_SUGGESTS_ to a false value.
See section ‘The DESCRIPTION file’ in the ‘Writing R Extensions’
manual.
* DONE
Status: 1 ERROR
See
‘/Users/biocbuild/bbs-3.20-bioc/meat/CAMERA.Rcheck/00check.log’
for details.