| Back to Multiple platform build/check report for BioC 3.20: simplified long | 
 | 
This page was generated on 2025-04-02 19:35 -0400 (Wed, 02 Apr 2025).
| Hostname | OS | Arch (*) | R version | Installed pkgs | 
|---|---|---|---|---|
| nebbiolo2 | Linux (Ubuntu 24.04.1 LTS) | x86_64 | 4.4.3 (2025-02-28) -- "Trophy Case" | 4764 | 
| palomino8 | Windows Server 2022 Datacenter | x64 | 4.4.3 (2025-02-28 ucrt) -- "Trophy Case" | 4495 | 
| merida1 | macOS 12.7.5 Monterey | x86_64 | 4.4.3 (2025-02-28) -- "Trophy Case" | 4522 | 
| kjohnson1 | macOS 13.6.6 Ventura | arm64 | 4.4.3 (2025-02-28) -- "Trophy Case" | 4449 | 
| taishan | Linux (openEuler 24.03 LTS) | aarch64 | 4.4.3 (2025-02-28) -- "Trophy Case" | 4426 | 
| Click on any hostname to see more info about the system (e.g. compilers) (*) as reported by 'uname -p', except on Windows and Mac OS X | ||||
| Package 260/2289 | Hostname | OS / Arch | INSTALL | BUILD | CHECK | BUILD BIN | ||||||||
| BUSseq 1.12.0  (landing page) Fangda Song 
 | nebbiolo2 | Linux (Ubuntu 24.04.1 LTS) / x86_64 | OK | OK | OK |  | ||||||||
| palomino8 | Windows Server 2022 Datacenter / x64 | OK | OK | OK | OK |  | ||||||||
| merida1 | macOS 12.7.5 Monterey / x86_64 | OK | OK | OK | OK |  | ||||||||
| kjohnson1 | macOS 13.6.6 Ventura / arm64 | OK | OK | OK | OK |  | ||||||||
| taishan | Linux (openEuler 24.03 LTS) / aarch64 | OK | OK | OK | ||||||||||
| To the developers/maintainers of the BUSseq package: - Allow up to 24 hours (and sometimes 48 hours) for your latest push to git@git.bioconductor.org:packages/BUSseq.git to reflect on this report. See Troubleshooting Build Report for more information. - Use the following Renviron settings to reproduce errors and warnings. - If 'R CMD check' started to fail recently on the Linux builder(s) over a missing dependency, add the missing dependency to 'Suggests:' in your DESCRIPTION file. See Renviron.bioc for more information. - See Martin Grigorov's blog post for how to debug Linux ARM64 related issues on a x86_64 host. | 
| Package: BUSseq | 
| Version: 1.12.0 | 
| Command: /home/biocbuild/R/R/bin/R CMD INSTALL BUSseq | 
| StartedAt: 2025-03-31 20:22:38 -0000 (Mon, 31 Mar 2025) | 
| EndedAt: 2025-03-31 20:23:12 -0000 (Mon, 31 Mar 2025) | 
| EllapsedTime: 33.7 seconds | 
| RetCode: 0 | 
| Status: OK | 
##############################################################################
##############################################################################
###
### Running command:
###
###   /home/biocbuild/R/R/bin/R CMD INSTALL BUSseq
###
##############################################################################
##############################################################################
* installing to library ‘/home/biocbuild/R/R-4.4.3/site-library’
* installing *source* package ‘BUSseq’ ...
** using staged installation
** libs
using C++ compiler: ‘aarch64-unknown-linux-gnu-g++ (GCC) 14.2.0’
/home/biocbuild/R/R-4.4.3/share/make/shlib.mk:10: warning: overriding recipe for target 'BUSseq.so'
Makevars:9: warning: ignoring old recipe for target 'BUSseq.so'
/opt/ohpc/pub/compiler/gcc/14.2.0/bin/aarch64-unknown-linux-gnu-g++ -std=gnu++17 -I"/home/biocbuild/R/R-4.4.3/include" -DNDEBUG   -I/usr/local/include   -fopenmp -fPIC  -g -O2  -Wall  -c BUSseq.cpp -o BUSseq.o
BUSseq.cpp: In function ‘double postprob_DE_thr_fun(double*, double, int, int)’:
BUSseq.cpp:964:69: warning: comparison of integer expressions of different signedness: ‘int’ and ‘unsigned int’ [-Wsign-compare]
  964 |     while((fdr <= _fdr_threshold) & (kappa <= postprob_DE_thr) & (i < (unsigned)vec_PPI.size())){
      |                                                                   ~~^~~~~~~~~~~~~~~~~~~~~~~~~~
BUSseq.cpp: In function ‘void BUSseq_inference(int*, int*, int*, int*, char**, double*, double*, double*, double*, double*, double*, double*, double*, double*, double*, double*, double*, double*, double*, double*, double*, double*, double*, double*, int*, double*, int*, double*)’:
BUSseq.cpp:2674:14: warning: variable ‘All_Drop’ set but not used [-Wunused-but-set-variable]
 2674 |         bool All_Drop = true;
      |              ^~~~~~~~
/opt/ohpc/pub/compiler/gcc/14.2.0/bin/aarch64-unknown-linux-gnu-g++ -std=gnu++17 -I"/home/biocbuild/R/R-4.4.3/include" -DNDEBUG   -I/usr/local/include   -fopenmp -fPIC  -g -O2  -Wall  -c rngstream.cpp -o rngstream.o
/opt/ohpc/pub/compiler/gcc/14.2.0/bin/aarch64-unknown-linux-gnu-g++ -std=gnu++17 -shared -L/home/biocbuild/R/R-4.4.3/lib -L/usr/local/lib -o BUSseq.so BUSseq.o rngstream.o -fopenmp -lopenblas -lgfortran -lm -L/home/biocbuild/R/R-4.4.3/lib -lR
installing to /home/biocbuild/R/R-4.4.3/site-library/00LOCK-BUSseq/00new/BUSseq/libs
** R
** data
*** moving datasets to lazyload DB
** inst
** byte-compile and prepare package for lazy loading
** help
*** installing help indices
** building package indices
** installing vignettes
** testing if installed package can be loaded from temporary location
** checking absolute paths in shared objects and dynamic libraries
** testing if installed package can be loaded from final location
** testing if installed package keeps a record of temporary installation path
* DONE (BUSseq)