| Back to Multiple platform build/check report for BioC 3.20: simplified long | 
 | 
This page was generated on 2024-07-16 11:40 -0400 (Tue, 16 Jul 2024).
| Hostname | OS | Arch (*) | R version | Installed pkgs | 
|---|---|---|---|---|
| nebbiolo2 | Linux (Ubuntu 22.04.3 LTS) | x86_64 | 4.4.1 (2024-06-14) -- "Race for Your Life" | 4677 | 
| palomino6 | Windows Server 2022 Datacenter | x64 | 4.4.1 (2024-06-14 ucrt) -- "Race for Your Life" | 4416 | 
| lconway | macOS 12.7.1 Monterey | x86_64 | 4.4.1 (2024-06-14) -- "Race for Your Life" | 4444 | 
| kjohnson3 | macOS 13.6.5 Ventura | arm64 | 4.4.1 (2024-06-14) -- "Race for Your Life" | 4393 | 
| palomino8 | Windows Server 2022 Datacenter | x64 | 4.4.1 (2024-06-14 ucrt) -- "Race for Your Life" | 4373 | 
| Click on any hostname to see more info about the system (e.g. compilers) (*) as reported by 'uname -p', except on Windows and Mac OS X | ||||
| Package 254/2243 | Hostname | OS / Arch | INSTALL | BUILD | CHECK | BUILD BIN | ||||||||
| BUSpaRse 1.19.0  (landing page) Lambda Moses 
 | nebbiolo2 | Linux (Ubuntu 22.04.3 LTS) / x86_64 | OK | OK | ERROR | |||||||||
| palomino6 | Windows Server 2022 Datacenter / x64 | OK | OK | ERROR | OK | |||||||||
| lconway | macOS 12.7.1 Monterey / x86_64 | OK | OK | ERROR | OK | |||||||||
| kjohnson3 | macOS 13.6.5 Ventura / arm64 | OK | OK | ERROR | OK | |||||||||
| palomino8 | Windows Server 2022 Datacenter / x64 | OK | OK | ERROR | OK | |||||||||
| To the developers/maintainers of the BUSpaRse package: - Allow up to 24 hours (and sometimes 48 hours) for your latest push to git@git.bioconductor.org:packages/BUSpaRse.git to reflect on this report. See Troubleshooting Build Report for more information. - Use the following Renviron settings to reproduce errors and warnings. - If 'R CMD check' started to fail recently on the Linux builder(s) over a missing dependency, add the missing dependency to 'Suggests:' in your DESCRIPTION file. See Renviron.bioc for more information. | 
| Package: BUSpaRse | 
| Version: 1.19.0 | 
| Command: C:\Users\biocbuild\bbs-3.20-bioc\R\bin\R.exe CMD check --no-multiarch --install=check:BUSpaRse.install-out.txt --library=C:\Users\biocbuild\bbs-3.20-bioc\R\library --no-vignettes --timings BUSpaRse_1.19.0.tar.gz | 
| StartedAt: 2024-07-15 22:20:57 -0400 (Mon, 15 Jul 2024) | 
| EndedAt: 2024-07-15 22:29:59 -0400 (Mon, 15 Jul 2024) | 
| EllapsedTime: 542.3 seconds | 
| RetCode: 1 | 
| Status: ERROR | 
| CheckDir: BUSpaRse.Rcheck | 
| Warnings: NA | 
##############################################################################
##############################################################################
###
### Running command:
###
###   C:\Users\biocbuild\bbs-3.20-bioc\R\bin\R.exe CMD check --no-multiarch --install=check:BUSpaRse.install-out.txt --library=C:\Users\biocbuild\bbs-3.20-bioc\R\library --no-vignettes --timings BUSpaRse_1.19.0.tar.gz
###
##############################################################################
##############################################################################
* using log directory 'C:/Users/biocbuild/bbs-3.20-bioc/meat/BUSpaRse.Rcheck'
* using R version 4.4.1 (2024-06-14 ucrt)
* using platform: x86_64-w64-mingw32
* R was compiled by
    gcc.exe (GCC) 13.2.0
    GNU Fortran (GCC) 13.2.0
* running under: Windows Server 2022 x64 (build 20348)
* using session charset: UTF-8
* using option '--no-vignettes'
* checking for file 'BUSpaRse/DESCRIPTION' ... OK
* checking extension type ... Package
* this is package 'BUSpaRse' version '1.19.0'
* package encoding: UTF-8
* checking package namespace information ... OK
* checking package dependencies ... OK
* checking if this is a source package ... OK
* checking if there is a namespace ... OK
* checking for hidden files and directories ... OK
* checking for portable file names ... OK
* checking whether package 'BUSpaRse' can be installed ... OK
* used C++ compiler: 'G__~1.EXE (GCC) 13.2.0'
* checking C++ specification ... NOTE
  Specified C++11: please drop specification unless essential
* checking installed package size ... OK
* checking package directory ... OK
* checking 'build' directory ... OK
* checking DESCRIPTION meta-information ... NOTE
License stub is invalid DCF.
* checking top-level files ... OK
* checking for left-over files ... OK
* checking index information ... OK
* checking package subdirectories ... OK
* checking code files for non-ASCII characters ... OK
* checking R files for syntax errors ... OK
* checking whether the package can be loaded ... OK
* checking whether the package can be loaded with stated dependencies ... OK
* checking whether the package can be unloaded cleanly ... OK
* checking whether the namespace can be loaded with stated dependencies ... OK
* checking whether the namespace can be unloaded cleanly ... OK
* checking dependencies in R code ... OK
* checking S3 generic/method consistency ... OK
* checking replacement functions ... OK
* checking foreign function calls ... OK
* checking R code for possible problems ... OK
* checking Rd files ... OK
* checking Rd metadata ... OK
* checking Rd cross-references ... OK
* checking for missing documentation entries ... OK
* checking for code/documentation mismatches ... OK
* checking Rd \usage sections ... OK
* checking Rd contents ... OK
* checking for unstated dependencies in examples ... OK
* checking contents of 'data' directory ... OK
* checking data for non-ASCII characters ... OK
* checking LazyData ... OK
* checking data for ASCII and uncompressed saves ... OK
* checking line endings in C/C++/Fortran sources/headers ... OK
* checking line endings in Makefiles ... OK
* checking compilation flags in Makevars ... OK
* checking for GNU extensions in Makefiles ... OK
* checking for portable use of $(BLAS_LIBS) and $(LAPACK_LIBS) ... OK
* checking use of PKG_*FLAGS in Makefiles ... OK
* checking compiled code ... NOTE
Note: information on .o files for x64 is not available
File 'C:/Users/biocbuild/bbs-3.20-bioc/R/library/BUSpaRse/libs/x64/BUSpaRse.dll':
  Found '_exit', possibly from '_exit' (C)
  Found 'abort', possibly from 'abort' (C), 'runtime' (Fortran)
  Found 'exit', possibly from 'exit' (C), 'stop' (Fortran)
Compiled code should not call entry points which might terminate R nor
write to stdout/stderr instead of to the console, nor use Fortran I/O
nor system RNGs nor [v]sprintf. The detected symbols are linked into
the code but might come from libraries and not actually be called.
See 'Writing portable packages' in the 'Writing R Extensions' manual.
* checking files in 'vignettes' ... OK
* checking examples ... OK
Examples with CPU (user + system) or elapsed time > 5s
                  user system elapsed
tr2g_TxDb        35.30   4.88   41.80
knee_plot        26.73   3.50   39.08
dl_transcriptome 11.50   0.45   61.86
transcript2gene   9.35   0.28   15.31
tr2g_EnsDb        4.17   3.36    6.30
tr2g_ensembl      1.36   0.09   22.75
tr2g_gff3         1.11   0.27    5.58
* checking for unstated dependencies in 'tests' ... OK
* checking tests ...
  Running 'testthat.R'
 ERROR
Running the tests in 'tests/testthat.R' failed.
Last 13 lines of output:
  ══ Failed tests ════════════════════════════════════════════════════════════════
  ── Error ('test_tr2g.R:34:3'): Sensible results from biomart query ─────────────
  Error in `if (biomart == "ensembl" & grepl(x = host, pattern = "ensembl.org")) {
      biomart = "ENSEMBL_MART_ENSEMBL"
  }`: argument is of length zero
  Backtrace:
      ▆
   1. └─BUSpaRse::tr2g_ensembl(...) at test_tr2g.R:34:3
   2.   └─BUSpaRse:::my_useMart(ensembl_version, mart_use, ds_name, host_use)
   3.     └─biomaRt::useMart(biomart = mart_use, dataset = ds_name, host = host_use)
   4.       └─biomaRt:::.useMart(...)
  
  [ FAIL 1 | WARN 0 | SKIP 0 | PASS 95 ]
  Error: Test failures
  Execution halted
* checking for unstated dependencies in vignettes ... OK
* checking package vignettes ... OK
* checking running R code from vignettes ... SKIPPED
* checking re-building of vignette outputs ... SKIPPED
* checking PDF version of manual ... OK
* DONE
Status: 1 ERROR, 3 NOTEs
See
  'C:/Users/biocbuild/bbs-3.20-bioc/meat/BUSpaRse.Rcheck/00check.log'
for details.
BUSpaRse.Rcheck/00install.out
##############################################################################
##############################################################################
###
### Running command:
###
###   C:\Users\biocbuild\bbs-3.20-bioc\R\bin\R.exe CMD INSTALL BUSpaRse
###
##############################################################################
##############################################################################
* installing to library 'C:/Users/biocbuild/bbs-3.20-bioc/R/library'
* installing *source* package 'BUSpaRse' ...
** using staged installation
** libs
using C++ compiler: 'G__~1.EXE (GCC) 13.2.0'
using C++11
g++  -std=gnu++11 -I"C:/Users/biocbuild/bbs-3.20-bioc/R/include" -DNDEBUG  -I'C:/Users/biocbuild/bbs-3.20-bioc/R/library/Rcpp/include' -I'C:/Users/biocbuild/bbs-3.20-bioc/R/library/RcppArmadillo/include' -I'C:/Users/biocbuild/bbs-3.20-bioc/R/library/RcppProgress/include' -I'C:/Users/biocbuild/bbs-3.20-bioc/R/library/BH/include'   -I"C:/rtools44/x86_64-w64-mingw32.static.posix/include"     -O2 -Wall  -mfpmath=sse -msse2 -mstackrealign  -c RcppExports.cpp -o RcppExports.o
g++  -std=gnu++11 -I"C:/Users/biocbuild/bbs-3.20-bioc/R/include" -DNDEBUG  -I'C:/Users/biocbuild/bbs-3.20-bioc/R/library/Rcpp/include' -I'C:/Users/biocbuild/bbs-3.20-bioc/R/library/RcppArmadillo/include' -I'C:/Users/biocbuild/bbs-3.20-bioc/R/library/RcppProgress/include' -I'C:/Users/biocbuild/bbs-3.20-bioc/R/library/BH/include'   -I"C:/rtools44/x86_64-w64-mingw32.static.posix/include"     -O2 -Wall  -mfpmath=sse -msse2 -mstackrealign  -c fill_cell_gene.cpp -o fill_cell_gene.o
In file included from C:/Users/biocbuild/bbs-3.20-bioc/R/library/BH/include/boost/mpl/aux_/na_assert.hpp:23,
                 from C:/Users/biocbuild/bbs-3.20-bioc/R/library/BH/include/boost/mpl/arg.hpp:25,
                 from C:/Users/biocbuild/bbs-3.20-bioc/R/library/BH/include/boost/mpl/placeholders.hpp:24,
                 from C:/Users/biocbuild/bbs-3.20-bioc/R/library/BH/include/boost/iterator/iterator_categories.hpp:16,
                 from C:/Users/biocbuild/bbs-3.20-bioc/R/library/BH/include/boost/iterator/iterator_adaptor.hpp:14,
                 from C:/Users/biocbuild/bbs-3.20-bioc/R/library/BH/include/boost/token_iterator.hpp:22,
                 from C:/Users/biocbuild/bbs-3.20-bioc/R/library/BH/include/boost/tokenizer.hpp:20,
                 from fill_cell_gene.cpp:16:
C:/Users/biocbuild/bbs-3.20-bioc/R/library/BH/include/boost/mpl/assert.hpp:194:21: warning: unnecessary parentheses in declaration of 'assert_arg' [-Wparentheses]
  194 | failed ************ (Pred::************
      |                     ^~~~~~~~~~~~~~~~~~~
  195 |       assert_arg( void (*)(Pred), typename assert_arg_pred<Pred>::type )
      |       ~~~~~~~~~~~~~~~~~~~~~~~~~~~~~~~~~~~~~~~~~~~~~~~~~~~~~~~~~~~~~~~~~~
  196 |     );
      |     ~                
C:/Users/biocbuild/bbs-3.20-bioc/R/library/BH/include/boost/mpl/assert.hpp:194:21: note: remove parentheses
  194 | failed ************ (Pred::************
      |                     ^~~~~~~~~~~~~~~~~~~
      |                     -
  195 |       assert_arg( void (*)(Pred), typename assert_arg_pred<Pred>::type )
      |       ~~~~~~~~~~~~~~~~~~~~~~~~~~~~~~~~~~~~~~~~~~~~~~~~~~~~~~~~~~~~~~~~~~
  196 |     );
      |     ~                
      |     -
C:/Users/biocbuild/bbs-3.20-bioc/R/library/BH/include/boost/mpl/assert.hpp:199:21: warning: unnecessary parentheses in declaration of 'assert_not_arg' [-Wparentheses]
  199 | failed ************ (boost::mpl::not_<Pred>::************
      |                     ^~~~~~~~~~~~~~~~~~~~~~~~~~~~~~~~~~~~~
  200 |       assert_not_arg( void (*)(Pred), typename assert_arg_pred_not<Pred>::type )
      |       ~~~~~~~~~~~~~~~~~~~~~~~~~~~~~~~~~~~~~~~~~~~~~~~~~~~~~~~~~~~~~~~~~~~~~~~~~~
  201 |     );
      |     ~                
C:/Users/biocbuild/bbs-3.20-bioc/R/library/BH/include/boost/mpl/assert.hpp:199:21: note: remove parentheses
  199 | failed ************ (boost::mpl::not_<Pred>::************
      |                     ^~~~~~~~~~~~~~~~~~~~~~~~~~~~~~~~~~~~~
      |                     -
  200 |       assert_not_arg( void (*)(Pred), typename assert_arg_pred_not<Pred>::type )
      |       ~~~~~~~~~~~~~~~~~~~~~~~~~~~~~~~~~~~~~~~~~~~~~~~~~~~~~~~~~~~~~~~~~~~~~~~~~~
  201 |     );
      |     ~                
      |     -
g++ -shared -s -static-libgcc -o BUSpaRse.dll tmp.def RcppExports.o fill_cell_gene.o -LC:/Users/biocbuild/bbs-3.20-bioc/R/bin/x64 -lRlapack -LC:/Users/biocbuild/bbs-3.20-bioc/R/bin/x64 -lRblas -lgfortran -lm -lquadmath -LC:/rtools44/x86_64-w64-mingw32.static.posix/lib/x64 -LC:/rtools44/x86_64-w64-mingw32.static.posix/lib -LC:/Users/biocbuild/bbs-3.20-bioc/R/bin/x64 -lR
installing to C:/Users/biocbuild/bbs-3.20-bioc/R/library/00LOCK-BUSpaRse/00new/BUSpaRse/libs/x64
** R
** data
*** moving datasets to lazyload DB
** inst
** byte-compile and prepare package for lazy loading
** help
*** installing help indices
** building package indices
** installing vignettes
** testing if installed package can be loaded from temporary location
** testing if installed package can be loaded from final location
** testing if installed package keeps a record of temporary installation path
* DONE (BUSpaRse)
BUSpaRse.Rcheck/tests/testthat.Rout.fail
R version 4.4.1 (2024-06-14 ucrt) -- "Race for Your Life"
Copyright (C) 2024 The R Foundation for Statistical Computing
Platform: x86_64-w64-mingw32/x64
R is free software and comes with ABSOLUTELY NO WARRANTY.
You are welcome to redistribute it under certain conditions.
Type 'license()' or 'licence()' for distribution details.
R is a collaborative project with many contributors.
Type 'contributors()' for more information and
'citation()' on how to cite R or R packages in publications.
Type 'demo()' for some demos, 'help()' for on-line help, or
'help.start()' for an HTML browser interface to help.
Type 'q()' to quit R.
> library(testthat)
> library(BUSpaRse)
> 
> test_check("BUSpaRse")
[ FAIL 1 | WARN 0 | SKIP 0 | PASS 95 ]
══ Failed tests ════════════════════════════════════════════════════════════════
── Error ('test_tr2g.R:34:3'): Sensible results from biomart query ─────────────
Error in `if (biomart == "ensembl" & grepl(x = host, pattern = "ensembl.org")) {
    biomart = "ENSEMBL_MART_ENSEMBL"
}`: argument is of length zero
Backtrace:
    ▆
 1. └─BUSpaRse::tr2g_ensembl(...) at test_tr2g.R:34:3
 2.   └─BUSpaRse:::my_useMart(ensembl_version, mart_use, ds_name, host_use)
 3.     └─biomaRt::useMart(biomart = mart_use, dataset = ds_name, host = host_use)
 4.       └─biomaRt:::.useMart(...)
[ FAIL 1 | WARN 0 | SKIP 0 | PASS 95 ]
Error: Test failures
Execution halted
BUSpaRse.Rcheck/BUSpaRse-Ex.timings
| name | user | system | elapsed | |
| EC2gene | 0.04 | 0.00 | 0.04 | |
| annots_from_fa_df | 0.16 | 0.01 | 0.17 | |
| dl_transcriptome | 11.50 | 0.45 | 61.86 | |
| get_velocity_files | 1.45 | 0.21 | 1.66 | |
| knee_plot | 26.73 | 3.50 | 39.08 | |
| make_sparse_matrix | 0.00 | 0.01 | 0.01 | |
| read_count_output | 0 | 0 | 0 | |
| read_velocity_output | 0.00 | 0.02 | 0.02 | |
| save_tr2g_bustools | 1.68 | 0.11 | 1.09 | |
| sort_tr2g | 0.26 | 0.01 | 0.28 | |
| species2dataset | 0 | 0 | 0 | |
| subset_annot | 1.03 | 0.25 | 1.28 | |
| tr2g_EnsDb | 4.17 | 3.36 | 6.30 | |
| tr2g_TxDb | 35.30 | 4.88 | 41.80 | |
| tr2g_ensembl | 1.36 | 0.09 | 22.75 | |
| tr2g_fasta | 0.03 | 0.00 | 0.03 | |
| tr2g_gff3 | 1.11 | 0.27 | 5.58 | |
| tr2g_gtf | 0.59 | 0.14 | 0.73 | |
| transcript2gene | 9.35 | 0.28 | 15.31 | |