| Back to Multiple platform build/check report for BioC 3.20: simplified long | 
 | 
This page was generated on 2024-11-20 12:07 -0500 (Wed, 20 Nov 2024).
| Hostname | OS | Arch (*) | R version | Installed pkgs | 
|---|---|---|---|---|
| teran2 | Linux (Ubuntu 24.04.1 LTS) | x86_64 | 4.4.2 (2024-10-31) -- "Pile of Leaves" | 4481 | 
| nebbiolo2 | Linux (Ubuntu 24.04.1 LTS) | x86_64 | 4.4.2 (2024-10-31) -- "Pile of Leaves" | 4479 | 
| palomino8 | Windows Server 2022 Datacenter | x64 | 4.4.2 (2024-10-31 ucrt) -- "Pile of Leaves" | 4359 | 
| lconway | macOS 12.7.1 Monterey | x86_64 | 4.4.1 (2024-06-14) -- "Race for Your Life" | 4539 | 
| kunpeng2 | Linux (openEuler 22.03 LTS-SP1) | aarch64 | 4.4.1 (2024-06-14) -- "Race for Your Life" | 4493 | 
| Click on any hostname to see more info about the system (e.g. compilers) (*) as reported by 'uname -p', except on Windows and Mac OS X | ||||
| Package 55/2289 | Hostname | OS / Arch | INSTALL | BUILD | CHECK | BUILD BIN | ||||||||
| AllelicImbalance 1.44.0  (landing page) Jesper R Gadin 
 | teran2 | Linux (Ubuntu 24.04.1 LTS) / x86_64 | OK | OK | OK |  | ||||||||
| nebbiolo2 | Linux (Ubuntu 24.04.1 LTS) / x86_64 | OK | OK | OK | ||||||||||
| palomino8 | Windows Server 2022 Datacenter / x64 | OK | OK | OK | OK |  | ||||||||
| lconway | macOS 12.7.1 Monterey / x86_64 | OK | OK | OK | OK |  | ||||||||
| kunpeng2 | Linux (openEuler 22.03 LTS-SP1) / aarch64 | OK | OK | OK | ||||||||||
| To the developers/maintainers of the AllelicImbalance package: - Allow up to 24 hours (and sometimes 48 hours) for your latest push to git@git.bioconductor.org:packages/AllelicImbalance.git to reflect on this report. See Troubleshooting Build Report for more information. - Use the following Renviron settings to reproduce errors and warnings. - If 'R CMD check' started to fail recently on the Linux builder(s) over a missing dependency, add the missing dependency to 'Suggests:' in your DESCRIPTION file. See Renviron.bioc for more information. - See Martin Grigorov's blog post for how to debug Linux ARM64 related issues on a x86_64 host. | 
| Package: AllelicImbalance | 
| Version: 1.44.0 | 
| Command: /home/biocbuild/R/R/bin/R CMD check --install=check:AllelicImbalance.install-out.txt --library=/home/biocbuild/R/R/site-library --no-vignettes --timings AllelicImbalance_1.44.0.tar.gz | 
| StartedAt: 2024-11-20 05:04:39 -0000 (Wed, 20 Nov 2024) | 
| EndedAt: 2024-11-20 05:14:52 -0000 (Wed, 20 Nov 2024) | 
| EllapsedTime: 613.3 seconds | 
| RetCode: 0 | 
| Status: OK | 
| CheckDir: AllelicImbalance.Rcheck | 
| Warnings: 0 | 
##############################################################################
##############################################################################
###
### Running command:
###
###   /home/biocbuild/R/R/bin/R CMD check --install=check:AllelicImbalance.install-out.txt --library=/home/biocbuild/R/R/site-library --no-vignettes --timings AllelicImbalance_1.44.0.tar.gz
###
##############################################################################
##############################################################################
* using log directory ‘/home/biocbuild/bbs-3.20-bioc/meat/AllelicImbalance.Rcheck’
* using R version 4.4.1 (2024-06-14)
* using platform: aarch64-unknown-linux-gnu
* R was compiled by
    gcc (GCC) 12.2.1 20220819 (openEuler 12.2.1-14)
    GNU Fortran (GCC) 10.3.1
* running under: openEuler 22.03 (LTS-SP1)
* using session charset: UTF-8
* using option ‘--no-vignettes’
* checking for file ‘AllelicImbalance/DESCRIPTION’ ... OK
* checking extension type ... Package
* this is package ‘AllelicImbalance’ version ‘1.44.0’
* package encoding: UTF-8
* checking package namespace information ... OK
* checking package dependencies ... OK
* checking if this is a source package ... OK
* checking if there is a namespace ... OK
* checking for hidden files and directories ... OK
* checking for portable file names ... OK
* checking for sufficient/correct file permissions ... OK
* checking whether package ‘AllelicImbalance’ can be installed ... OK
* checking installed package size ... OK
* checking package directory ... OK
* checking ‘build’ directory ... OK
* checking DESCRIPTION meta-information ... OK
* checking top-level files ... OK
* checking for left-over files ... OK
* checking index information ... OK
* checking package subdirectories ... NOTE
Problems with news in ‘NEWS’:
  Cannot process chunk/lines:
    CHANGES IN VERSION 1.12.0
* checking code files for non-ASCII characters ... OK
* checking R files for syntax errors ... OK
* checking whether the package can be loaded ... OK
* checking whether the package can be loaded with stated dependencies ... OK
* checking whether the package can be unloaded cleanly ... OK
* checking whether the namespace can be loaded with stated dependencies ... OK
* checking whether the namespace can be unloaded cleanly ... OK
* checking loading without being on the library search path ... OK
* checking dependencies in R code ... OK
* checking S3 generic/method consistency ... OK
* checking replacement functions ... OK
* checking foreign function calls ... OK
* checking R code for possible problems ... OK
* checking Rd files ... OK
* checking Rd metadata ... OK
* checking Rd cross-references ... OK
* checking for missing documentation entries ... OK
* checking for code/documentation mismatches ... OK
* checking Rd \usage sections ... OK
* checking Rd contents ... OK
* checking for unstated dependencies in examples ... OK
* checking contents of ‘data’ directory ... OK
* checking data for non-ASCII characters ... OK
* checking LazyData ... OK
* checking data for ASCII and uncompressed saves ... OK
* checking files in ‘vignettes’ ... OK
* checking examples ... OK
Examples with CPU (user + system) or elapsed time > 5s
                           user system elapsed
getSnpIdFromLocation     31.869  1.202  33.124
import-bam               31.524  0.336  32.005
lva                      12.645  0.044  12.717
ASEset-glocationplot      7.293  0.127   7.434
scanForHeterozygotes-old  7.307  0.024   7.345
getAlleleCounts           5.891  0.055   5.960
annotation-wrappers       5.190  0.168   5.425
getAlleleQuality          5.038  0.059   5.110
* checking for unstated dependencies in ‘tests’ ... OK
* checking tests ...
  Running ‘test-all.R’
 OK
* checking for unstated dependencies in vignettes ... OK
* checking package vignettes ... OK
* checking running R code from vignettes ... SKIPPED
* checking re-building of vignette outputs ... SKIPPED
* checking PDF version of manual ... OK
* DONE
Status: 1 NOTE
See
  ‘/home/biocbuild/bbs-3.20-bioc/meat/AllelicImbalance.Rcheck/00check.log’
for details.
AllelicImbalance.Rcheck/00install.out
############################################################################## ############################################################################## ### ### Running command: ### ### /home/biocbuild/R/R/bin/R CMD INSTALL AllelicImbalance ### ############################################################################## ############################################################################## * installing to library ‘/home/biocbuild/R/R-4.4.1/site-library’ * installing *source* package ‘AllelicImbalance’ ... ** using staged installation ** R ** data *** moving datasets to lazyload DB ** inst ** byte-compile and prepare package for lazy loading Creating a generic function for 'chisq.test' from package 'stats' in package 'AllelicImbalance' Creating a generic function for 'binom.test' from package 'stats' in package 'AllelicImbalance' ** help *** installing help indices ** building package indices ** installing vignettes ** testing if installed package can be loaded from temporary location ** testing if installed package can be loaded from final location ** testing if installed package keeps a record of temporary installation path * DONE (AllelicImbalance)
AllelicImbalance.Rcheck/tests/test-all.Rout
R version 4.4.1 (2024-06-14) -- "Race for Your Life"
Copyright (C) 2024 The R Foundation for Statistical Computing
Platform: aarch64-unknown-linux-gnu
R is free software and comes with ABSOLUTELY NO WARRANTY.
You are welcome to redistribute it under certain conditions.
Type 'license()' or 'licence()' for distribution details.
R is a collaborative project with many contributors.
Type 'contributors()' for more information and
'citation()' on how to cite R or R packages in publications.
Type 'demo()' for some demos, 'help()' for on-line help, or
'help.start()' for an HTML browser interface to help.
Type 'q()' to quit R.
> library(testthat)
> test_check("AllelicImbalance")
Loading required package: AllelicImbalance
Loading required package: grid
Loading required package: GenomicRanges
Loading required package: stats4
Loading required package: BiocGenerics
Attaching package: 'BiocGenerics'
The following objects are masked from 'package:stats':
    IQR, mad, sd, var, xtabs
The following objects are masked from 'package:base':
    Filter, Find, Map, Position, Reduce, anyDuplicated, aperm, append,
    as.data.frame, basename, cbind, colnames, dirname, do.call,
    duplicated, eval, evalq, get, grep, grepl, intersect, is.unsorted,
    lapply, mapply, match, mget, order, paste, pmax, pmax.int, pmin,
    pmin.int, rank, rbind, rownames, sapply, saveRDS, setdiff, table,
    tapply, union, unique, unsplit, which.max, which.min
Loading required package: S4Vectors
Attaching package: 'S4Vectors'
The following object is masked from 'package:utils':
    findMatches
The following objects are masked from 'package:base':
    I, expand.grid, unname
Loading required package: IRanges
Loading required package: GenomeInfoDb
Loading required package: SummarizedExperiment
Loading required package: MatrixGenerics
Loading required package: matrixStats
Attaching package: 'MatrixGenerics'
The following objects are masked from 'package:matrixStats':
    colAlls, colAnyNAs, colAnys, colAvgsPerRowSet, colCollapse,
    colCounts, colCummaxs, colCummins, colCumprods, colCumsums,
    colDiffs, colIQRDiffs, colIQRs, colLogSumExps, colMadDiffs,
    colMads, colMaxs, colMeans2, colMedians, colMins, colOrderStats,
    colProds, colQuantiles, colRanges, colRanks, colSdDiffs, colSds,
    colSums2, colTabulates, colVarDiffs, colVars, colWeightedMads,
    colWeightedMeans, colWeightedMedians, colWeightedSds,
    colWeightedVars, rowAlls, rowAnyNAs, rowAnys, rowAvgsPerColSet,
    rowCollapse, rowCounts, rowCummaxs, rowCummins, rowCumprods,
    rowCumsums, rowDiffs, rowIQRDiffs, rowIQRs, rowLogSumExps,
    rowMadDiffs, rowMads, rowMaxs, rowMeans2, rowMedians, rowMins,
    rowOrderStats, rowProds, rowQuantiles, rowRanges, rowRanks,
    rowSdDiffs, rowSds, rowSums2, rowTabulates, rowVarDiffs, rowVars,
    rowWeightedMads, rowWeightedMeans, rowWeightedMedians,
    rowWeightedSds, rowWeightedVars
Loading required package: Biobase
Welcome to Bioconductor
    Vignettes contain introductory material; view with
    'browseVignettes()'. To cite Bioconductor, see
    'citation("Biobase")', and for packages 'citation("pkgname")'.
Attaching package: 'Biobase'
The following object is masked from 'package:MatrixGenerics':
    rowMedians
The following objects are masked from 'package:matrixStats':
    anyMissing, rowMedians
Loading required package: GenomicAlignments
Loading required package: Biostrings
Loading required package: XVector
Attaching package: 'Biostrings'
The following object is masked from 'package:grid':
    pattern
The following object is masked from 'package:base':
    strsplit
Loading required package: Rsamtools
[ FAIL 0 | WARN 0 | SKIP 1 | PASS 96 ]
══ Skipped tests (1) ═══════════════════════════════════════════════════════════
• empty test (1): 'test_utils.R:3:1'
[ FAIL 0 | WARN 0 | SKIP 1 | PASS 96 ]
> 
> 
> 
> proc.time()
   user  system elapsed 
 23.642   1.094  24.688 
AllelicImbalance.Rcheck/AllelicImbalance-Ex.timings
| name | user | system | elapsed | |
| ASEset-barplot | 0.240 | 0.004 | 0.245 | |
| ASEset-class | 0.594 | 0.036 | 0.631 | |
| ASEset-filters | 0.072 | 0.000 | 0.073 | |
| ASEset-gbarplot | 0.051 | 0.000 | 0.051 | |
| ASEset-glocationplot | 7.293 | 0.127 | 7.434 | |
| ASEset-gviztrack | 0.650 | 0.076 | 0.726 | |
| ASEset-scanForHeterozygotes | 2.620 | 0.016 | 2.639 | |
| ASEset.old | 0 | 0 | 0 | |
| ASEset.sim | 0 | 0 | 0 | |
| ASEsetFromBam | 0.002 | 0.000 | 0.002 | |
| DetectedAI-class | 0.138 | 0.000 | 0.138 | |
| DetectedAI-plot | 1.945 | 0.004 | 1.953 | |
| DetectedAI-summary | 0.158 | 0.007 | 0.166 | |
| GRvariants | 0.000 | 0.002 | 0.001 | |
| GlobalAnalysis-class | 0.000 | 0.001 | 0.001 | |
| LinkVariantAlmlof-class | 0 | 0 | 0 | |
| LinkVariantAlmlof-plot | 2.919 | 0.016 | 2.941 | |
| RegionSummary-class | 0 | 0 | 0 | |
| RiskVariant-class | 0 | 0 | 0 | |
| annotation-wrappers | 5.190 | 0.168 | 5.425 | |
| annotationBarplot | 0 | 0 | 0 | |
| barplot-lattice-support | 0.161 | 0.000 | 0.161 | |
| binom.test | 0.066 | 0.000 | 0.066 | |
| chisq.test | 0.189 | 0.004 | 0.192 | |
| cigar-utilities | 0.014 | 0.000 | 0.014 | |
| countAllelesFromBam | 0.000 | 0.002 | 0.001 | |
| coverageMatrixListFromGAL | 1.113 | 0.010 | 1.125 | |
| decorateWithExons | 0.001 | 0.000 | 0.001 | |
| decorateWithGenes | 0.001 | 0.000 | 0.001 | |
| defaultMapBias | 0.047 | 0.000 | 0.048 | |
| defaultPhase | 0.000 | 0.001 | 0.000 | |
| detectAI | 0.122 | 0.002 | 0.125 | |
| fractionPlotDf | 0.043 | 0.000 | 0.043 | |
| gba | 0 | 0 | 0 | |
| genomatrix | 0 | 0 | 0 | |
| genotype2phase | 0.032 | 0.004 | 0.036 | |
| getAlleleCounts | 5.891 | 0.055 | 5.960 | |
| getAlleleQuality | 5.038 | 0.059 | 5.110 | |
| getAreaFromGeneNames | 0.702 | 0.012 | 0.716 | |
| getDefaultMapBiasExpMean | 0.036 | 0.000 | 0.036 | |
| getSnpIdFromLocation | 31.869 | 1.202 | 33.124 | |
| histplot | 0 | 0 | 0 | |
| implodeList-old | 0.004 | 0.004 | 0.008 | |
| import-bam-2 | 0.012 | 0.000 | 0.012 | |
| import-bam | 31.524 | 0.336 | 32.005 | |
| import-bcf | 1.530 | 0.023 | 1.558 | |
| inferAlleles | 0.015 | 0.000 | 0.015 | |
| inferAltAllele | 0.021 | 0.000 | 0.020 | |
| inferGenotypes | 0.040 | 0.000 | 0.041 | |
| initialize-ASEset | 0.107 | 0.000 | 0.107 | |
| initialize-DetectedAI | 0.120 | 0.004 | 0.124 | |
| initialize-GlobalAnalysis | 0.002 | 0.000 | 0.002 | |
| initialize-RiskVariant | 0.002 | 0.000 | 0.001 | |
| legendBarplot | 0 | 0 | 0 | |
| locationplot | 2.047 | 0.039 | 2.091 | |
| lva | 12.645 | 0.044 | 12.717 | |
| lva.internal | 0.435 | 0.004 | 0.440 | |
| makeMaskedFasta | 1.414 | 0.087 | 1.504 | |
| mapBiasRef | 0.017 | 0.000 | 0.017 | |
| minCountFilt | 0.095 | 0.000 | 0.096 | |
| minFreqFilt | 0.095 | 0.000 | 0.095 | |
| multiAllelicFilt | 0.015 | 0.000 | 0.015 | |
| phase2genotype | 0.03 | 0.00 | 0.03 | |
| phaseArray2phaseMatrix | 0.005 | 0.000 | 0.005 | |
| phaseMatrix2Array | 0.004 | 0.000 | 0.005 | |
| randomRef | 0.025 | 0.000 | 0.024 | |
| reads | 0 | 0 | 0 | |
| refAllele | 0.019 | 0.000 | 0.019 | |
| regionSummary | 0.812 | 0.000 | 0.814 | |
| scanForHeterozygotes-old | 7.307 | 0.024 | 7.345 | |