| Back to Multiple platform build/check report for BioC 3.20: simplified long |
|
This page was generated on 2024-06-18 11:51 -0400 (Tue, 18 Jun 2024).
| Hostname | OS | Arch (*) | R version | Installed pkgs |
|---|---|---|---|---|
| nebbiolo2 | Linux (Ubuntu 22.04.3 LTS) | x86_64 | 4.4.0 RC (2024-04-16 r86468) -- "Puppy Cup" | 4687 |
| lconway | macOS 12.7.1 Monterey | x86_64 | 4.4.1 RC (2024-06-06 r86719) -- "Race for Your Life" | 4402 |
| Click on any hostname to see more info about the system (e.g. compilers) (*) as reported by 'uname -p', except on Windows and Mac OS X | ||||
| Package 105/2242 | Hostname | OS / Arch | INSTALL | BUILD | CHECK | BUILD BIN | ||||||||
| ATACCoGAPS 1.7.0 (landing page) Rossin Erbe
| nebbiolo2 | Linux (Ubuntu 22.04.3 LTS) / x86_64 | OK | OK | OK | |||||||||
| lconway | macOS 12.7.1 Monterey / x86_64 | OK | OK | OK | OK | |||||||||
|
To the developers/maintainers of the ATACCoGAPS package: - Allow up to 24 hours (and sometimes 48 hours) for your latest push to git@git.bioconductor.org:packages/ATACCoGAPS.git to reflect on this report. See Troubleshooting Build Report for more information. - Use the following Renviron settings to reproduce errors and warnings. - If 'R CMD check' started to fail recently on the Linux builder(s) over a missing dependency, add the missing dependency to 'Suggests:' in your DESCRIPTION file. See Renviron.bioc for more information. |
| Package: ATACCoGAPS |
| Version: 1.7.0 |
| Command: /home/biocbuild/bbs-3.20-bioc/R/bin/R CMD check --install=check:ATACCoGAPS.install-out.txt --library=/home/biocbuild/bbs-3.20-bioc/R/site-library --timings ATACCoGAPS_1.7.0.tar.gz |
| StartedAt: 2024-06-17 20:40:05 -0400 (Mon, 17 Jun 2024) |
| EndedAt: 2024-06-17 20:53:19 -0400 (Mon, 17 Jun 2024) |
| EllapsedTime: 794.8 seconds |
| RetCode: 0 |
| Status: OK |
| CheckDir: ATACCoGAPS.Rcheck |
| Warnings: 0 |
##############################################################################
##############################################################################
###
### Running command:
###
### /home/biocbuild/bbs-3.20-bioc/R/bin/R CMD check --install=check:ATACCoGAPS.install-out.txt --library=/home/biocbuild/bbs-3.20-bioc/R/site-library --timings ATACCoGAPS_1.7.0.tar.gz
###
##############################################################################
##############################################################################
* using log directory ‘/home/biocbuild/bbs-3.20-bioc/meat/ATACCoGAPS.Rcheck’
* using R version 4.4.0 RC (2024-04-16 r86468)
* using platform: x86_64-pc-linux-gnu
* R was compiled by
gcc (Ubuntu 11.4.0-1ubuntu1~22.04) 11.4.0
GNU Fortran (Ubuntu 11.4.0-1ubuntu1~22.04) 11.4.0
* running under: Ubuntu 22.04.4 LTS
* using session charset: UTF-8
* checking for file ‘ATACCoGAPS/DESCRIPTION’ ... OK
* this is package ‘ATACCoGAPS’ version ‘1.7.0’
* package encoding: UTF-8
* checking package namespace information ... OK
* checking package dependencies ... OK
* checking if this is a source package ... OK
* checking if there is a namespace ... OK
* checking for hidden files and directories ... OK
* checking for portable file names ... OK
* checking for sufficient/correct file permissions ... OK
* checking whether package ‘ATACCoGAPS’ can be installed ... OK
* checking installed package size ... OK
* checking package directory ... OK
* checking ‘build’ directory ... OK
* checking DESCRIPTION meta-information ... OK
* checking top-level files ... OK
* checking for left-over files ... OK
* checking index information ... OK
* checking package subdirectories ... OK
* checking code files for non-ASCII characters ... OK
* checking R files for syntax errors ... OK
* checking whether the package can be loaded ... OK
* checking whether the package can be loaded with stated dependencies ... OK
* checking whether the package can be unloaded cleanly ... OK
* checking whether the namespace can be loaded with stated dependencies ... OK
* checking whether the namespace can be unloaded cleanly ... OK
* checking loading without being on the library search path ... OK
* checking dependencies in R code ... NOTE
Package in Depends field not imported from: ‘CoGAPS’
These packages need to be imported from (in the NAMESPACE file)
for when this namespace is loaded but not attached.
* checking S3 generic/method consistency ... OK
* checking replacement functions ... OK
* checking foreign function calls ... OK
* checking R code for possible problems ... NOTE
cgapsPlot: no visible global function definition for ‘rainbow’
cgapsPlot: no visible global function definition for ‘par’
cgapsPlot: no visible global function definition for ‘legend’
findOverlap: no visible global function definition for ‘queryHits’
geneAccessibility: no visible global function definition for
‘subjectHits’
heatmapGeneAccessibility: no visible global function definition for
‘rainbow’
heatmapPatternMarkers: no visible global function definition for
‘rainbow’
heatmapPatternMatrix: no visible global function definition for
‘rainbow’
paths: no visible global function definition for ‘p.adjust’
Undefined global functions or variables:
legend p.adjust par queryHits rainbow subjectHits
Consider adding
importFrom("grDevices", "rainbow")
importFrom("graphics", "legend", "par")
importFrom("stats", "p.adjust")
to your NAMESPACE file.
* checking Rd files ... OK
* checking Rd metadata ... OK
* checking Rd cross-references ... OK
* checking for missing documentation entries ... OK
* checking for code/documentation mismatches ... OK
* checking Rd \usage sections ... OK
* checking Rd contents ... OK
* checking for unstated dependencies in examples ... OK
* checking contents of ‘data’ directory ... OK
* checking data for non-ASCII characters ... OK
* checking data for ASCII and uncompressed saves ... OK
* checking R/sysdata.rda ... OK
* checking files in ‘vignettes’ ... OK
* checking examples ... OK
Examples with CPU (user + system) or elapsed time > 5s
user system elapsed
applyGREAT 82.495 5.230 186.963
simpleMotifTFMatch 75.024 0.397 75.464
pathwayMatch 27.367 0.524 27.891
genePatternMatch 24.988 0.580 25.568
motifPatternMatch 15.980 0.480 16.461
* checking for unstated dependencies in vignettes ... OK
* checking package vignettes ... OK
* checking re-building of vignette outputs ... OK
* checking PDF version of manual ... OK
* DONE
Status: 2 NOTEs
See
‘/home/biocbuild/bbs-3.20-bioc/meat/ATACCoGAPS.Rcheck/00check.log’
for details.
ATACCoGAPS.Rcheck/00install.out
############################################################################## ############################################################################## ### ### Running command: ### ### /home/biocbuild/bbs-3.20-bioc/R/bin/R CMD INSTALL ATACCoGAPS ### ############################################################################## ############################################################################## * installing to library ‘/home/biocbuild/bbs-3.20-bioc/R/site-library’ * installing *source* package ‘ATACCoGAPS’ ... ** using staged installation ** R ** data ** byte-compile and prepare package for lazy loading ** help *** installing help indices ** building package indices ** installing vignettes ** testing if installed package can be loaded from temporary location ** testing if installed package can be loaded from final location ** testing if installed package keeps a record of temporary installation path * DONE (ATACCoGAPS)
ATACCoGAPS.Rcheck/ATACCoGAPS-Ex.timings
| name | user | system | elapsed | |
| RNAseqTFValidation | 0 | 0 | 0 | |
| applyGREAT | 82.495 | 5.230 | 186.963 | |
| cgapsPlot | 0.307 | 0.012 | 0.318 | |
| dataSubsetBySparsity | 0.436 | 0.068 | 0.505 | |
| foldAccessibility | 4.490 | 0.456 | 4.946 | |
| geneAccessibility | 4.168 | 0.308 | 4.475 | |
| genePatternMatch | 24.988 | 0.580 | 25.568 | |
| heatmapGeneAccessibility | 3.493 | 0.020 | 3.513 | |
| heatmapPatternMarkers | 3.107 | 0.188 | 3.295 | |
| heatmapPatternMatrix | 0.645 | 0.008 | 0.653 | |
| motifPatternMatch | 15.980 | 0.480 | 16.461 | |
| motifSummarization | 0 | 0 | 0 | |
| pathwayMatch | 27.367 | 0.524 | 27.891 | |
| patternMarkerCellClassifier | 0.233 | 0.016 | 0.249 | |
| peaksToGRanges | 0.255 | 0.011 | 0.267 | |
| simpleMotifTFMatch | 75.024 | 0.397 | 75.464 | |