Back to the "Multiple platform build/check report" A [B] C  D  E  F  G  H  I  J  K  L  M  N  O  P  Q  R  S  T  U  V  W  X  Y  Z 

BioC 3.2: CHECK report for baySeq on moscato1

This page was generated on 2015-08-20 13:19:30 -0700 (Thu, 20 Aug 2015).

Package 75/1069HostnameOS / ArchINSTALLBUILDCHECKBUILD BIN
baySeq 2.3.0
Thomas J. Hardcastle
Snapshot Date: 2015-08-19 16:24:33 -0700 (Wed, 19 Aug 2015)
URL: https://hedgehog.fhcrc.org/bioconductor/trunk/madman/Rpacks/baySeq
Last Changed Rev: 102594 / Revision: 107602
Last Changed Date: 2015-04-16 13:02:44 -0700 (Thu, 16 Apr 2015)
zin1 Linux (Ubuntu 14.04.2 LTS) / x86_64  OK  OK  OK UNNEEDED, same version exists in internal repository
moscato1 Windows Server 2008 R2 Enterprise SP1 (64-bit) / x64  OK  OK [ OK ] OK UNNEEDED, same version exists in internal repository
perceval Mac OS X Snow Leopard (10.6.8) / x86_64  OK  OK  OK  OK UNNEEDED, same version exists in internal repository
oaxaca Mac OS X Mavericks (10.9.5) / x86_64  OK  OK  OK  OK UNNEEDED, same version exists in internal repository

Summary

Package: baySeq
Version: 2.3.0
Command: rm -rf baySeq.buildbin-libdir baySeq.Rcheck && mkdir baySeq.buildbin-libdir baySeq.Rcheck && D:\biocbld\bbs-3.2-bioc\R\bin\R.exe CMD INSTALL --build --merge-multiarch --library=baySeq.buildbin-libdir baySeq_2.3.0.tar.gz >baySeq.Rcheck\00install.out 2>&1 && cp baySeq.Rcheck\00install.out baySeq-install.out && D:\biocbld\bbs-3.2-bioc\R\bin\R.exe CMD check --library=baySeq.buildbin-libdir --install="check:baySeq-install.out" --force-multiarch --no-vignettes --timings baySeq_2.3.0.tar.gz
StartedAt: 2015-08-20 01:35:31 -0700 (Thu, 20 Aug 2015)
EndedAt: 2015-08-20 01:45:51 -0700 (Thu, 20 Aug 2015)
EllapsedTime: 620.1 seconds
RetCode: 0
Status:  OK  
CheckDir: baySeq.Rcheck
Warnings: 0

Command output

##############################################################################
##############################################################################
###
### Running command:
###
###   rm -rf baySeq.buildbin-libdir baySeq.Rcheck && mkdir baySeq.buildbin-libdir baySeq.Rcheck && D:\biocbld\bbs-3.2-bioc\R\bin\R.exe CMD INSTALL --build --merge-multiarch --library=baySeq.buildbin-libdir baySeq_2.3.0.tar.gz >baySeq.Rcheck\00install.out 2>&1 && cp baySeq.Rcheck\00install.out baySeq-install.out  && D:\biocbld\bbs-3.2-bioc\R\bin\R.exe CMD check --library=baySeq.buildbin-libdir --install="check:baySeq-install.out" --force-multiarch --no-vignettes --timings baySeq_2.3.0.tar.gz
###
##############################################################################
##############################################################################


* using log directory 'D:/biocbld/bbs-3.2-bioc/meat/baySeq.Rcheck'
* using R version 3.2.2 (2015-08-14)
* using platform: x86_64-w64-mingw32 (64-bit)
* using session charset: ISO8859-1
* using option '--no-vignettes'
* checking for file 'baySeq/DESCRIPTION' ... OK
* checking extension type ... Package
* this is package 'baySeq' version '2.3.0'
* checking package namespace information ... OK
* checking package dependencies ... OK
* checking if this is a source package ... OK
* checking if there is a namespace ... OK
* checking for hidden files and directories ... OK
* checking for portable file names ... OK
* checking whether package 'baySeq' can be installed ... OK
* checking installed package size ... OK
* checking package directory ... OK
* checking 'build' directory ... OK
* checking DESCRIPTION meta-information ... OK
* checking top-level files ... OK
* checking for left-over files ... OK
* checking index information ... OK
* checking package subdirectories ... OK
* checking R files for non-ASCII characters ... OK
* checking R files for syntax errors ... OK
* loading checks for arch 'i386'
** checking whether the package can be loaded ... OK
** checking whether the package can be loaded with stated dependencies ... OK
** checking whether the package can be unloaded cleanly ... OK
** checking whether the namespace can be loaded with stated dependencies ... OK
** checking whether the namespace can be unloaded cleanly ... OK
* loading checks for arch 'x64'
** checking whether the package can be loaded ... OK
** checking whether the package can be loaded with stated dependencies ... OK
** checking whether the package can be unloaded cleanly ... OK
** checking whether the namespace can be loaded with stated dependencies ... OK
** checking whether the namespace can be unloaded cleanly ... OK
* checking dependencies in R code ... NOTE
'library' or 'require' call to 'edgeR' in package code.
  Please use :: or requireNamespace() instead.
  See section 'Suggested packages' in the 'Writing R Extensions' manual.
Package in Depends field not imported from: 'perm'
  These packages need to be imported from (in the NAMESPACE file)
  for when this namespace is loaded but not attached.
* checking S3 generic/method consistency ... OK
* checking replacement functions ... OK
* checking foreign function calls ... OK
* checking R code for possible problems ... NOTE
.posteriorWeights: no visible binding for global variable 'CDpriors'
.posteriorWeights: no visible binding for global variable 'consensus'
getLibsizes : estLibs: no visible global function definition for
  'DGEList'
getLibsizes : estLibs: no visible global function definition for
  'calcNormFactors'
getLikelihoods: no visible global function definition for
  'clusterExport'
getLikelihoods: no visible global function definition for 'clusterCall'
getLikelihoods: no visible global function definition for 'parLapplyLB'
getLikelihoods: no visible global function definition for
  'clusterEvalQ'
getPosteriors: no visible global function definition for
  'clusterExport'
getPosteriors: no visible global function definition for 'clusterCall'
getPosteriors: no visible binding for global variable 'clustAssign'
getPosteriors: no visible global function definition for 'parRapply'
getPriors: no visible global function definition for 'clusterExport'
getPriors: no visible global function definition for 'parLapplyLB'
getPriors: no visible global function definition for 'clusterEvalQ'
getPriors.NB: no visible global function definition for 'parApply'
getPriors.NB: no visible global function definition for 'clusterEvalQ'
* checking Rd files ... OK
* checking Rd metadata ... OK
* checking Rd cross-references ... OK
* checking for missing documentation entries ... OK
* checking for code/documentation mismatches ... OK
* checking Rd \usage sections ... OK
* checking Rd contents ... OK
* checking for unstated dependencies in examples ... OK
* checking contents of 'data' directory ... OK
* checking data for non-ASCII characters ... OK
* checking data for ASCII and uncompressed saves ... OK
* checking installed files from 'inst/doc' ... OK
* checking files in 'vignettes' ... OK
* checking examples ...
** running examples for arch 'i386' ... [211s] OK
Examples with CPU or elapsed time > 5s
                 user system elapsed
baySeq-package 100.04   0.04  100.11
getPriors       81.51   0.00   81.51
getLikelihoods  24.06   0.01   24.07
** running examples for arch 'x64' ... [254s] OK
Examples with CPU or elapsed time > 5s
                 user system elapsed
baySeq-package 120.23   0.03  120.26
getPriors      102.60   0.01  102.65
getLikelihoods  24.08   0.02   24.12
* checking for unstated dependencies in vignettes ... OK
* checking package vignettes in 'inst/doc' ... OK
* checking running R code from vignettes ... SKIPPED
* checking re-building of vignette outputs ... SKIPPED
* checking PDF version of manual ... OK
* DONE

Status: 2 NOTEs
See
  'D:/biocbld/bbs-3.2-bioc/meat/baySeq.Rcheck/00check.log'
for details.


baySeq.Rcheck/00install.out:


install for i386

* installing *source* package 'baySeq' ...
** R
** data
** inst
** preparing package for lazy loading
** help
*** installing help indices
** building package indices
** installing vignettes
** testing if installed package can be loaded

install for x64

* installing *source* package 'baySeq' ...
** testing if installed package can be loaded
* MD5 sums
packaged installation of 'baySeq' as baySeq_2.3.0.zip
* DONE (baySeq)

baySeq.Rcheck/examples_i386/baySeq-Ex.timings:

nameusersystemelapsed
allModels0.780.020.80
baySeq-classes0.030.010.04
baySeq-package100.04 0.04100.11
bimodalSep0.020.000.01
densityFunction000
getLibsizes0.010.000.02
getLikelihoods24.06 0.0124.07
getPosteriors0.010.000.02
getPriors81.51 0.0081.51
getTPs0.020.000.01
makeOrderings0.050.000.05
plotMA.CD0.010.000.01
plotPosteriors0.020.020.04
plotPriors0.010.000.01
selectTop0.020.000.02
summarisePosteriors0.010.000.01
topCounts0.040.000.03

baySeq.Rcheck/examples_x64/baySeq-Ex.timings:

nameusersystemelapsed
allModels1.140.001.14
baySeq-classes0.040.000.03
baySeq-package120.23 0.03120.26
bimodalSep0.010.000.01
densityFunction000
getLibsizes000
getLikelihoods24.08 0.0224.12
getPosteriors0.020.000.01
getPriors102.60 0.01102.65
getTPs0.020.000.02
makeOrderings0.090.000.09
plotMA.CD0.050.000.05
plotPosteriors0.010.020.03
plotPriors0.030.000.03
selectTop0.040.000.03
summarisePosteriors0.010.000.02
topCounts0.050.000.04