Back to the "Multiple platform build/check report" A  B  C  D  E [F] G  H  I  J  K  L  M  N  O  P  Q  R  S  T  U  V  W  X  Y  Z 

BioC 3.2: BUILD BIN report for flowType on moscato1

This page was generated on 2015-08-14 14:11:42 -0700 (Fri, 14 Aug 2015).

Package 361/1068HostnameOS / ArchINSTALLBUILDCHECKBUILD BIN
flowType 2.7.0
Nima Aghaeepour
Snapshot Date: 2015-08-13 16:24:13 -0700 (Thu, 13 Aug 2015)
URL: https://hedgehog.fhcrc.org/bioconductor/trunk/madman/Rpacks/flowType
Last Changed Rev: 104490 / Revision: 107404
Last Changed Date: 2015-06-02 18:04:04 -0700 (Tue, 02 Jun 2015)
zin1 Linux (Ubuntu 14.04.2 LTS) / x86_64  OK  OK  OK UNNEEDED, same version exists in internal repository
moscato1 Windows Server 2008 R2 Enterprise SP1 (64-bit) / x64  OK  OK  OK [ OK ]UNNEEDED, same version exists in internal repository
oaxaca Mac OS X Mavericks (10.9.5) / x86_64  OK  OK  OK  OK UNNEEDED, same version exists in internal repository

Summary

Package: flowType
Version: 2.7.0
Command: cd flowType.buildbin-libdir/flowType && zip -r ../../flowType_2.7.0.zip . & cd ../..
StartedAt: 2015-08-14 13:25:09 -0700 (Fri, 14 Aug 2015)
EndedAt: 2015-08-14 13:25:26 -0700 (Fri, 14 Aug 2015)
EllapsedTime: 16.7 seconds
RetCode: 0
Status:  OK  
PackageFile: flowType_2.7.0.zip
PackageFileSize: 3.045 MiB

Command output

##############################################################################
##############################################################################
###
### Running command:
###
###   cd flowType.buildbin-libdir/flowType && zip -r ../../flowType_2.7.0.zip . & cd ../..
###
##############################################################################
##############################################################################


updating: data/ (256 bytes security) (stored 0%)
updating: data/DLBCLExample.rda (188 bytes security) (stored 0%)
updating: data/HIVData.rda (188 bytes security) (deflated 0%)
updating: data/HIVMetaData.rda (188 bytes security) (stored 0%)
updating: DESCRIPTION (188 bytes security) (deflated 37%)
updating: doc/ (256 bytes security) (stored 0%)
updating: doc/flowType.pdf (188 bytes security) (deflated 8%)
updating: doc/flowType.R (188 bytes security) (deflated 72%)
updating: doc/flowType.Rnw (188 bytes security) (deflated 57%)
updating: doc/index.html (188 bytes security) (deflated 59%)
updating: help/ (256 bytes security) (stored 0%)
updating: help/aliases.rds (188 bytes security) (stored 0%)
updating: help/AnIndex (188 bytes security) (deflated 74%)
updating: help/flowType.rdb (188 bytes security) (deflated 1%)
updating: help/flowType.rdx (188 bytes security) (stored 0%)
updating: help/paths.rds (188 bytes security) (stored 0%)
updating: html/ (256 bytes security) (stored 0%)
updating: html/00Index.html (188 bytes security) (deflated 77%)
updating: html/R.css (188 bytes security) (deflated 75%)
updating: INDEX (188 bytes security) (deflated 65%)
updating: libs/ (256 bytes security) (stored 0%)
updating: libs/i386/ (256 bytes security) (stored 0%)
updating: libs/i386/flowType.dll (188 bytes security) (deflated 64%)
updating: libs/x64/ (256 bytes security) (stored 0%)
updating: libs/x64/flowType.dll (188 bytes security) (deflated 69%)
updating: MD5 (188 bytes security) (deflated 43%)
updating: Meta/ (256 bytes security) (stored 0%)
updating: Meta/data.rds (188 bytes security) (stored 0%)
updating: Meta/hsearch.rds (188 bytes security) (stored 0%)
updating: Meta/links.rds (188 bytes security) (stored 0%)
updating: Meta/nsInfo.rds (188 bytes security) (stored 0%)
updating: Meta/package.rds (188 bytes security) (stored 0%)
updating: Meta/Rd.rds (188 bytes security) (stored 0%)
updating: Meta/vignette.rds (188 bytes security) (stored 0%)
updating: NAMESPACE (188 bytes security) (deflated 59%)
updating: NEWS (188 bytes security) (deflated 55%)
updating: R/ (256 bytes security) (stored 0%)
updating: R/flowType (188 bytes security) (deflated 41%)
updating: R/flowType.rdb (188 bytes security) (deflated 47%)
updating: R/flowType.rdx (188 bytes security) (stored 0%)