GGtools 5.5.2 VJ Carey
Snapshot Date: 2015-08-19 16:24:33 -0700 (Wed, 19 Aug 2015) | URL: https://hedgehog.fhcrc.org/bioconductor/trunk/madman/Rpacks/GGtools | Last Changed Rev: 105151 / Revision: 107602 | Last Changed Date: 2015-06-19 00:19:54 -0700 (Fri, 19 Jun 2015) |
| zin1 | Linux (Ubuntu 14.04.2 LTS) / x86_64 | OK | OK | OK | |  |
moscato1 | Windows Server 2008 R2 Enterprise SP1 (64-bit) / x64 | [ OK ] | OK | OK | OK |  |
perceval | Mac OS X Snow Leopard (10.6.8) / x86_64 | OK | OK | OK | OK |  |
oaxaca | Mac OS X Mavericks (10.9.5) / x86_64 | OK | OK | OK | OK |  |
##############################################################################
##############################################################################
###
### Running command:
###
### C:\cygwin\bin\curl.exe -O http://zin1/BBS/3.2/bioc/src/contrib/GGtools_5.5.2.tar.gz && D:\biocbld\bbs-3.2-bioc\R\bin\R.exe CMD INSTALL --merge-multiarch GGtools_5.5.2.tar.gz && rm GGtools_5.5.2.tar.gz
###
##############################################################################
##############################################################################
% Total % Received % Xferd Average Speed Time Time Time Current
Dload Upload Total Spent Left Speed
0 0 0 0 0 0 0 0 --:--:-- --:--:-- --:--:-- 0
32 69.2M 32 22.3M 0 0 75.8M 0 --:--:-- --:--:-- --:--:-- 77.6M
100 69.2M 100 69.2M 0 0 85.6M 0 --:--:-- --:--:-- --:--:-- 86.3M
install for i386
* installing to library 'D:/biocbld/bbs-3.2-bioc/R/library'
* installing *source* package 'GGtools' ...
** R
** data
** inst
** preparing package for lazy loading
Warning: replacing previous import by 'stats::IQR' when loading 'GGBase'
No methods found in "IRanges" for requests: aggregate
** help
*** installing help indices
** building package indices
No methods found in "IRanges" for requests: aggregate
** installing vignettes
** testing if installed package can be loaded
Warning: replacing previous import by 'stats::IQR' when loading 'GGBase'
No methods found in "IRanges" for requests: aggregate
install for x64
* installing to library 'D:/biocbld/bbs-3.2-bioc/R/library'
* installing *source* package 'GGtools' ...
** testing if installed package can be loaded
Warning: replacing previous import by 'stats::IQR' when loading 'GGBase'
No methods found in "IRanges" for requests: aggregate
* DONE (GGtools)