Back to the "Multiple platform build/check report" A  B [C] D  E  F  G  H  I  J  K  L  M  N  O  P  Q  R  S  T  U  V  W  X  Y  Z 

BioC 3.2: BUILD BIN report for ChIPpeakAnno on perceval

This page was generated on 2015-08-13 11:05:43 -0700 (Thu, 13 Aug 2015).

Package 161/1064HostnameOS / ArchINSTALLBUILDCHECKBUILD BIN
ChIPpeakAnno 3.3.3
Lihua Julie Zhu , Jianhong Ou
Snapshot Date: 2015-08-12 16:24:12 -0700 (Wed, 12 Aug 2015)
URL: https://hedgehog.fhcrc.org/bioconductor/trunk/madman/Rpacks/ChIPpeakAnno
Last Changed Rev: 107075 / Revision: 107359
Last Changed Date: 2015-08-04 07:31:10 -0700 (Tue, 04 Aug 2015)
zin1 Linux (Ubuntu 14.04.2 LTS) / x86_64  OK  OK  OK UNNEEDED, same version exists in internal repository
perceval Mac OS X Snow Leopard (10.6.8) / x86_64  OK  OK  OK [ OK ]UNNEEDED, same version exists in internal repository
oaxaca Mac OS X Mavericks (10.9.5) / x86_64  OK  OK  OK  OK UNNEEDED, same version exists in internal repository

Summary

Package: ChIPpeakAnno
Version: 3.3.3
Command: rm -rf ChIPpeakAnno.buildbin-libdir && mkdir ChIPpeakAnno.buildbin-libdir && /Users/biocbuild/BBS/utils/build-universal.sh ChIPpeakAnno_3.3.3.tar.gz /Library/Frameworks/R.framework/Versions/Current/Resources/bin/R ChIPpeakAnno.buildbin-libdir
StartedAt: 2015-08-13 08:55:50 -0700 (Thu, 13 Aug 2015)
EndedAt: 2015-08-13 08:57:00 -0700 (Thu, 13 Aug 2015)
EllapsedTime: 69.9 seconds
RetCode: 0
Status:  OK 
PackageFile: ChIPpeakAnno_3.3.3.tgz
PackageFileSize: 11.34 MiB

Command output

##############################################################################
##############################################################################
###
### Running command:
###
###   rm -rf ChIPpeakAnno.buildbin-libdir && mkdir ChIPpeakAnno.buildbin-libdir && /Users/biocbuild/BBS/utils/build-universal.sh ChIPpeakAnno_3.3.3.tar.gz /Library/Frameworks/R.framework/Versions/Current/Resources/bin/R ChIPpeakAnno.buildbin-libdir
###
##############################################################################
##############################################################################


>>>>>>> 
>>>>>>> INSTALLATION WITH 'R CMD INSTALL --preclean --no-multiarch --library=ChIPpeakAnno.buildbin-libdir ChIPpeakAnno_3.3.3.tar.gz'
>>>>>>> 

* installing *source* package ‘ChIPpeakAnno’ ...
** R
** data
** inst
** preparing package for lazy loading
No methods found in "matrixStats" for requests: makeGRangesFromDataFrame
** help
*** installing help indices
** building package indices
** installing vignettes
** testing if installed package can be loaded
No methods found in "matrixStats" for requests: makeGRangesFromDataFrame
* DONE (ChIPpeakAnno)